BEGIN:VCALENDAR
VERSION:2.0
PRODID:-//Georgia Pickleball Tournaments - ECPv6.15.20//NONSGML v1.0//EN
CALSCALE:GREGORIAN
METHOD:PUBLISH
X-ORIGINAL-URL:https://georgiapickleballtournaments.com
X-WR-CALDESC:Events for Georgia Pickleball Tournaments
REFRESH-INTERVAL;VALUE=DURATION:PT1H
X-Robots-Tag:noindex
X-PUBLISHED-TTL:PT1H
BEGIN:VTIMEZONE
TZID:America/New_York
BEGIN:DAYLIGHT
TZOFFSETFROM:-0500
TZOFFSETTO:-0400
TZNAME:EDT
DTSTART:20240310T070000
END:DAYLIGHT
BEGIN:STANDARD
TZOFFSETFROM:-0400
TZOFFSETTO:-0500
TZNAME:EST
DTSTART:20241103T060000
END:STANDARD
BEGIN:DAYLIGHT
TZOFFSETFROM:-0500
TZOFFSETTO:-0400
TZNAME:EDT
DTSTART:20250309T070000
END:DAYLIGHT
BEGIN:STANDARD
TZOFFSETFROM:-0400
TZOFFSETTO:-0500
TZNAME:EST
DTSTART:20251102T060000
END:STANDARD
BEGIN:DAYLIGHT
TZOFFSETFROM:-0500
TZOFFSETTO:-0400
TZNAME:EDT
DTSTART:20260308T070000
END:DAYLIGHT
BEGIN:STANDARD
TZOFFSETFROM:-0400
TZOFFSETTO:-0500
TZNAME:EST
DTSTART:20261101T060000
END:STANDARD
BEGIN:DAYLIGHT
TZOFFSETFROM:-0500
TZOFFSETTO:-0400
TZNAME:EDT
DTSTART:20270314T070000
END:DAYLIGHT
BEGIN:STANDARD
TZOFFSETFROM:-0400
TZOFFSETTO:-0500
TZNAME:EST
DTSTART:20271107T060000
END:STANDARD
END:VTIMEZONE
BEGIN:VTIMEZONE
TZID:UTC
BEGIN:STANDARD
TZOFFSETFROM:+0000
TZOFFSETTO:+0000
TZNAME:UTC
DTSTART:20230101T000000
END:STANDARD
END:VTIMEZONE
BEGIN:VEVENT
DTSTART;VALUE=DATE:20260410
DTEND;VALUE=DATE:20260413
DTSTAMP:20260422T212203
CREATED:20251130T200025Z
LAST-MODIFIED:20251130T200025Z
UID:10000324-1775779200-1776038399@georgiapickleballtournaments.com
SUMMARY:2026 Doc Holliday Shootout
DESCRIPTION:⏺️••”2026 Doc Holliday Shootout”\nPickleball tournament in Griffin\, GA\nThe Complete list of pickleball tournaments in Georgia at www.GeorgiaPickleballTournaments.com
URL:https://georgiapickleballtournaments.com/event/2026-doc-holliday-shootout/
LOCATION:Wyomia Tyus Olympic Park\, 1301 Cowan Rd\, Griffin\, 30223\, United States
CATEGORIES:Georgia
ATTACH;FMTTYPE=image/jpeg:https://georgiapickleballtournaments.com/wp-content/uploads/2025/11/20260410b.jpg
ORGANIZER;CN="Spalding County Pickleball Association":MAILTO:spaldingpickleball@gmail.com
END:VEVENT
BEGIN:VEVENT
DTSTART;VALUE=DATE:20250619
DTEND;VALUE=DATE:20250620
DTSTAMP:20260422T212203
CREATED:20250325T154354Z
LAST-MODIFIED:20250325T154354Z
UID:10000225-1750291200-1750377599@georgiapickleballtournaments.com
SUMMARY:2nd Juneteenth Pickleball Celebration
DESCRIPTION:⏺️••”2nd Juneteenth Pickleball Celebration”\nPickleball tournament in Griffin\, GA\nOrganized by: Pickleball Partners LLC
URL:https://georgiapickleballtournaments.com/event/2nd-juneteenth-pickleball-celebration/
LOCATION:Wyomia Tyus Olympic Park\, 1301 Cowan Rd\, Griffin\, 30223\, United States
CATEGORIES:Georgia
ATTACH;FMTTYPE=image/jpeg:https://georgiapickleballtournaments.com/wp-content/uploads/2025/03/20250619a.jpg
ORGANIZER;CN="Pickleball Partners of Georgia":MAILTO:PickleballPartnersofGeorgia@gmail.com
END:VEVENT
BEGIN:VEVENT
DTSTART;VALUE=DATE:20250404
DTEND;VALUE=DATE:20250407
DTSTAMP:20260422T212203
CREATED:20250115T103245Z
LAST-MODIFIED:20250115T103308Z
UID:10000150-1743724800-1743983999@georgiapickleballtournaments.com
SUMMARY:Doc Holliday Shootout 2025
DESCRIPTION:⏺️••”Doc Holliday Shootout 2025″\nPickleball tournament in Griffin\, GA\nOrganized by: Spalding County Pickleball Association
URL:https://georgiapickleballtournaments.com/event/doc-holliday-shootout-2025/
LOCATION:Wyomia Tyus Olympic Park\, 1301 Cowan Rd\, Griffin\, 30223\, United States
CATEGORIES:Georgia
ATTACH;FMTTYPE=image/jpeg:https://georgiapickleballtournaments.com/wp-content/uploads/2025/01/20250404a.jpg
ORGANIZER;CN="Spalding County Pickleball Association":MAILTO:spaldingpickleball@gmail.com
END:VEVENT
BEGIN:VEVENT
DTSTART;VALUE=DATE:20240921
DTEND;VALUE=DATE:20240923
DTSTAMP:20260422T212203
CREATED:20240515T224613Z
LAST-MODIFIED:20240515T230344Z
UID:10000062-1726876800-1727049599@georgiapickleballtournaments.com
SUMMARY:Midwest Food Bank Peanut Butter
DESCRIPTION:⏺️••”Midwest Food Bank” \nPickleball tournament in Griffin\, GA \nOrganized by: Southern Pickleball
URL:https://georgiapickleballtournaments.com/event/midwest-food-bank-peanut-butter/
LOCATION:Wyomia Tyus Olympic Park\, 1301 Cowan Rd\, Griffin\, 30223\, United States
CATEGORIES:Georgia
ATTACH;FMTTYPE=image/jpeg:https://georgiapickleballtournaments.com/wp-content/uploads/2024/05/20240921a.jpg
END:VEVENT
BEGIN:VEVENT
DTSTART;VALUE=DATE:20240622
DTEND;VALUE=DATE:20240624
DTSTAMP:20260422T212203
CREATED:20240513T134813Z
LAST-MODIFIED:20240513T135354Z
UID:10000045-1719014400-1719187199@georgiapickleballtournaments.com
SUMMARY:Southside Sizzler
DESCRIPTION:⏺️••”Southside Sizzler” \nPickleball tournament in Griffin\, GA \nOrganized by: Spalding County Pickleball Association
URL:https://georgiapickleballtournaments.com/event/southside-sizzler/
LOCATION:Wyomia Tyus Olympic Park\, 1301 Cowan Rd\, Griffin\, 30223\, United States
CATEGORIES:Georgia
ATTACH;FMTTYPE=image/jpeg:https://georgiapickleballtournaments.com/wp-content/uploads/2024/05/20240622b-1.jpg
ORGANIZER;CN="Spalding County Pickleball Association":MAILTO:spaldingpickleball@gmail.com
END:VEVENT
END:VCALENDAR