BEGIN:VCALENDAR
VERSION:2.0
PRODID:-//Georgia Pickleball Tournaments - ECPv6.15.20//NONSGML v1.0//EN
CALSCALE:GREGORIAN
METHOD:PUBLISH
X-ORIGINAL-URL:https://georgiapickleballtournaments.com
X-WR-CALDESC:Events for Georgia Pickleball Tournaments
REFRESH-INTERVAL;VALUE=DURATION:PT1H
X-Robots-Tag:noindex
X-PUBLISHED-TTL:PT1H
BEGIN:VTIMEZONE
TZID:America/New_York
BEGIN:DAYLIGHT
TZOFFSETFROM:-0500
TZOFFSETTO:-0400
TZNAME:EDT
DTSTART:20240310T070000
END:DAYLIGHT
BEGIN:STANDARD
TZOFFSETFROM:-0400
TZOFFSETTO:-0500
TZNAME:EST
DTSTART:20241103T060000
END:STANDARD
BEGIN:DAYLIGHT
TZOFFSETFROM:-0500
TZOFFSETTO:-0400
TZNAME:EDT
DTSTART:20250309T070000
END:DAYLIGHT
BEGIN:STANDARD
TZOFFSETFROM:-0400
TZOFFSETTO:-0500
TZNAME:EST
DTSTART:20251102T060000
END:STANDARD
BEGIN:DAYLIGHT
TZOFFSETFROM:-0500
TZOFFSETTO:-0400
TZNAME:EDT
DTSTART:20260308T070000
END:DAYLIGHT
BEGIN:STANDARD
TZOFFSETFROM:-0400
TZOFFSETTO:-0500
TZNAME:EST
DTSTART:20261101T060000
END:STANDARD
END:VTIMEZONE
BEGIN:VTIMEZONE
TZID:UTC
BEGIN:STANDARD
TZOFFSETFROM:+0000
TZOFFSETTO:+0000
TZNAME:UTC
DTSTART:20230101T000000
END:STANDARD
END:VTIMEZONE
BEGIN:VEVENT
DTSTART;VALUE=DATE:20251003
DTEND;VALUE=DATE:20251006
DTSTAMP:20260422T213704
CREATED:20250706T051125Z
LAST-MODIFIED:20250706T051125Z
UID:10000276-1759449600-1759708799@georgiapickleballtournaments.com
SUMMARY:Georgia Mountain Pickleball Fall Classic 2025
DESCRIPTION:⏺️••”Georgia Mountain Pickleball Fall Classic 2025″\nPickleball tournament in Hiawassee\, GA\nOrganized by: Georgia Mountain Pickleball
URL:https://georgiapickleballtournaments.com/event/georgia-mountain-pickleball-fall-classic-2025/
LOCATION:Towns County Pickleball Complex\, 800 US Highway 76\, Hiawassee\, 30546\, United States
CATEGORIES:Georgia
ATTACH;FMTTYPE=image/jpeg:https://georgiapickleballtournaments.com/wp-content/uploads/2025/07/20251003a.jpg
END:VEVENT
BEGIN:VEVENT
DTSTART;VALUE=DATE:20250425
DTEND;VALUE=DATE:20250428
DTSTAMP:20260422T213704
CREATED:20241221T214621Z
LAST-MODIFIED:20241221T214655Z
UID:10000130-1745539200-1745798399@georgiapickleballtournaments.com
SUMMARY:Georgia Mountain Pickleball Spring Classic 2025
DESCRIPTION:⏺️••”Georgia Mountain Pickleball Spring Classic 2025″\nPickleball tournament in Hiawassee\, GA\nOrganized by: Georgia Mountain Pickleball
URL:https://georgiapickleballtournaments.com/event/georgia-mountain-pickleball-spring-classic-2025/
LOCATION:Towns County Pickleball Complex\, 800 US Highway 76\, Hiawassee\, 30546\, United States
CATEGORIES:Georgia
ATTACH;FMTTYPE=image/jpeg:https://georgiapickleballtournaments.com/wp-content/uploads/2024/12/20250425a.jpg
END:VEVENT
BEGIN:VEVENT
DTSTART;VALUE=DATE:20241004
DTEND;VALUE=DATE:20241007
DTSTAMP:20260422T213704
CREATED:20240516T041141Z
LAST-MODIFIED:20240516T042711Z
UID:10000066-1728000000-1728259199@georgiapickleballtournaments.com
SUMMARY:Georgia Mountain Pickleball Fall Classic 2024
DESCRIPTION:⏺️••”Georgia Mountain Pickleball Fall Classic” \nPickleball tournament in Hiawassee\, GA \nOrganized by: Georgia Mountain Pickleball
URL:https://georgiapickleballtournaments.com/event/georgia-mountain-pickleball-fall-classic-2024/
LOCATION:Towns County Pickleball Complex\, 800 US Highway 76\, Hiawassee\, 30546\, United States
CATEGORIES:Georgia
ATTACH;FMTTYPE=image/jpeg:https://georgiapickleballtournaments.com/wp-content/uploads/2024/05/20241004b.jpg
END:VEVENT
END:VCALENDAR