BEGIN:VCALENDAR
VERSION:2.0
PRODID:-//Georgia Pickleball Tournaments - ECPv6.15.20//NONSGML v1.0//EN
CALSCALE:GREGORIAN
METHOD:PUBLISH
X-WR-CALNAME:Georgia Pickleball Tournaments
X-ORIGINAL-URL:https://georgiapickleballtournaments.com
X-WR-CALDESC:Events for Georgia Pickleball Tournaments
REFRESH-INTERVAL;VALUE=DURATION:PT1H
X-Robots-Tag:noindex
X-PUBLISHED-TTL:PT1H
BEGIN:VTIMEZONE
TZID:UTC
BEGIN:STANDARD
TZOFFSETFROM:+0000
TZOFFSETTO:+0000
TZNAME:UTC
DTSTART:20240101T000000
END:STANDARD
END:VTIMEZONE
BEGIN:VEVENT
DTSTART;VALUE=DATE:20250228
DTEND;VALUE=DATE:20250303
DTSTAMP:20260419T105705
CREATED:20241221T084827Z
LAST-MODIFIED:20241221T084855Z
UID:10000125-1740700800-1740959999@georgiapickleballtournaments.com
SUMMARY:WPT Savannah Smash
DESCRIPTION:⏺️••”WPT Savannah Smash”\nPickleball tournament in Savannah\, GA\nOrganized by: World Pickleball Tour
URL:https://georgiapickleballtournaments.com/event/wpt-savannah-smash/
LOCATION:The Landings Club – Franklin Creek Tennis Center\, 910 North Franklin Creek Road\, Savannah\, 31411\, United States
CATEGORIES:Georgia
ATTACH;FMTTYPE=image/jpeg:https://georgiapickleballtournaments.com/wp-content/uploads/2024/12/20250228a.jpg
END:VEVENT
END:VCALENDAR