BEGIN:VCALENDAR
VERSION:2.0
PRODID:-//Georgia Pickleball Tournaments - ECPv6.15.20//NONSGML v1.0//EN
CALSCALE:GREGORIAN
METHOD:PUBLISH
X-WR-CALNAME:Georgia Pickleball Tournaments
X-ORIGINAL-URL:https://georgiapickleballtournaments.com
X-WR-CALDESC:Events for Georgia Pickleball Tournaments
REFRESH-INTERVAL;VALUE=DURATION:PT1H
X-Robots-Tag:noindex
X-PUBLISHED-TTL:PT1H
BEGIN:VTIMEZONE
TZID:UTC
BEGIN:STANDARD
TZOFFSETFROM:+0000
TZOFFSETTO:+0000
TZNAME:UTC
DTSTART:20230101T000000
END:STANDARD
END:VTIMEZONE
BEGIN:VEVENT
DTSTART;VALUE=DATE:20240607
DTEND;VALUE=DATE:20240608
DTSTAMP:20260419T092616
CREATED:20240516T181155Z
LAST-MODIFIED:20240516T181920Z
UID:10000074-1717718400-1717804799@georgiapickleballtournaments.com
SUMMARY:Creative Enterprises First Annual Fundraising
DESCRIPTION:⏺️••”Creative Enterprises First Annual Fundraising” \nPickleball tournament in Dawsonville\, GA \nOrganized by: Creative Enterprises Dawson County Campus
URL:https://georgiapickleballtournaments.com/event/creative-enterprises-first-annual-fundraising/
LOCATION:Rock Creek Park\, 445 Martin Rd\, Dawsonville\, 30534\, United States
CATEGORIES:Georgia
ATTACH;FMTTYPE=image/jpeg:https://georgiapickleballtournaments.com/wp-content/uploads/2024/05/20240607b.jpg
END:VEVENT
END:VCALENDAR