BEGIN:VCALENDAR
VERSION:2.0
PRODID:-//Georgia Pickleball Tournaments - ECPv6.15.20//NONSGML v1.0//EN
CALSCALE:GREGORIAN
METHOD:PUBLISH
X-ORIGINAL-URL:https://georgiapickleballtournaments.com
X-WR-CALDESC:Events for Georgia Pickleball Tournaments
REFRESH-INTERVAL;VALUE=DURATION:PT1H
X-Robots-Tag:noindex
X-PUBLISHED-TTL:PT1H
BEGIN:VTIMEZONE
TZID:America/New_York
BEGIN:DAYLIGHT
TZOFFSETFROM:-0500
TZOFFSETTO:-0400
TZNAME:EDT
DTSTART:20240310T070000
END:DAYLIGHT
BEGIN:STANDARD
TZOFFSETFROM:-0400
TZOFFSETTO:-0500
TZNAME:EST
DTSTART:20241103T060000
END:STANDARD
BEGIN:DAYLIGHT
TZOFFSETFROM:-0500
TZOFFSETTO:-0400
TZNAME:EDT
DTSTART:20250309T070000
END:DAYLIGHT
BEGIN:STANDARD
TZOFFSETFROM:-0400
TZOFFSETTO:-0500
TZNAME:EST
DTSTART:20251102T060000
END:STANDARD
BEGIN:DAYLIGHT
TZOFFSETFROM:-0500
TZOFFSETTO:-0400
TZNAME:EDT
DTSTART:20260308T070000
END:DAYLIGHT
BEGIN:STANDARD
TZOFFSETFROM:-0400
TZOFFSETTO:-0500
TZNAME:EST
DTSTART:20261101T060000
END:STANDARD
END:VTIMEZONE
BEGIN:VTIMEZONE
TZID:UTC
BEGIN:STANDARD
TZOFFSETFROM:+0000
TZOFFSETTO:+0000
TZNAME:UTC
DTSTART:20230101T000000
END:STANDARD
END:VTIMEZONE
BEGIN:VEVENT
DTSTART;VALUE=DATE:20250726
DTEND;VALUE=DATE:20250728
DTSTAMP:20260422T200856
CREATED:20250628T230840Z
LAST-MODIFIED:20250628T230840Z
UID:10000259-1753488000-1753660799@georgiapickleballtournaments.com
SUMMARY:Summer Smash Showdown
DESCRIPTION:⏺️••”Summer Smash Showdown”\nPickleball tournament in Johns Creek\, GA\nOrganized by: Life Time Johns Creek
URL:https://georgiapickleballtournaments.com/event/summer-smash-showdown/
LOCATION:Life Time Johns Creek\, 11555 Johns Creek Pkwy\, Johns Creek\, 30097\, United States
CATEGORIES:Georgia
ATTACH;FMTTYPE=image/jpeg:https://georgiapickleballtournaments.com/wp-content/uploads/2025/06/20250726b.jpg
END:VEVENT
BEGIN:VEVENT
DTSTART;VALUE=DATE:20250501
DTEND;VALUE=DATE:20250505
DTSTAMP:20260422T200856
CREATED:20250325T121751Z
LAST-MODIFIED:20250325T121751Z
UID:10000218-1746057600-1746403199@georgiapickleballtournaments.com
SUMMARY:Life Time Johns Creek Spring Classic
DESCRIPTION:⏺️••”Life Time Johns Creek Spring Classic”\nPickleball tournament in Johns Creek\, GA\nOrganized by: Life Time Johns Creek
URL:https://georgiapickleballtournaments.com/event/life-time-johns-creek-spring-classic/
LOCATION:Life Time Johns Creek\, 11555 Johns Creek Pkwy\, Johns Creek\, 30097\, United States
CATEGORIES:Georgia
ATTACH;FMTTYPE=image/jpeg:https://georgiapickleballtournaments.com/wp-content/uploads/2025/03/20250501b.jpg
END:VEVENT
BEGIN:VEVENT
DTSTART;VALUE=DATE:20250308
DTEND;VALUE=DATE:20250310
DTSTAMP:20260422T200856
CREATED:20250114T182209Z
LAST-MODIFIED:20250114T182209Z
UID:10000147-1741392000-1741564799@georgiapickleballtournaments.com
SUMMARY:International Women's Day
DESCRIPTION:⏺️••”International Women’s Day”\nPickleball tournament in Johns Creek\, GA\nOrganized by: Life Time Johns Creek
URL:https://georgiapickleballtournaments.com/event/international-womens-day/
LOCATION:Life Time Johns Creek\, 11555 Johns Creek Pkwy\, Johns Creek\, 30097\, United States
CATEGORIES:Georgia
ATTACH;FMTTYPE=image/jpeg:https://georgiapickleballtournaments.com/wp-content/uploads/2025/01/20250308b.jpg
END:VEVENT
BEGIN:VEVENT
DTSTART;VALUE=DATE:20240608
DTEND;VALUE=DATE:20240616
DTSTAMP:20260422T200856
CREATED:20240512T181920Z
LAST-MODIFIED:20240512T181920Z
UID:10000039-1717804800-1718495999@georgiapickleballtournaments.com
SUMMARY:Life Time Johns Creek Advanced
DESCRIPTION:⏺️••”Life Time Johns Creek Advanced” \nPickleball tournament in Johns Creek\, GA \nOrganized by: Life Time Johns Creek
URL:https://georgiapickleballtournaments.com/event/life-time-johns-creek-advanced/
LOCATION:Life Time Johns Creek\, 11555 Johns Creek Pkwy\, Johns Creek\, 30097\, United States
CATEGORIES:Georgia
ATTACH;FMTTYPE=image/jpeg:https://georgiapickleballtournaments.com/wp-content/uploads/2024/05/20240608d.jpg
END:VEVENT
END:VCALENDAR