BEGIN:VCALENDAR
VERSION:2.0
PRODID:-//Georgia Pickleball Tournaments - ECPv6.15.20//NONSGML v1.0//EN
CALSCALE:GREGORIAN
METHOD:PUBLISH
X-ORIGINAL-URL:https://georgiapickleballtournaments.com
X-WR-CALDESC:Events for Georgia Pickleball Tournaments
REFRESH-INTERVAL;VALUE=DURATION:PT1H
X-Robots-Tag:noindex
X-PUBLISHED-TTL:PT1H
BEGIN:VTIMEZONE
TZID:America/New_York
BEGIN:DAYLIGHT
TZOFFSETFROM:-0500
TZOFFSETTO:-0400
TZNAME:EDT
DTSTART:20240310T070000
END:DAYLIGHT
BEGIN:STANDARD
TZOFFSETFROM:-0400
TZOFFSETTO:-0500
TZNAME:EST
DTSTART:20241103T060000
END:STANDARD
BEGIN:DAYLIGHT
TZOFFSETFROM:-0500
TZOFFSETTO:-0400
TZNAME:EDT
DTSTART:20250309T070000
END:DAYLIGHT
BEGIN:STANDARD
TZOFFSETFROM:-0400
TZOFFSETTO:-0500
TZNAME:EST
DTSTART:20251102T060000
END:STANDARD
BEGIN:DAYLIGHT
TZOFFSETFROM:-0500
TZOFFSETTO:-0400
TZNAME:EDT
DTSTART:20260308T070000
END:DAYLIGHT
BEGIN:STANDARD
TZOFFSETFROM:-0400
TZOFFSETTO:-0500
TZNAME:EST
DTSTART:20261101T060000
END:STANDARD
BEGIN:DAYLIGHT
TZOFFSETFROM:-0500
TZOFFSETTO:-0400
TZNAME:EDT
DTSTART:20270314T070000
END:DAYLIGHT
BEGIN:STANDARD
TZOFFSETFROM:-0400
TZOFFSETTO:-0500
TZNAME:EST
DTSTART:20271107T060000
END:STANDARD
END:VTIMEZONE
BEGIN:VTIMEZONE
TZID:UTC
BEGIN:STANDARD
TZOFFSETFROM:+0000
TZOFFSETTO:+0000
TZNAME:UTC
DTSTART:20230101T000000
END:STANDARD
END:VTIMEZONE
BEGIN:VEVENT
DTSTART;VALUE=DATE:20260307
DTEND;VALUE=DATE:20260309
DTSTAMP:20260419T122720
CREATED:20260129T011254Z
LAST-MODIFIED:20260129T011330Z
UID:10000358-1772841600-1773014399@georgiapickleballtournaments.com
SUMMARY:BOTP6
DESCRIPTION:⏺️••”BOTP6″\nPickleball tournament in Villa Rica\, GA\nMarch 7-8\, 2026 \nhttps://georgiapickleballtournaments.com/event/botp6/
URL:https://georgiapickleballtournaments.com/event/botp6/
LOCATION:Gold Dust Park Gym\, 646 Industrial Blvd\, Villa Rica\, 30180\, United States
CATEGORIES:Georgia
ATTACH;FMTTYPE=image/jpeg:https://georgiapickleballtournaments.com/wp-content/uploads/2026/01/20260307d.jpg
ORGANIZER;CN="Pickleball Compete - VR Complete Pickleball":MAILTO:support@pickleballcompete.com
END:VEVENT
BEGIN:VEVENT
DTSTART;VALUE=DATE:20250906
DTEND;VALUE=DATE:20250907
DTSTAMP:20260419T122720
CREATED:20250224T091648Z
LAST-MODIFIED:20250629T120045Z
UID:10000202-1757116800-1757203199@georgiapickleballtournaments.com
SUMMARY:PiCoSo2
DESCRIPTION:⏺️••”PiCoSo2″\nPickleball tournament in Villa Rica\, GA\nOrganized by: VR Pickleball Compete
URL:https://georgiapickleballtournaments.com/event/picoso2/
LOCATION:Gold Dust Park Gym\, 646 Industrial Blvd\, Villa Rica\, 30180\, United States
CATEGORIES:Georgia
ATTACH;FMTTYPE=image/jpeg:https://georgiapickleballtournaments.com/wp-content/uploads/2025/02/20250906c.jpg
ORGANIZER;CN="Pickleball Compete - VR Complete Pickleball":MAILTO:support@pickleballcompete.com
END:VEVENT
BEGIN:VEVENT
DTSTART;VALUE=DATE:20250301
DTEND;VALUE=DATE:20250303
DTSTAMP:20260419T122720
CREATED:20240608T155815Z
LAST-MODIFIED:20241221T144945Z
UID:10000087-1740787200-1740959999@georgiapickleballtournaments.com
SUMMARY:Battle of The Paddles (BOTP) 5
DESCRIPTION:⏺️••”Battle of the Paddles (BOTP) 5″\nPickleball tournament in Villa Rica\, GA\nOrganized by: Villa Rica Pickleball \nWhat is the Battle Of The Paddles (BOTP)? \nThe Pickleball tournaments of the year. Three time BOTP cumulative gold medal winners (as a team in team events) and singles in singles events get prize money. After the 3rd time gold medal win in a particular event\, they would have to move up to a higher skill level to win another 3 cumulative win prize. At 4.0+ events\, they can win as many cumulative wins as possible\, but must be only at that level\, not a lower merged event (if that applies). \nThe BlackHATs (specific singles event gold medalists) take home the BlackHAT and have their names stamped on the records of battles won on the court.
URL:https://georgiapickleballtournaments.com/event/battle-of-the-paddles-botp-5/
LOCATION:Gold Dust Park Gym\, 646 Industrial Blvd\, Villa Rica\, 30180\, United States
CATEGORIES:Georgia
ATTACH;FMTTYPE=image/jpeg:https://georgiapickleballtournaments.com/wp-content/uploads/2024/06/20250301a-1.jpg
ORGANIZER;CN="Pickleball Compete - VR Complete Pickleball":MAILTO:support@pickleballcompete.com
END:VEVENT
BEGIN:VEVENT
DTSTART;VALUE=DATE:20240831
DTEND;VALUE=DATE:20240901
DTSTAMP:20260419T122720
CREATED:20240618T210418Z
LAST-MODIFIED:20240618T211853Z
UID:10000097-1725062400-1725148799@georgiapickleballtournaments.com
SUMMARY:Pickleball Compete Seniors Only
DESCRIPTION:⏺️••”Pickleball Compete Seniors Only”\nPickleball tournament in Villa Rica\, GA\nOrganized by: Villa Rica Pickleball
URL:https://georgiapickleballtournaments.com/event/pickleball-compete-seniors-only/
LOCATION:Gold Dust Park Gym\, 646 Industrial Blvd\, Villa Rica\, 30180\, United States
CATEGORIES:Georgia
ATTACH;FMTTYPE=image/jpeg:https://georgiapickleballtournaments.com/wp-content/uploads/2024/06/20240831a.jpg
ORGANIZER;CN="Pickleball Compete - VR Complete Pickleball":MAILTO:support@pickleballcompete.com
END:VEVENT
BEGIN:VEVENT
DTSTART;VALUE=DATE:20240601
DTEND;VALUE=DATE:20240603
DTSTAMP:20260419T122720
CREATED:20240512T105008Z
LAST-MODIFIED:20240512T110107Z
UID:10000032-1717200000-1717372799@georgiapickleballtournaments.com
SUMMARY:BOTP4
DESCRIPTION:⏺️••”BOTP4″ \nPickleball tournament in Villa Rica\, GA \nOrganized by: Pickleball Compete – VR Complete Pickleball
URL:https://georgiapickleballtournaments.com/event/botp4/
LOCATION:Gold Dust Park Gym\, 646 Industrial Blvd\, Villa Rica\, 30180\, United States
CATEGORIES:Georgia
ATTACH;FMTTYPE=image/jpeg:https://georgiapickleballtournaments.com/wp-content/uploads/2024/05/20240601a.jpg
ORGANIZER;CN="Pickleball Compete - VR Complete Pickleball":MAILTO:support@pickleballcompete.com
END:VEVENT
END:VCALENDAR