BEGIN:VCALENDAR
VERSION:2.0
PRODID:-//Georgia Pickleball Tournaments - ECPv6.15.20//NONSGML v1.0//EN
CALSCALE:GREGORIAN
METHOD:PUBLISH
X-WR-CALNAME:Georgia Pickleball Tournaments
X-ORIGINAL-URL:https://georgiapickleballtournaments.com
X-WR-CALDESC:Events for Georgia Pickleball Tournaments
REFRESH-INTERVAL;VALUE=DURATION:PT1H
X-Robots-Tag:noindex
X-PUBLISHED-TTL:PT1H
BEGIN:VTIMEZONE
TZID:UTC
BEGIN:STANDARD
TZOFFSETFROM:+0000
TZOFFSETTO:+0000
TZNAME:UTC
DTSTART:20230101T000000
END:STANDARD
END:VTIMEZONE
BEGIN:VEVENT
DTSTART;VALUE=DATE:20241101
DTEND;VALUE=DATE:20241104
DTSTAMP:20260423T003910
CREATED:20240516T165604Z
LAST-MODIFIED:20240516T165945Z
UID:10000071-1730419200-1730678399@georgiapickleballtournaments.com
SUMMARY:2024 Special Pops Charity OPEN
DESCRIPTION:⏺️••”2024 Special Pops Charity Open” \nPickleball tournament in Savannah\, GA \nOrganized by: Special Pops Tennis of Savannah
URL:https://georgiapickleballtournaments.com/event/2024-special-pops-charity-open/
LOCATION:Franklin Creek Sports Complex\, 910 Franklin Creek Rd\, Savannah\, 31411\, United States
CATEGORIES:Georgia
ATTACH;FMTTYPE=image/jpeg:https://georgiapickleballtournaments.com/wp-content/uploads/2024/05/20241101a.jpg
END:VEVENT
END:VCALENDAR