BEGIN:VCALENDAR
VERSION:2.0
PRODID:-//Georgia Pickleball Tournaments - ECPv6.15.20//NONSGML v1.0//EN
CALSCALE:GREGORIAN
METHOD:PUBLISH
X-WR-CALNAME:Georgia Pickleball Tournaments
X-ORIGINAL-URL:https://georgiapickleballtournaments.com
X-WR-CALDESC:Events for Georgia Pickleball Tournaments
REFRESH-INTERVAL;VALUE=DURATION:PT1H
X-Robots-Tag:noindex
X-PUBLISHED-TTL:PT1H
BEGIN:VTIMEZONE
TZID:UTC
BEGIN:STANDARD
TZOFFSETFROM:+0000
TZOFFSETTO:+0000
TZNAME:UTC
DTSTART:20240101T000000
END:STANDARD
END:VTIMEZONE
BEGIN:VEVENT
DTSTART;VALUE=DATE:20250222
DTEND;VALUE=DATE:20250224
DTSTAMP:20260423T142918
CREATED:20241221T080350Z
LAST-MODIFIED:20241221T081554Z
UID:10000123-1740182400-1740355199@georgiapickleballtournaments.com
SUMMARY:White Columns Spring Classic
DESCRIPTION:⏺️••”White Columns Spring Classic”\nPickleball tournament in Milton\, GA\nOrganized by: White Columns Country Club
URL:https://georgiapickleballtournaments.com/event/white-columns-spring-classic/
LOCATION:White Columns Country Club\, 300 Clubhouse Dr\, Milton\, 30004\, United States
CATEGORIES:Georgia
ATTACH;FMTTYPE=image/jpeg:https://georgiapickleballtournaments.com/wp-content/uploads/2024/12/20250222a.jpg
END:VEVENT
END:VCALENDAR