BEGIN:VCALENDAR
VERSION:2.0
PRODID:-//Georgia Pickleball Tournaments - ECPv6.15.20//NONSGML v1.0//EN
CALSCALE:GREGORIAN
METHOD:PUBLISH
X-ORIGINAL-URL:https://georgiapickleballtournaments.com
X-WR-CALDESC:Events for Georgia Pickleball Tournaments
REFRESH-INTERVAL;VALUE=DURATION:PT1H
X-Robots-Tag:noindex
X-PUBLISHED-TTL:PT1H
BEGIN:VTIMEZONE
TZID:UTC
BEGIN:STANDARD
TZOFFSETFROM:+0000
TZOFFSETTO:+0000
TZNAME:UTC
DTSTART:20240101T000000
END:STANDARD
END:VTIMEZONE
BEGIN:VEVENT
DTSTART;VALUE=DATE:20250201
DTEND;VALUE=DATE:20250203
DTSTAMP:20260422T195330
CREATED:20250114T075001Z
LAST-MODIFIED:20250114T212021Z
UID:10000144-1738368000-1738540799@georgiapickleballtournaments.com
SUMMARY:Rhea Smash Cancer Tournament
DESCRIPTION:⏺️••”Rhea Smash Cancer Tournament”\nPickleball tournament in Thomasville\, GA\nOrganized by: Heritage Creek Sporting Goods & Apparel
URL:https://georgiapickleballtournaments.com/event/rhea-smash-cancer-tournament/
LOCATION:Thomasville Middle School\, 4681 US HWY 84 Bypass\, Thomasville\, 31792\, United States
CATEGORIES:Georgia
ATTACH;FMTTYPE=image/jpeg:https://georgiapickleballtournaments.com/wp-content/uploads/2025/01/20250201b-1.jpg
END:VEVENT
END:VCALENDAR