BEGIN:VCALENDAR
VERSION:2.0
PRODID:-//Georgia Pickleball Tournaments - ECPv6.15.20//NONSGML v1.0//EN
CALSCALE:GREGORIAN
METHOD:PUBLISH
X-ORIGINAL-URL:https://georgiapickleballtournaments.com
X-WR-CALDESC:Events for Georgia Pickleball Tournaments
REFRESH-INTERVAL;VALUE=DURATION:PT1H
X-Robots-Tag:noindex
X-PUBLISHED-TTL:PT1H
BEGIN:VTIMEZONE
TZID:UTC
BEGIN:STANDARD
TZOFFSETFROM:+0000
TZOFFSETTO:+0000
TZNAME:UTC
DTSTART:20240101T000000
END:STANDARD
END:VTIMEZONE
BEGIN:VEVENT
DTSTART;VALUE=DATE:20250201
DTEND;VALUE=DATE:20250202
DTSTAMP:20260422T211649
CREATED:20250116T110104Z
LAST-MODIFIED:20250116T110104Z
UID:10000160-1738368000-1738454399@georgiapickleballtournaments.com
SUMMARY:Guatemala Mission Trip Fundraiser
DESCRIPTION:⏺️••”Guatemala Mission Trip Fundraiser”\nPickleball tournament in Gainesville\, GA\nOrganized by: Emalee – email: emaleeforeman@gmail.com
URL:https://georgiapickleballtournaments.com/event/guatemala-mission-trip-fundraiser/
LOCATION:Sardis Sports Complex\, 2811 Sardis Rd\, Gainesville\, 30506\, United States
CATEGORIES:Georgia
ATTACH;FMTTYPE=image/jpeg:https://georgiapickleballtournaments.com/wp-content/uploads/2025/01/20250201d.jpg
END:VEVENT
END:VCALENDAR