BEGIN:VCALENDAR
VERSION:2.0
PRODID:-//Georgia Pickleball Tournaments - ECPv6.15.20//NONSGML v1.0//EN
CALSCALE:GREGORIAN
METHOD:PUBLISH
X-ORIGINAL-URL:https://georgiapickleballtournaments.com
X-WR-CALDESC:Events for Georgia Pickleball Tournaments
REFRESH-INTERVAL;VALUE=DURATION:PT1H
X-Robots-Tag:noindex
X-PUBLISHED-TTL:PT1H
BEGIN:VTIMEZONE
TZID:America/New_York
BEGIN:DAYLIGHT
TZOFFSETFROM:-0500
TZOFFSETTO:-0400
TZNAME:EDT
DTSTART:20240310T070000
END:DAYLIGHT
BEGIN:STANDARD
TZOFFSETFROM:-0400
TZOFFSETTO:-0500
TZNAME:EST
DTSTART:20241103T060000
END:STANDARD
BEGIN:DAYLIGHT
TZOFFSETFROM:-0500
TZOFFSETTO:-0400
TZNAME:EDT
DTSTART:20250309T070000
END:DAYLIGHT
BEGIN:STANDARD
TZOFFSETFROM:-0400
TZOFFSETTO:-0500
TZNAME:EST
DTSTART:20251102T060000
END:STANDARD
BEGIN:DAYLIGHT
TZOFFSETFROM:-0500
TZOFFSETTO:-0400
TZNAME:EDT
DTSTART:20260308T070000
END:DAYLIGHT
BEGIN:STANDARD
TZOFFSETFROM:-0400
TZOFFSETTO:-0500
TZNAME:EST
DTSTART:20261101T060000
END:STANDARD
BEGIN:DAYLIGHT
TZOFFSETFROM:-0500
TZOFFSETTO:-0400
TZNAME:EDT
DTSTART:20270314T070000
END:DAYLIGHT
BEGIN:STANDARD
TZOFFSETFROM:-0400
TZOFFSETTO:-0500
TZNAME:EST
DTSTART:20271107T060000
END:STANDARD
END:VTIMEZONE
BEGIN:VTIMEZONE
TZID:UTC
BEGIN:STANDARD
TZOFFSETFROM:+0000
TZOFFSETTO:+0000
TZNAME:UTC
DTSTART:20230101T000000
END:STANDARD
END:VTIMEZONE
BEGIN:VEVENT
DTSTART;VALUE=DATE:20260228
DTEND;VALUE=DATE:20260301
DTSTAMP:20260423T143740
CREATED:20251128T115802Z
LAST-MODIFIED:20260128T150725Z
UID:10000309-1772236800-1772323199@georgiapickleballtournaments.com
SUMMARY:2nd Annual Brooks' Battle of the Paddles: Supporting ARSACS Research
DESCRIPTION:⏺️••”2nd Annual Brooks’ Battle of the Paddles: Supporting ARSACS Research”\nPickleball tournament in Acworth\, GA\n\nhttps://georgiapickleballtournaments.com/event/2nd-annual-brooks-battle-of-the-paddles-supporting-arsacs-research/
URL:https://georgiapickleballtournaments.com/event/2nd-annual-brooks-battle-of-the-paddles-supporting-arsacs-research/
LOCATION:Acworth Community Center\, 4361 Cherokee St\, Acworth\, 30101\, United States
CATEGORIES:Georgia
ATTACH;FMTTYPE=image/jpeg:https://georgiapickleballtournaments.com/wp-content/uploads/2025/11/20260228a.jpg
ORGANIZER;CN="DAB Pickleball":MAILTO:pickleball@dinkinandbangin.com
END:VEVENT
BEGIN:VEVENT
DTSTART;VALUE=DATE:20250628
DTEND;VALUE=DATE:20250629
DTSTAMP:20260423T143740
CREATED:20250120T032253Z
LAST-MODIFIED:20250618T142527Z
UID:10000166-1751068800-1751155199@georgiapickleballtournaments.com
SUMMARY:3rd Annual Juneteenth Tournament
DESCRIPTION:⏺️••”3rd Annual Juneteenth Tournament”\nPickleball tournament in Acworth\, GA\nOrganized by: DAB Pickleball
URL:https://georgiapickleballtournaments.com/event/3rd-annual-juneteenth-tournament/
LOCATION:Acworth Community Center\, 4361 Cherokee St\, Acworth\, 30101\, United States
CATEGORIES:Georgia
ATTACH;FMTTYPE=image/jpeg:https://georgiapickleballtournaments.com/wp-content/uploads/2025/01/20250628a1.jpg
ORGANIZER;CN="DAB Pickleball":MAILTO:pickleball@dinkinandbangin.com
END:VEVENT
BEGIN:VEVENT
DTSTART;VALUE=DATE:20250314
DTEND;VALUE=DATE:20250317
DTSTAMP:20260423T143740
CREATED:20241221T151336Z
LAST-MODIFIED:20241221T151336Z
UID:10000127-1741910400-1742169599@georgiapickleballtournaments.com
SUMMARY:Luck of the Pickle
DESCRIPTION:⏺️••”Luck of the Pickle”\nPickleball tournament in Canton\, GA\nOrganized by: DAB Pickleball
URL:https://georgiapickleballtournaments.com/event/luck-of-the-pickle/
LOCATION:BridgeMill Athletic Club\, 1180 Bridgemill Ave\, Canton\, GA\, United States
CATEGORIES:Georgia
ATTACH;FMTTYPE=image/jpeg:https://georgiapickleballtournaments.com/wp-content/uploads/2024/12/20250314a.jpg
ORGANIZER;CN="DAB Pickleball":MAILTO:pickleball@dinkinandbangin.com
END:VEVENT
BEGIN:VEVENT
DTSTART;VALUE=DATE:20250301
DTEND;VALUE=DATE:20250302
DTSTAMP:20260423T143740
CREATED:20241221T143330Z
LAST-MODIFIED:20241221T143330Z
UID:10000126-1740787200-1740873599@georgiapickleballtournaments.com
SUMMARY:Brook's Battle of the Paddles
DESCRIPTION:⏺️••”Brook’s Battle of the Paddles”\nPickleball tournament in Acworth\, GA\nOrganized by: DAB Pickleball
URL:https://georgiapickleballtournaments.com/event/brooks-battle-of-the-paddles/
LOCATION:Acworth Community Center\, 4361 Cherokee St\, Acworth\, 30101\, United States
CATEGORIES:Georgia
ATTACH;FMTTYPE=image/jpeg:https://georgiapickleballtournaments.com/wp-content/uploads/2024/12/20250301b.jpg
ORGANIZER;CN="DAB Pickleball":MAILTO:pickleball@dinkinandbangin.com
END:VEVENT
BEGIN:VEVENT
DTSTART;VALUE=DATE:20241108
DTEND;VALUE=DATE:20241111
DTSTAMP:20260423T143740
CREATED:20240611T073304Z
LAST-MODIFIED:20240611T074959Z
UID:10000090-1731024000-1731283199@georgiapickleballtournaments.com
SUMMARY:3rd Annual Toys for Tots
DESCRIPTION:⏺️••”3rd Annual Toys for Tots”\nPickleball tournament in Canton\, GA\nOrganized by: DAB Pickleball
URL:https://georgiapickleballtournaments.com/event/3rd-annual-toys-for-tots/
LOCATION:BridgeMill Athletic Club\, 1180 Bridgemill Ave\, Canton\, GA\, United States
CATEGORIES:Georgia
ATTACH;FMTTYPE=image/jpeg:https://georgiapickleballtournaments.com/wp-content/uploads/2024/06/20241108a.jpg
ORGANIZER;CN="DAB Pickleball":MAILTO:pickleball@dinkinandbangin.com
END:VEVENT
BEGIN:VEVENT
DTSTART;VALUE=DATE:20241018
DTEND;VALUE=DATE:20241021
DTSTAMP:20260423T143740
CREATED:20240516T075359Z
LAST-MODIFIED:20240516T080221Z
UID:10000067-1729209600-1729468799@georgiapickleballtournaments.com
SUMMARY:Sunshine Slam
DESCRIPTION:⏺️••”Sunshine Slam” \nPickleball tournament in Canton\, GA \nOrganized by: DAB Pickleball
URL:https://georgiapickleballtournaments.com/event/sunshine-slam/
LOCATION:BridgeMill Athletic Club\, 1180 Bridgemill Ave\, Canton\, GA\, United States
CATEGORIES:Georgia
ATTACH;FMTTYPE=image/jpeg:https://georgiapickleballtournaments.com/wp-content/uploads/2024/05/20241018a.jpg
ORGANIZER;CN="DAB Pickleball":MAILTO:pickleball@dinkinandbangin.com
END:VEVENT
BEGIN:VEVENT
DTSTART;VALUE=DATE:20240803
DTEND;VALUE=DATE:20240804
DTSTAMP:20260423T143740
CREATED:20240618T144741Z
LAST-MODIFIED:20240618T152445Z
UID:10000094-1722643200-1722729599@georgiapickleballtournaments.com
SUMMARY:Clayton County Back to School Tournament
DESCRIPTION:⏺️••”Clayton County Back to School Tournament”\nPickleball tournament in Jonesboro\, GA\nOrganized by: DAB Pickleball \nThe first pickleball tournament on the new Clayton County courts will be epic\, serving the kids of our community at the same time! On August 3\, 2024\, Atlanta Tennis\, Clayton County Tennis Center\, and DAB Pickleball will host a one-day pickleball tournament to provide back-to-school supplies to the surrounding community.
URL:https://georgiapickleballtournaments.com/event/clayton-county-back-to-school-tournament/
LOCATION:Clayton County Tennis Center\, 2300 Hwy 138 SE\, Jonesboro\, 30236\, United States
CATEGORIES:Georgia
ATTACH;FMTTYPE=image/jpeg:https://georgiapickleballtournaments.com/wp-content/uploads/2024/06/20240803a.jpg
ORGANIZER;CN="DAB Pickleball":MAILTO:pickleball@dinkinandbangin.com
END:VEVENT
BEGIN:VEVENT
DTSTART;VALUE=DATE:20240720
DTEND;VALUE=DATE:20240722
DTSTAMP:20260423T143740
CREATED:20240512T023229Z
LAST-MODIFIED:20240512T023229Z
UID:10000026-1721433600-1721606399@georgiapickleballtournaments.com
SUMMARY:Golden Pickle Legacy Invitational
DESCRIPTION:⏺️••”Golden Pickle Legacy Invitational” \nPickleball tournament in Canton\, GA \nOrganized by: DAB Pickleball
URL:https://georgiapickleballtournaments.com/event/golden-pickle-legacy-invitational/
LOCATION:BridgeMill Athletic Club\, 1180 Bridgemill Ave\, Canton\, GA\, United States
CATEGORIES:Georgia
ATTACH;FMTTYPE=image/jpeg:https://georgiapickleballtournaments.com/wp-content/uploads/2024/05/20240720a.jpg
ORGANIZER;CN="DAB Pickleball":MAILTO:pickleball@dinkinandbangin.com
END:VEVENT
BEGIN:VEVENT
DTSTART;VALUE=DATE:20240615
DTEND;VALUE=DATE:20240616
DTSTAMP:20260423T143740
CREATED:20240513T021241Z
LAST-MODIFIED:20240513T023059Z
UID:10000042-1718409600-1718495999@georgiapickleballtournaments.com
SUMMARY:2nd Annual Juneteenth
DESCRIPTION:⏺️••”2nd Annual Juneteenth” \nPickleball tournament in Acworth\, GA \nOrganized by: DAB Pickleball
URL:https://georgiapickleballtournaments.com/event/2nd-annual-juneteenth/
LOCATION:Acworth Community Center\, 4361 Cherokee St\, Acworth\, 30101\, United States
CATEGORIES:Georgia
ATTACH;FMTTYPE=image/jpeg:https://georgiapickleballtournaments.com/wp-content/uploads/2024/05/20240615a.jpg
ORGANIZER;CN="DAB Pickleball":MAILTO:pickleball@dinkinandbangin.com
END:VEVENT
END:VCALENDAR