BEGIN:VCALENDAR
VERSION:2.0
PRODID:-//Georgia Pickleball Tournaments - ECPv6.15.20//NONSGML v1.0//EN
CALSCALE:GREGORIAN
METHOD:PUBLISH
X-WR-CALNAME:Georgia Pickleball Tournaments
X-ORIGINAL-URL:https://georgiapickleballtournaments.com
X-WR-CALDESC:Events for Georgia Pickleball Tournaments
REFRESH-INTERVAL;VALUE=DURATION:PT1H
X-Robots-Tag:noindex
X-PUBLISHED-TTL:PT1H
BEGIN:VTIMEZONE
TZID:UTC
BEGIN:STANDARD
TZOFFSETFROM:+0000
TZOFFSETTO:+0000
TZNAME:UTC
DTSTART:20240101T000000
END:STANDARD
END:VTIMEZONE
BEGIN:VEVENT
DTSTART;VALUE=DATE:20250201
DTEND;VALUE=DATE:20250202
DTSTAMP:20260419T140447
CREATED:20250116T095601Z
LAST-MODIFIED:20250116T095601Z
UID:10000158-1738368000-1738454399@georgiapickleballtournaments.com
SUMMARY:3rd Annual Future Grizzly
DESCRIPTION:⏺️••”3rd Annual Future Grizzly”\nPickleball tournament in Canton\, GA\nOrganized by: Creekview Tennis Team
URL:https://georgiapickleballtournaments.com/event/3rd-annual-future-grizzly/
LOCATION:Woodmont Tennis Center\, 3106 Gaddis Rd\, Canton\, 30115\, United States
CATEGORIES:College,Georgia
ATTACH;FMTTYPE=image/jpeg:https://georgiapickleballtournaments.com/wp-content/uploads/2025/01/20250201c.jpg
END:VEVENT
END:VCALENDAR