BEGIN:VCALENDAR
VERSION:2.0
PRODID:-//Georgia Pickleball Tournaments - ECPv6.15.20//NONSGML v1.0//EN
CALSCALE:GREGORIAN
METHOD:PUBLISH
X-WR-CALNAME:Georgia Pickleball Tournaments
X-ORIGINAL-URL:https://georgiapickleballtournaments.com
X-WR-CALDESC:Events for Georgia Pickleball Tournaments
REFRESH-INTERVAL;VALUE=DURATION:PT1H
X-Robots-Tag:noindex
X-PUBLISHED-TTL:PT1H
BEGIN:VTIMEZONE
TZID:America/New_York
BEGIN:DAYLIGHT
TZOFFSETFROM:-0500
TZOFFSETTO:-0400
TZNAME:EDT
DTSTART:20250309T070000
END:DAYLIGHT
BEGIN:STANDARD
TZOFFSETFROM:-0400
TZOFFSETTO:-0500
TZNAME:EST
DTSTART:20251102T060000
END:STANDARD
BEGIN:DAYLIGHT
TZOFFSETFROM:-0500
TZOFFSETTO:-0400
TZNAME:EDT
DTSTART:20260308T070000
END:DAYLIGHT
BEGIN:STANDARD
TZOFFSETFROM:-0400
TZOFFSETTO:-0500
TZNAME:EST
DTSTART:20261101T060000
END:STANDARD
BEGIN:DAYLIGHT
TZOFFSETFROM:-0500
TZOFFSETTO:-0400
TZNAME:EDT
DTSTART:20270314T070000
END:DAYLIGHT
BEGIN:STANDARD
TZOFFSETFROM:-0400
TZOFFSETTO:-0500
TZNAME:EST
DTSTART:20271107T060000
END:STANDARD
END:VTIMEZONE
BEGIN:VEVENT
DTSTART;VALUE=DATE:20260508
DTEND;VALUE=DATE:20260510
DTSTAMP:20260423T075141
CREATED:20260201T124706Z
LAST-MODIFIED:20260201T124756Z
UID:10000374-1778198400-1778371199@georgiapickleballtournaments.com
SUMMARY:Mountain Mayhem II
DESCRIPTION:⏺️••”Mountain Mayhem II”\nPickleball tournament in Ellijay\, GA\nMay 8-9\, 2026 \nhttps://georgiapickleballtournaments.com/event/mountain-mayhem-ii/ \nShare this:\n				Share on Facebook (Opens in new window)\n				Facebook\n			\n				Share on X (Opens in new window)\n				X\n			\n				Share on WhatsApp (Opens in new window)\n				WhatsApp\n			\n				Share on Pinterest (Opens in new window)\n				Pinterest\n			\n				Share on LinkedIn (Opens in new window)\n				LinkedIn
URL:https://georgiapickleballtournaments.com/event/mountain-mayhem-ii/
LOCATION:River Park\, 1561 South Main St\, Ellijay\, 30540\, United States
CATEGORIES:Georgia
ATTACH;FMTTYPE=image/jpeg:https://georgiapickleballtournaments.com/wp-content/uploads/2026/02/20260508a.jpg
END:VEVENT
BEGIN:VEVENT
DTSTART;VALUE=DATE:20260508
DTEND;VALUE=DATE:20260511
DTSTAMP:20260423T075141
CREATED:20260331T095934Z
LAST-MODIFIED:20260331T100014Z
UID:10000400-1778198400-1778457599@georgiapickleballtournaments.com
SUMMARY:Let's Go Pickleball Spring Classic
DESCRIPTION:⏺️••”Let’s Go Pickleball Spring Classic”\nPickleball tournament in Peachtree City\, Georgia\nMay 8-10\, 2026\n\nhttps://georgiapickleballtournaments.com/event/lets-go-pickleball-spring-classic/\nShare this:\n				Share on Facebook (Opens in new window)\n				Facebook\n			\n				Share on X (Opens in new window)\n				X\n			\n				Share on WhatsApp (Opens in new window)\n				WhatsApp\n			\n				Share on Pinterest (Opens in new window)\n				Pinterest\n			\n				Share on LinkedIn (Opens in new window)\n				LinkedIn
URL:https://georgiapickleballtournaments.com/event/lets-go-pickleball-spring-classic/
LOCATION:Let’s Go Pickleball and Padel – Peachtree City\, 1001 Moba Dr\, Suite A\, Peachtree City\, GA\, 30269\, United States
CATEGORIES:Georgia
ATTACH;FMTTYPE=image/jpeg:https://georgiapickleballtournaments.com/wp-content/uploads/2026/03/20260508b.jpg
END:VEVENT
BEGIN:VEVENT
DTSTART;VALUE=DATE:20260509
DTEND;VALUE=DATE:20260510
DTSTAMP:20260423T075141
CREATED:20260331T102734Z
LAST-MODIFIED:20260331T102901Z
UID:10000402-1778284800-1778371199@georgiapickleballtournaments.com
SUMMARY:Chateau Elan May Pickleball Tournament
DESCRIPTION:⏺️••”Chateau Elan May Pickleball Tournament”\nPickleball tournament in Braselton\, Georgia\nMay 9\, 2026 \nhttps://georgiapickleballtournaments.com/event/chateau-elan-may-pickleball-tournament/ \n  \nShare this:\n				Share on Facebook (Opens in new window)\n				Facebook\n			\n				Share on X (Opens in new window)\n				X\n			\n				Share on WhatsApp (Opens in new window)\n				WhatsApp\n			\n				Share on Pinterest (Opens in new window)\n				Pinterest\n			\n				Share on LinkedIn (Opens in new window)\n				LinkedIn
URL:https://georgiapickleballtournaments.com/event/chateau-elan-may-pickleball-tournament/
LOCATION:Chateau Elan Racquet Club\, 100 Rue Charlemagne Dr\, Braselton\, 30517\, United States
CATEGORIES:Georgia
ATTACH;FMTTYPE=image/jpeg:https://georgiapickleballtournaments.com/wp-content/uploads/2026/03/20260509b.jpg
END:VEVENT
BEGIN:VEVENT
DTSTART;VALUE=DATE:20260509
DTEND;VALUE=DATE:20260511
DTSTAMP:20260423T075141
CREATED:20260331T101642Z
LAST-MODIFIED:20260331T101849Z
UID:10000401-1778284800-1778457599@georgiapickleballtournaments.com
SUMMARY:Vibha Pickleball Championship 2026
DESCRIPTION:⏺️••”Vibha Pickleball Championship 2026″\nPickleball tournament in Duluth\, Georgia\nMay 9-10\, 2026\n\nhttps://georgiapickleballtournaments.com/event/vibha-pickleball-championship-2026/\nShare this:\n				Share on Facebook (Opens in new window)\n				Facebook\n			\n				Share on X (Opens in new window)\n				X\n			\n				Share on WhatsApp (Opens in new window)\n				WhatsApp\n			\n				Share on Pinterest (Opens in new window)\n				Pinterest\n			\n				Share on LinkedIn (Opens in new window)\n				LinkedIn
URL:https://georgiapickleballtournaments.com/event/vibha-pickleball-championship-2026/
LOCATION:Atlanta Badminton Club\, 1900 Buford Hwy\, Duluth\, GA\, 30097\, United States
CATEGORIES:Georgia
ATTACH;FMTTYPE=image/jpeg:https://georgiapickleballtournaments.com/wp-content/uploads/2026/03/20260509a.jpg
END:VEVENT
BEGIN:VEVENT
DTSTART;VALUE=DATE:20260509
DTEND;VALUE=DATE:20260511
DTSTAMP:20260423T075141
CREATED:20260331T104006Z
LAST-MODIFIED:20260331T104737Z
UID:10000403-1778284800-1778457599@georgiapickleballtournaments.com
SUMMARY:MTP 1st Senior Social Shootout at More Than Pickleball
DESCRIPTION:⏺️••”MTP 1st Senior Social Shootout at More Than Pickleball”\nPickleball tournament in Buford\, Georgia\nMay 9-10\, 2026 \nhttps://georgiapickleballtournaments.com/event/mtp-1st-senior-social-shootout-at-more-than-pickleball/ \nShare this:\n				Share on Facebook (Opens in new window)\n				Facebook\n			\n				Share on X (Opens in new window)\n				X\n			\n				Share on WhatsApp (Opens in new window)\n				WhatsApp\n			\n				Share on Pinterest (Opens in new window)\n				Pinterest\n			\n				Share on LinkedIn (Opens in new window)\n				LinkedIn
URL:https://georgiapickleballtournaments.com/event/mtp-1st-senior-social-shootout-at-more-than-pickleball/
LOCATION:More Than Pickleball\, 3230 Woodward Crossing Blvd\, Buford\, GA\, 30519\, United States
CATEGORIES:Georgia,Moneyball,Seniors
ATTACH;FMTTYPE=image/jpeg:https://georgiapickleballtournaments.com/wp-content/uploads/2026/03/20260509c.jpg
ORGANIZER;CN="More Than Pickleball Team":MAILTO:info@morethanpball.com
END:VEVENT
END:VCALENDAR