BEGIN:VCALENDAR
VERSION:2.0
PRODID:-//Georgia Pickleball Tournaments - ECPv6.15.20//NONSGML v1.0//EN
CALSCALE:GREGORIAN
METHOD:PUBLISH
X-WR-CALNAME:Georgia Pickleball Tournaments
X-ORIGINAL-URL:https://georgiapickleballtournaments.com
X-WR-CALDESC:Events for Georgia Pickleball Tournaments
REFRESH-INTERVAL;VALUE=DURATION:PT1H
X-Robots-Tag:noindex
X-PUBLISHED-TTL:PT1H
BEGIN:VTIMEZONE
TZID:America/New_York
BEGIN:DAYLIGHT
TZOFFSETFROM:-0500
TZOFFSETTO:-0400
TZNAME:EDT
DTSTART:20250309T070000
END:DAYLIGHT
BEGIN:STANDARD
TZOFFSETFROM:-0400
TZOFFSETTO:-0500
TZNAME:EST
DTSTART:20251102T060000
END:STANDARD
BEGIN:DAYLIGHT
TZOFFSETFROM:-0500
TZOFFSETTO:-0400
TZNAME:EDT
DTSTART:20260308T070000
END:DAYLIGHT
BEGIN:STANDARD
TZOFFSETFROM:-0400
TZOFFSETTO:-0500
TZNAME:EST
DTSTART:20261101T060000
END:STANDARD
BEGIN:DAYLIGHT
TZOFFSETFROM:-0500
TZOFFSETTO:-0400
TZNAME:EDT
DTSTART:20270314T070000
END:DAYLIGHT
BEGIN:STANDARD
TZOFFSETFROM:-0400
TZOFFSETTO:-0500
TZNAME:EST
DTSTART:20271107T060000
END:STANDARD
END:VTIMEZONE
BEGIN:VEVENT
DTSTART;VALUE=DATE:20260407
DTEND;VALUE=DATE:20260408
DTSTAMP:20260423T075019
CREATED:20260208T004252Z
LAST-MODIFIED:20260208T004327Z
UID:10000380-1775520000-1775606399@georgiapickleballtournaments.com
SUMMARY:Valdosta Board of Realtors 2nd Annual Tournament
DESCRIPTION:⏺️••”Valdosta Board of Realtors 2nd Annual Tournament”\nPickleball tournament in Valdosta\, GA\nApril 7\, 2026 \nhttps://georgiapickleballtournaments.com/event/valdosta-board-of-realtors-2nd-annual-tournament/ \nShare this:\n				Share on Facebook (Opens in new window)\n				Facebook\n			\n				Share on X (Opens in new window)\n				X\n			\n				Share on WhatsApp (Opens in new window)\n				WhatsApp\n			\n				Share on Pinterest (Opens in new window)\n				Pinterest\n			\n				Share on LinkedIn (Opens in new window)\n				LinkedIn
URL:https://georgiapickleballtournaments.com/event/valdosta-board-of-realtors-2nd-annual-tournament/
LOCATION:McKey Park\, 812 Burton St\, Valdosta\, 31601\, United States
CATEGORIES:Georgia
ATTACH;FMTTYPE=image/jpeg:https://georgiapickleballtournaments.com/wp-content/uploads/2026/02/20260407a.jpg
END:VEVENT
BEGIN:VEVENT
DTSTART;VALUE=DATE:20260410
DTEND;VALUE=DATE:20260413
DTSTAMP:20260423T075019
CREATED:20251130T193721Z
LAST-MODIFIED:20251130T193721Z
UID:10000323-1775779200-1776038399@georgiapickleballtournaments.com
SUMMARY:Cresswind Classic at Club 33
DESCRIPTION:⏺️••”Cresswind Classic at Club 33″\nPickleball tournament in Hoschton\, GA\nThe Complete list of pickleball tournaments in Georgia at www.GeorgiaPickleballTournaments.com\nShare this:\n				Share on Facebook (Opens in new window)\n				Facebook\n			\n				Share on X (Opens in new window)\n				X\n			\n				Share on WhatsApp (Opens in new window)\n				WhatsApp\n			\n				Share on Pinterest (Opens in new window)\n				Pinterest\n			\n				Share on LinkedIn (Opens in new window)\n				LinkedIn
URL:https://georgiapickleballtournaments.com/event/cresswind-classic-at-club-33/
LOCATION:Cresswind Club 33\, 70 Chatuge Dr\, Hoschton\, GA\, 30548\, United States
CATEGORIES:Georgia
ATTACH;FMTTYPE=image/jpeg:https://georgiapickleballtournaments.com/wp-content/uploads/2025/11/20260410a.jpg
END:VEVENT
BEGIN:VEVENT
DTSTART;VALUE=DATE:20260410
DTEND;VALUE=DATE:20260413
DTSTAMP:20260423T075019
CREATED:20251130T200025Z
LAST-MODIFIED:20251130T200025Z
UID:10000324-1775779200-1776038399@georgiapickleballtournaments.com
SUMMARY:2026 Doc Holliday Shootout
DESCRIPTION:⏺️••”2026 Doc Holliday Shootout”\nPickleball tournament in Griffin\, GA\nThe Complete list of pickleball tournaments in Georgia at www.GeorgiaPickleballTournaments.com\nShare this:\n				Share on Facebook (Opens in new window)\n				Facebook\n			\n				Share on X (Opens in new window)\n				X\n			\n				Share on WhatsApp (Opens in new window)\n				WhatsApp\n			\n				Share on Pinterest (Opens in new window)\n				Pinterest\n			\n				Share on LinkedIn (Opens in new window)\n				LinkedIn
URL:https://georgiapickleballtournaments.com/event/2026-doc-holliday-shootout/
LOCATION:Wyomia Tyus Olympic Park\, 1301 Cowan Rd\, Griffin\, 30223\, United States
CATEGORIES:Georgia
ATTACH;FMTTYPE=image/jpeg:https://georgiapickleballtournaments.com/wp-content/uploads/2025/11/20260410b.jpg
ORGANIZER;CN="Spalding County Pickleball Association":MAILTO:spaldingpickleball@gmail.com
END:VEVENT
BEGIN:VEVENT
DTSTART;VALUE=DATE:20260411
DTEND;VALUE=DATE:20260413
DTSTAMP:20260423T075019
CREATED:20251201T020229Z
LAST-MODIFIED:20251201T020229Z
UID:10000325-1775865600-1776038399@georgiapickleballtournaments.com
SUMMARY:5TH SSI Pickle Paddle Battle
DESCRIPTION:⏺️••”5TH SSI Pickle Paddle Battle”\nPickleball tournament in Saint Simons Island\, GA\nThe Complete list of pickleball tournaments in Georgia at www.GeorgiaPickleballTournaments.com\nShare this:\n				Share on Facebook (Opens in new window)\n				Facebook\n			\n				Share on X (Opens in new window)\n				X\n			\n				Share on WhatsApp (Opens in new window)\n				WhatsApp\n			\n				Share on Pinterest (Opens in new window)\n				Pinterest\n			\n				Share on LinkedIn (Opens in new window)\n				LinkedIn
URL:https://georgiapickleballtournaments.com/event/5th-ssi-pickle-paddle-battle/
LOCATION:Mallery Park\, 601 Mallery St\, Saint Simons Island\, 31522\, United States
CATEGORIES:Georgia
ATTACH;FMTTYPE=image/jpeg:https://georgiapickleballtournaments.com/wp-content/uploads/2025/11/20260411a.jpg
END:VEVENT
END:VCALENDAR