BEGIN:VCALENDAR
VERSION:2.0
PRODID:-//Georgia Pickleball Tournaments - ECPv6.15.20//NONSGML v1.0//EN
CALSCALE:GREGORIAN
METHOD:PUBLISH
X-ORIGINAL-URL:https://georgiapickleballtournaments.com
X-WR-CALDESC:Events for Georgia Pickleball Tournaments
REFRESH-INTERVAL;VALUE=DURATION:PT1H
X-Robots-Tag:noindex
X-PUBLISHED-TTL:PT1H
BEGIN:VTIMEZONE
TZID:America/New_York
BEGIN:DAYLIGHT
TZOFFSETFROM:-0500
TZOFFSETTO:-0400
TZNAME:EDT
DTSTART:20250309T070000
END:DAYLIGHT
BEGIN:STANDARD
TZOFFSETFROM:-0400
TZOFFSETTO:-0500
TZNAME:EST
DTSTART:20251102T060000
END:STANDARD
BEGIN:DAYLIGHT
TZOFFSETFROM:-0500
TZOFFSETTO:-0400
TZNAME:EDT
DTSTART:20260308T070000
END:DAYLIGHT
BEGIN:STANDARD
TZOFFSETFROM:-0400
TZOFFSETTO:-0500
TZNAME:EST
DTSTART:20261101T060000
END:STANDARD
BEGIN:DAYLIGHT
TZOFFSETFROM:-0500
TZOFFSETTO:-0400
TZNAME:EDT
DTSTART:20270314T070000
END:DAYLIGHT
BEGIN:STANDARD
TZOFFSETFROM:-0400
TZOFFSETTO:-0500
TZNAME:EST
DTSTART:20271107T060000
END:STANDARD
END:VTIMEZONE
BEGIN:VEVENT
DTSTART;VALUE=DATE:20260313
DTEND;VALUE=DATE:20260315
DTSTAMP:20260423T154934
CREATED:20251220T032804Z
LAST-MODIFIED:20260206T031409Z
UID:10000338-1773360000-1773532799@georgiapickleballtournaments.com
SUMMARY:Fannin County Paddle Battle IV
DESCRIPTION:⏺️••”Fannin County Paddle Battle IV”\nPickleball tournament in Blue Ridge\, GA\nMarch 13-14\, 2026\nhttps://georgiapickleballtournaments.com/event/fannin-county-paddle-battle-iv/ \nShare this:\n				Share on Facebook (Opens in new window)\n				Facebook\n			\n				Share on X (Opens in new window)\n				X\n			\n				Share on WhatsApp (Opens in new window)\n				WhatsApp\n			\n				Share on Pinterest (Opens in new window)\n				Pinterest\n			\n				Share on LinkedIn (Opens in new window)\n				LinkedIn
URL:https://georgiapickleballtournaments.com/event/fannin-county-paddle-battle-iv/
LOCATION:Fannin County Recreation Center\, 370 Tom Boyd Rd\, Blue Ridge\, 30513\, United States
CATEGORIES:Georgia
ATTACH;FMTTYPE=image/jpeg:https://georgiapickleballtournaments.com/wp-content/uploads/2025/12/20260313d.jpg
END:VEVENT
BEGIN:VEVENT
DTSTART;VALUE=DATE:20260313
DTEND;VALUE=DATE:20260316
DTSTAMP:20260423T154934
CREATED:20251128T151531Z
LAST-MODIFIED:20260206T031653Z
UID:10000313-1773360000-1773619199@georgiapickleballtournaments.com
SUMMARY:4th Annual Luck of the Pickle Tournament
DESCRIPTION:⏺️••”4th Annual Luck of the Pickle Tournament”\nPickleball tournament in Canton\, GA\nMarch 13-15\, 2026\nhttps://georgiapickleballtournaments.com/event/4th-annual-luck-of-the-pickle-tournament/ \nShare this:\n				Share on Facebook (Opens in new window)\n				Facebook\n			\n				Share on X (Opens in new window)\n				X\n			\n				Share on WhatsApp (Opens in new window)\n				WhatsApp\n			\n				Share on Pinterest (Opens in new window)\n				Pinterest\n			\n				Share on LinkedIn (Opens in new window)\n				LinkedIn
URL:https://georgiapickleballtournaments.com/event/4th-annual-luck-of-the-pickle-tournament/
LOCATION:BridgeMill Athletic Club\, 1180 Bridgemill Ave\, Canton\, GA\, United States
CATEGORIES:Georgia
ATTACH;FMTTYPE=image/jpeg:https://georgiapickleballtournaments.com/wp-content/uploads/2025/11/20260313a.jpg
END:VEVENT
BEGIN:VEVENT
DTSTART;VALUE=DATE:20260313
DTEND;VALUE=DATE:20260316
DTSTAMP:20260423T154934
CREATED:20251130T152837Z
LAST-MODIFIED:20260129T014952Z
UID:10000317-1773360000-1773619199@georgiapickleballtournaments.com
SUMMARY:Peach Open -6
DESCRIPTION:⏺️••”Peach Open -6″\nPickleball tournament in Alpharetta\, GA\nMarch 13-15\, 2026\n\nhttps://georgiapickleballtournaments.com/event/peach-open-6/\nShare this:\n				Share on Facebook (Opens in new window)\n				Facebook\n			\n				Share on X (Opens in new window)\n				X\n			\n				Share on WhatsApp (Opens in new window)\n				WhatsApp\n			\n				Share on Pinterest (Opens in new window)\n				Pinterest\n			\n				Share on LinkedIn (Opens in new window)\n				LinkedIn
URL:https://georgiapickleballtournaments.com/event/peach-open-6/
LOCATION:Alpharetta North Park North Tennis and Pickleball Center\, 13450 Cogburn Rd\, Alpharetta\, GA\, 30004\, United States
CATEGORIES:Georgia
ATTACH;FMTTYPE=image/jpeg:https://georgiapickleballtournaments.com/wp-content/uploads/2025/11/20260313b1.jpg
END:VEVENT
BEGIN:VEVENT
DTSTART;VALUE=DATE:20260313
DTEND;VALUE=DATE:20260316
DTSTAMP:20260423T154934
CREATED:20251206T180517Z
LAST-MODIFIED:20260206T031736Z
UID:10000332-1773360000-1773619199@georgiapickleballtournaments.com
SUMMARY:St. Paddle's Battle
DESCRIPTION:⏺️••”St. Paddle’s Battle”\nPickleball tournament in Savannah\, GA\nMarch 13-15\, 2026\nhttps://georgiapickleballtournaments.com/event/st-paddles-battle/ \nShare this:\n				Share on Facebook (Opens in new window)\n				Facebook\n			\n				Share on X (Opens in new window)\n				X\n			\n				Share on WhatsApp (Opens in new window)\n				WhatsApp\n			\n				Share on Pinterest (Opens in new window)\n				Pinterest\n			\n				Share on LinkedIn (Opens in new window)\n				LinkedIn
URL:https://georgiapickleballtournaments.com/event/st-paddles-battle/
LOCATION:Savannah Pickleball Academy\, 4102 Meding St\, Savannah\, GA\, 31405\, United States
CATEGORIES:Georgia
ATTACH;FMTTYPE=image/jpeg:https://georgiapickleballtournaments.com/wp-content/uploads/2025/12/20260313c.jpg
END:VEVENT
BEGIN:VEVENT
DTSTART;VALUE=DATE:20260313
DTEND;VALUE=DATE:20260316
DTSTAMP:20260423T154934
CREATED:20260131T012040Z
LAST-MODIFIED:20260131T012152Z
UID:10000369-1773360000-1773619199@georgiapickleballtournaments.com
SUMMARY:World of Pickleball - Georgia - $2000
DESCRIPTION:⏺️••”World of Pickleball – Georgia – $2\,000″\nPickleball tournament in Milledgeville\, GA\nMarch 13-15\, 2026 \nhttps://georgiapickleballtournaments.com/event/world-of-pickleball-georgia-2000/ \nShare this:\n				Share on Facebook (Opens in new window)\n				Facebook\n			\n				Share on X (Opens in new window)\n				X\n			\n				Share on WhatsApp (Opens in new window)\n				WhatsApp\n			\n				Share on Pinterest (Opens in new window)\n				Pinterest\n			\n				Share on LinkedIn (Opens in new window)\n				LinkedIn
URL:https://georgiapickleballtournaments.com/event/world-of-pickleball-georgia-2000/
LOCATION:Walter B Williams Recreation Department\, 59 W 22 Hwy\, Milledgeville\, GA\, 31061\, United States
CATEGORIES:Georgia
ATTACH;FMTTYPE=image/jpeg:https://georgiapickleballtournaments.com/wp-content/uploads/2026/01/20260313e.jpg
END:VEVENT
BEGIN:VEVENT
DTSTART;VALUE=DATE:20260314
DTEND;VALUE=DATE:20260315
DTSTAMP:20260423T154934
CREATED:20260129T013356Z
LAST-MODIFIED:20260129T013621Z
UID:10000359-1773446400-1773532799@georgiapickleballtournaments.com
SUMMARY:YoungLife Tifton Pickleball Tournament
DESCRIPTION:⏺️••”YoungLife Tifton Pickleball Tournament”\nPickleball tournament in Tifton\, GA\nMarch 14\, 2026 \nhttps://georgiapickleballtournaments.com/event/younglife-tifton-pickleball-tournament/ \nShare this:\n				Share on Facebook (Opens in new window)\n				Facebook\n			\n				Share on X (Opens in new window)\n				X\n			\n				Share on WhatsApp (Opens in new window)\n				WhatsApp\n			\n				Share on Pinterest (Opens in new window)\n				Pinterest\n			\n				Share on LinkedIn (Opens in new window)\n				LinkedIn
URL:https://georgiapickleballtournaments.com/event/younglife-tifton-pickleball-tournament/
LOCATION:YMCA Hunt Park – Tifton\, 1823 Westover Rd\, Tifton\, GA\, 31794\, United States
CATEGORIES:Georgia
ATTACH;FMTTYPE=image/jpeg:https://georgiapickleballtournaments.com/wp-content/uploads/2026/01/20260314a-1.jpg
END:VEVENT
BEGIN:VEVENT
DTSTART;VALUE=DATE:20260314
DTEND;VALUE=DATE:20260315
DTSTAMP:20260423T154934
CREATED:20260131T013600Z
LAST-MODIFIED:20260131T013647Z
UID:10000370-1773446400-1773532799@georgiapickleballtournaments.com
SUMMARY:Luck of the Paddle Pickleball Tournament
DESCRIPTION:⏺️••”Luck of the Paddle Pickleball Tournament”\nPickleball tournament in Hinesville\, GA\nMarch 14\, 2026 \nhttps://georgiapickleballtournaments.com/event/luck-of-the-paddle-pickleball-tournament/ \nShare this:\n				Share on Facebook (Opens in new window)\n				Facebook\n			\n				Share on X (Opens in new window)\n				X\n			\n				Share on WhatsApp (Opens in new window)\n				WhatsApp\n			\n				Share on Pinterest (Opens in new window)\n				Pinterest\n			\n				Share on LinkedIn (Opens in new window)\n				LinkedIn
URL:https://georgiapickleballtournaments.com/event/luck-of-the-paddle-pickleball-tournament/
LOCATION:Liberty County YMCA – Coastal\, 201 Mary Lou Dr\, Hinesville\, GA\, 31313\, United States
CATEGORIES:Georgia
ATTACH;FMTTYPE=image/jpeg:https://georgiapickleballtournaments.com/wp-content/uploads/2026/01/20260314b.jpg
END:VEVENT
BEGIN:VEVENT
DTSTART;VALUE=DATE:20260315
DTEND;VALUE=DATE:20260316
DTSTAMP:20260423T154934
CREATED:20251130T181045Z
LAST-MODIFIED:20260206T031936Z
UID:10000322-1773532800-1773619199@georgiapickleballtournaments.com
SUMMARY:8th RNB $500 Moneyball Tournament 2026
DESCRIPTION:⏺️••”8th RNB $500 Moneyball Tournament 2026″\nPickleball tournament in Alpharetta\, GA\nMarch 15\, 2026\nhttps://georgiapickleballtournaments.com/event/8th-rnb-500-moneyball-tournament-2026/ \nShare this:\n				Share on Facebook (Opens in new window)\n				Facebook\n			\n				Share on X (Opens in new window)\n				X\n			\n				Share on WhatsApp (Opens in new window)\n				WhatsApp\n			\n				Share on Pinterest (Opens in new window)\n				Pinterest\n			\n				Share on LinkedIn (Opens in new window)\n				LinkedIn
URL:https://georgiapickleballtournaments.com/event/8th-rnb-500-moneyball-tournament-2026/
LOCATION:Webb Bridge Park\, 4780 Webb Bridge Rd\, Alpharetta\, 30005\, United States
CATEGORIES:Georgia,Moneyball
ATTACH;FMTTYPE=image/jpeg:https://georgiapickleballtournaments.com/wp-content/uploads/2025/11/20260315a.jpg
END:VEVENT
END:VCALENDAR