BEGIN:VCALENDAR
VERSION:2.0
PRODID:-//Georgia Pickleball Tournaments - ECPv6.15.20//NONSGML v1.0//EN
CALSCALE:GREGORIAN
METHOD:PUBLISH
X-ORIGINAL-URL:https://georgiapickleballtournaments.com
X-WR-CALDESC:Events for Georgia Pickleball Tournaments
REFRESH-INTERVAL;VALUE=DURATION:PT1H
X-Robots-Tag:noindex
X-PUBLISHED-TTL:PT1H
BEGIN:VTIMEZONE
TZID:America/New_York
BEGIN:DAYLIGHT
TZOFFSETFROM:-0500
TZOFFSETTO:-0400
TZNAME:EDT
DTSTART:20250309T070000
END:DAYLIGHT
BEGIN:STANDARD
TZOFFSETFROM:-0400
TZOFFSETTO:-0500
TZNAME:EST
DTSTART:20251102T060000
END:STANDARD
BEGIN:DAYLIGHT
TZOFFSETFROM:-0500
TZOFFSETTO:-0400
TZNAME:EDT
DTSTART:20260308T070000
END:DAYLIGHT
BEGIN:STANDARD
TZOFFSETFROM:-0400
TZOFFSETTO:-0500
TZNAME:EST
DTSTART:20261101T060000
END:STANDARD
BEGIN:DAYLIGHT
TZOFFSETFROM:-0500
TZOFFSETTO:-0400
TZNAME:EDT
DTSTART:20270314T070000
END:DAYLIGHT
BEGIN:STANDARD
TZOFFSETFROM:-0400
TZOFFSETTO:-0500
TZNAME:EST
DTSTART:20271107T060000
END:STANDARD
END:VTIMEZONE
BEGIN:VEVENT
DTSTART;VALUE=DATE:20260307
DTEND;VALUE=DATE:20260309
DTSTAMP:20260423T123331
CREATED:20251128T145409Z
LAST-MODIFIED:20260206T031319Z
UID:10000312-1772841600-1773014399@georgiapickleballtournaments.com
SUMMARY:St. Paddy's Paddle Battle
DESCRIPTION:⏺️••”St. Paddy’s Paddle Battle”\nPickleball tournament in LaGrange\, GA\nMarch 7-8\, 2026\nhttps://georgiapickleballtournaments.com/event/st-paddys-paddle-battle/\nShare this:\n				Share on Facebook (Opens in new window)\n				Facebook\n			\n				Share on X (Opens in new window)\n				X\n			\n				Share on WhatsApp (Opens in new window)\n				WhatsApp\n			\n				Share on Pinterest (Opens in new window)\n				Pinterest\n			\n				Share on LinkedIn (Opens in new window)\n				LinkedIn
URL:https://georgiapickleballtournaments.com/event/st-paddys-paddle-battle/
LOCATION:Troup County Pickleball Complex\, 131 Ragland Street\, LaGrange\, GA\, 30241\, United States
CATEGORIES:Georgia
ATTACH;FMTTYPE=image/jpeg:https://georgiapickleballtournaments.com/wp-content/uploads/2025/11/20260307a.jpg
END:VEVENT
BEGIN:VEVENT
DTSTART;VALUE=DATE:20260307
DTEND;VALUE=DATE:20260309
DTSTAMP:20260423T123331
CREATED:20260129T001007Z
LAST-MODIFIED:20260129T023045Z
UID:10000352-1772841600-1773014399@georgiapickleballtournaments.com
SUMMARY:Kitchen Line Connection - Ronald McDonald House of Central Georgia
DESCRIPTION:⏺️••”Kitchen Line Connection – Ronald McDonald House of Central Georgia”\nPickleball tournament in Macon\, GA\nMarch 7-8\, 2026 \nhttps://georgiapickleballtournaments.com/event/kitchen-line-connection-ronald-mcdonald-house-of-central-georgia/ \nShare this:\n				Share on Facebook (Opens in new window)\n				Facebook\n			\n				Share on X (Opens in new window)\n				X\n			\n				Share on WhatsApp (Opens in new window)\n				WhatsApp\n			\n				Share on Pinterest (Opens in new window)\n				Pinterest\n			\n				Share on LinkedIn (Opens in new window)\n				LinkedIn
URL:https://georgiapickleballtournaments.com/event/kitchen-line-connection-ronald-mcdonald-house-of-central-georgia/
LOCATION:Rhythm & Rally Sports & Events\, 3661 Eisenhower Pkwy\, Macon\, GA\, 31206\, United States
CATEGORIES:Georgia
ATTACH;FMTTYPE=image/jpeg:https://georgiapickleballtournaments.com/wp-content/uploads/2026/01/20260307b1.jpg
END:VEVENT
BEGIN:VEVENT
DTSTART;VALUE=DATE:20260307
DTEND;VALUE=DATE:20260309
DTSTAMP:20260423T123331
CREATED:20260129T003725Z
LAST-MODIFIED:20260129T003835Z
UID:10000354-1772841600-1773014399@georgiapickleballtournaments.com
SUMMARY:Golden Isles Spring Classic
DESCRIPTION:⏺️••”Golden Isles Spring Classic”\nPickleball tournament in Brunswick\, GA\nMarch 7-8\, 2026 \nhttps://georgiapickleballtournaments.com/event/golden-isles-spring-classic/ \nShare this:\n				Share on Facebook (Opens in new window)\n				Facebook\n			\n				Share on X (Opens in new window)\n				X\n			\n				Share on WhatsApp (Opens in new window)\n				WhatsApp\n			\n				Share on Pinterest (Opens in new window)\n				Pinterest\n			\n				Share on LinkedIn (Opens in new window)\n				LinkedIn
URL:https://georgiapickleballtournaments.com/event/golden-isles-spring-classic/
LOCATION:North Glynn Recreation Complex\, 570 Harry Driggers Blvd\, Brunswick\, GA\, 31520\, United States
CATEGORIES:Georgia
ATTACH;FMTTYPE=image/jpeg:https://georgiapickleballtournaments.com/wp-content/uploads/2026/01/20260307c.jpg
END:VEVENT
BEGIN:VEVENT
DTSTART;VALUE=DATE:20260307
DTEND;VALUE=DATE:20260309
DTSTAMP:20260423T123331
CREATED:20260129T011254Z
LAST-MODIFIED:20260129T011330Z
UID:10000358-1772841600-1773014399@georgiapickleballtournaments.com
SUMMARY:BOTP6
DESCRIPTION:⏺️••”BOTP6″\nPickleball tournament in Villa Rica\, GA\nMarch 7-8\, 2026 \nhttps://georgiapickleballtournaments.com/event/botp6/ \nShare this:\n				Share on Facebook (Opens in new window)\n				Facebook\n			\n				Share on X (Opens in new window)\n				X\n			\n				Share on WhatsApp (Opens in new window)\n				WhatsApp\n			\n				Share on Pinterest (Opens in new window)\n				Pinterest\n			\n				Share on LinkedIn (Opens in new window)\n				LinkedIn
URL:https://georgiapickleballtournaments.com/event/botp6/
LOCATION:Gold Dust Park Gym\, 646 Industrial Blvd\, Villa Rica\, 30180\, United States
CATEGORIES:Georgia
ATTACH;FMTTYPE=image/jpeg:https://georgiapickleballtournaments.com/wp-content/uploads/2026/01/20260307d.jpg
ORGANIZER;CN="Pickleball Compete - VR Complete Pickleball":MAILTO:support@pickleballcompete.com
END:VEVENT
BEGIN:VEVENT
DTSTART;VALUE=DATE:20260307
DTEND;VALUE=DATE:20260309
DTSTAMP:20260423T123331
CREATED:20260201T132618Z
LAST-MODIFIED:20260201T132741Z
UID:10000376-1772841600-1773014399@georgiapickleballtournaments.com
SUMMARY:MTP $1\,000 Moneyballs Doubles and Singles
DESCRIPTION:⏺️••”MTP $1\,000 Moneyballs Doubles and Singles”\nPickleball tournament in Buford\, GA\nMarch 7-8\, 2026 \nhttps://georgiapickleballtournaments.com/event/mtp-1000-moneyballs-doubles-and-singles/ \nShare this:\n				Share on Facebook (Opens in new window)\n				Facebook\n			\n				Share on X (Opens in new window)\n				X\n			\n				Share on WhatsApp (Opens in new window)\n				WhatsApp\n			\n				Share on Pinterest (Opens in new window)\n				Pinterest\n			\n				Share on LinkedIn (Opens in new window)\n				LinkedIn
URL:https://georgiapickleballtournaments.com/event/mtp-1000-moneyballs-doubles-and-singles/
LOCATION:More Than Pickleball\, 3230 Woodward Crossing Blvd\, Buford\, GA\, 30519\, United States
CATEGORIES:Georgia,Moneyball
ATTACH;FMTTYPE=image/jpeg:https://georgiapickleballtournaments.com/wp-content/uploads/2026/02/20260307e.jpg
ORGANIZER;CN="More Than Pickleball Team":MAILTO:info@morethanpball.com
END:VEVENT
END:VCALENDAR