BEGIN:VCALENDAR
VERSION:2.0
PRODID:-//Georgia Pickleball Tournaments - ECPv6.15.20//NONSGML v1.0//EN
CALSCALE:GREGORIAN
METHOD:PUBLISH
X-WR-CALNAME:Georgia Pickleball Tournaments
X-ORIGINAL-URL:https://georgiapickleballtournaments.com
X-WR-CALDESC:Events for Georgia Pickleball Tournaments
REFRESH-INTERVAL;VALUE=DURATION:PT1H
X-Robots-Tag:noindex
X-PUBLISHED-TTL:PT1H
BEGIN:VTIMEZONE
TZID:America/New_York
BEGIN:DAYLIGHT
TZOFFSETFROM:-0500
TZOFFSETTO:-0400
TZNAME:EDT
DTSTART:20250309T070000
END:DAYLIGHT
BEGIN:STANDARD
TZOFFSETFROM:-0400
TZOFFSETTO:-0500
TZNAME:EST
DTSTART:20251102T060000
END:STANDARD
BEGIN:DAYLIGHT
TZOFFSETFROM:-0500
TZOFFSETTO:-0400
TZNAME:EDT
DTSTART:20260308T070000
END:DAYLIGHT
BEGIN:STANDARD
TZOFFSETFROM:-0400
TZOFFSETTO:-0500
TZNAME:EST
DTSTART:20261101T060000
END:STANDARD
BEGIN:DAYLIGHT
TZOFFSETFROM:-0500
TZOFFSETTO:-0400
TZNAME:EDT
DTSTART:20270314T070000
END:DAYLIGHT
BEGIN:STANDARD
TZOFFSETFROM:-0400
TZOFFSETTO:-0500
TZNAME:EST
DTSTART:20271107T060000
END:STANDARD
END:VTIMEZONE
BEGIN:VEVENT
DTSTART;VALUE=DATE:20260218
DTEND;VALUE=DATE:20260223
DTSTAMP:20260423T123226
CREATED:20260127T122058Z
LAST-MODIFIED:20260127T122139Z
UID:10000340-1771372800-1771804799@georgiapickleballtournaments.com
SUMMARY:Life Time Winter Classic at the Peach
DESCRIPTION:⏺️••”Life Time Winter Classic at the Peach”\nPickleball tournament in Peachtree Corners\, GA\nFebruary 18-22\, 2026 \nhttps://georgiapickleballtournaments.com/event/life-time-winter-classic-at-the-peach/ \nShare this:\n				Share on Facebook (Opens in new window)\n				Facebook\n			\n				Share on X (Opens in new window)\n				X\n			\n				Share on WhatsApp (Opens in new window)\n				WhatsApp\n			\n				Share on Pinterest (Opens in new window)\n				Pinterest\n			\n				Share on LinkedIn (Opens in new window)\n				LinkedIn
URL:https://georgiapickleballtournaments.com/event/life-time-winter-classic-at-the-peach/
LOCATION:Life Time Peachtree Corners\, 6350 Courtside Dr NW\, Peachtree Corners\, 30092\, United States
CATEGORIES:Georgia
ATTACH;FMTTYPE=image/jpeg:https://georgiapickleballtournaments.com/wp-content/uploads/2026/01/20260218a.jpg
END:VEVENT
BEGIN:VEVENT
DTSTART;VALUE=DATE:20260220
DTEND;VALUE=DATE:20260223
DTSTAMP:20260423T123226
CREATED:20260127T123039Z
LAST-MODIFIED:20260127T123140Z
UID:10000341-1771545600-1771804799@georgiapickleballtournaments.com
SUMMARY:MTP 2026 February Indoor Tournament / $1\,000 Moneyball
DESCRIPTION:⏺️••”MTP 2026 February Indoor Tournament / $1\,000 Moneyball”\nPickleball tournament in Buford\, GA\nFebruary 20-22\, 2026 \nhttps://georgiapickleballtournaments.com/event/mtp-2026-february-indoor-tournament-1000-moneyball/ \nShare this:\n				Share on Facebook (Opens in new window)\n				Facebook\n			\n				Share on X (Opens in new window)\n				X\n			\n				Share on WhatsApp (Opens in new window)\n				WhatsApp\n			\n				Share on Pinterest (Opens in new window)\n				Pinterest\n			\n				Share on LinkedIn (Opens in new window)\n				LinkedIn
URL:https://georgiapickleballtournaments.com/event/mtp-2026-february-indoor-tournament-1000-moneyball/
LOCATION:More Than Pickleball\, 3230 Woodward Crossing Blvd\, Buford\, GA\, 30519\, United States
CATEGORIES:Georgia,Moneyball
ATTACH;FMTTYPE=image/jpeg:https://georgiapickleballtournaments.com/wp-content/uploads/2026/01/20260220a.jpg
ORGANIZER;CN="More Than Pickleball Team":MAILTO:info@morethanpball.com
END:VEVENT
BEGIN:VEVENT
DTSTART;VALUE=DATE:20260221
DTEND;VALUE=DATE:20260223
DTSTAMP:20260423T123226
CREATED:20251128T110325Z
LAST-MODIFIED:20260128T150555Z
UID:10000307-1771632000-1771804799@georgiapickleballtournaments.com
SUMMARY:The Georgia Amateur Open
DESCRIPTION:⏺️••”The Georgia Amateur Open”\nPickleball tournament in Macon\, GA\n\nhttps://georgiapickleballtournaments.com/event/the-georgia-amateur-open-2/\nShare this:\n				Share on Facebook (Opens in new window)\n				Facebook\n			\n				Share on X (Opens in new window)\n				X\n			\n				Share on WhatsApp (Opens in new window)\n				WhatsApp\n			\n				Share on Pinterest (Opens in new window)\n				Pinterest\n			\n				Share on LinkedIn (Opens in new window)\n				LinkedIn
URL:https://georgiapickleballtournaments.com/event/the-georgia-amateur-open-2/
LOCATION:The Atlanta Pickleball Center\, 1359 Ellsworth Industrial Blvd NW suite B\, Atlanta\, 30318\, United States
CATEGORIES:Georgia
ATTACH;FMTTYPE=image/jpeg:https://georgiapickleballtournaments.com/wp-content/uploads/2025/11/20260221a.jpg
END:VEVENT
BEGIN:VEVENT
DTSTART;VALUE=DATE:20260221
DTEND;VALUE=DATE:20260223
DTSTAMP:20260423T123226
CREATED:20251128T112632Z
LAST-MODIFIED:20260128T150627Z
UID:10000308-1771632000-1771804799@georgiapickleballtournaments.com
SUMMARY:KW Family Reunion Pickleball Tournament 2026
DESCRIPTION:⏺️••”KW Family Reunion Pickleball Tournament 2026″\nPickleball tournament in Atlanta\, GA\n\nhttps://georgiapickleballtournaments.com/event/kw-family-reunion-pickleball-tournament-2026/\nShare this:\n				Share on Facebook (Opens in new window)\n				Facebook\n			\n				Share on X (Opens in new window)\n				X\n			\n				Share on WhatsApp (Opens in new window)\n				WhatsApp\n			\n				Share on Pinterest (Opens in new window)\n				Pinterest\n			\n				Share on LinkedIn (Opens in new window)\n				LinkedIn
URL:https://georgiapickleballtournaments.com/event/kw-family-reunion-pickleball-tournament-2026/
LOCATION:Dill Dinkers West End\, 1200 White Street Southwest #1000\, Atlanta\, GA\, 30310\, United States
CATEGORIES:Georgia
ATTACH;FMTTYPE=image/jpeg:https://georgiapickleballtournaments.com/wp-content/uploads/2025/11/20260221b.jpg
END:VEVENT
END:VCALENDAR