BEGIN:VCALENDAR
VERSION:2.0
PRODID:-//Georgia Pickleball Tournaments - ECPv6.15.20//NONSGML v1.0//EN
CALSCALE:GREGORIAN
METHOD:PUBLISH
X-ORIGINAL-URL:https://georgiapickleballtournaments.com
X-WR-CALDESC:Events for Georgia Pickleball Tournaments
REFRESH-INTERVAL;VALUE=DURATION:PT1H
X-Robots-Tag:noindex
X-PUBLISHED-TTL:PT1H
BEGIN:VTIMEZONE
TZID:UTC
BEGIN:STANDARD
TZOFFSETFROM:+0000
TZOFFSETTO:+0000
TZNAME:UTC
DTSTART:20240101T000000
END:STANDARD
END:VTIMEZONE
BEGIN:VTIMEZONE
TZID:America/New_York
BEGIN:DAYLIGHT
TZOFFSETFROM:-0500
TZOFFSETTO:-0400
TZNAME:EDT
DTSTART:20240310T070000
END:DAYLIGHT
BEGIN:STANDARD
TZOFFSETFROM:-0400
TZOFFSETTO:-0500
TZNAME:EST
DTSTART:20241103T060000
END:STANDARD
BEGIN:DAYLIGHT
TZOFFSETFROM:-0500
TZOFFSETTO:-0400
TZNAME:EDT
DTSTART:20250309T070000
END:DAYLIGHT
BEGIN:STANDARD
TZOFFSETFROM:-0400
TZOFFSETTO:-0500
TZNAME:EST
DTSTART:20251102T060000
END:STANDARD
BEGIN:DAYLIGHT
TZOFFSETFROM:-0500
TZOFFSETTO:-0400
TZNAME:EDT
DTSTART:20260308T070000
END:DAYLIGHT
BEGIN:STANDARD
TZOFFSETFROM:-0400
TZOFFSETTO:-0500
TZNAME:EST
DTSTART:20261101T060000
END:STANDARD
END:VTIMEZONE
BEGIN:VEVENT
DTSTART;VALUE=DATE:20250501
DTEND;VALUE=DATE:20250505
DTSTAMP:20260422T200629
CREATED:20250115T213151Z
LAST-MODIFIED:20250115T213151Z
UID:10000154-1746057600-1746403199@georgiapickleballtournaments.com
SUMMARY:NOT'lanta Open 2025
DESCRIPTION:⏺️••”NOT’lanta Open 2025″\nPickleball tournament in Augusta\, GA\nOrganized by: Montclair Championships \nShare this:\n				Share on Facebook (Opens in new window)\n				Facebook\n			\n				Share on X (Opens in new window)\n				X\n			\n				Share on WhatsApp (Opens in new window)\n				WhatsApp\n			\n				Share on Pinterest (Opens in new window)\n				Pinterest\n			\n				Share on LinkedIn (Opens in new window)\n				LinkedIn
URL:https://georgiapickleballtournaments.com/event/notlanta-open-2025/
LOCATION:Montclair Pickleball Courts\, 3304 Crane Ferry Rd\, Augusta\, 30907\, United States
CATEGORIES:Georgia
ATTACH;FMTTYPE=image/jpeg:https://georgiapickleballtournaments.com/wp-content/uploads/2025/01/20250501a.jpg
END:VEVENT
BEGIN:VEVENT
DTSTART;VALUE=DATE:20250501
DTEND;VALUE=DATE:20250505
DTSTAMP:20260422T200629
CREATED:20250325T121751Z
LAST-MODIFIED:20250325T121751Z
UID:10000218-1746057600-1746403199@georgiapickleballtournaments.com
SUMMARY:Life Time Johns Creek Spring Classic
DESCRIPTION:⏺️••”Life Time Johns Creek Spring Classic”\nPickleball tournament in Johns Creek\, GA\nOrganized by: Life Time Johns Creek \nShare this:\n				Share on Facebook (Opens in new window)\n				Facebook\n			\n				Share on X (Opens in new window)\n				X\n			\n				Share on WhatsApp (Opens in new window)\n				WhatsApp\n			\n				Share on Pinterest (Opens in new window)\n				Pinterest\n			\n				Share on LinkedIn (Opens in new window)\n				LinkedIn
URL:https://georgiapickleballtournaments.com/event/life-time-johns-creek-spring-classic/
LOCATION:Life Time Johns Creek\, 11555 Johns Creek Pkwy\, Johns Creek\, 30097\, United States
CATEGORIES:Georgia
ATTACH;FMTTYPE=image/jpeg:https://georgiapickleballtournaments.com/wp-content/uploads/2025/03/20250501b.jpg
END:VEVENT
BEGIN:VEVENT
DTSTART;VALUE=DATE:20250502
DTEND;VALUE=DATE:20250504
DTSTAMP:20260422T200629
CREATED:20250224T031301Z
LAST-MODIFIED:20250224T031324Z
UID:10000196-1746144000-1746316799@georgiapickleballtournaments.com
SUMMARY:PickleSham Palooza 2025
DESCRIPTION:⏺️••”PickleSham Palooza 2025″\nPickleball tournament in Clarkesville\, GA\nOrganized by: Habersham County Pickleball Club \nShare this:\n				Share on Facebook (Opens in new window)\n				Facebook\n			\n				Share on X (Opens in new window)\n				X\n			\n				Share on WhatsApp (Opens in new window)\n				WhatsApp\n			\n				Share on Pinterest (Opens in new window)\n				Pinterest\n			\n				Share on LinkedIn (Opens in new window)\n				LinkedIn
URL:https://georgiapickleballtournaments.com/event/picklesham-palooza-2025/
LOCATION:Habersham County pickleball courts\, 120 Paul Franklin Road\, Clarkesville\, 30523\, United States
CATEGORIES:Georgia
ATTACH;FMTTYPE=image/jpeg:https://georgiapickleballtournaments.com/wp-content/uploads/2025/02/20250502b.jpg
END:VEVENT
BEGIN:VEVENT
DTSTART;VALUE=DATE:20250502
DTEND;VALUE=DATE:20250504
DTSTAMP:20260422T200629
CREATED:20250224T034323Z
LAST-MODIFIED:20250224T034323Z
UID:10000197-1746144000-1746316799@georgiapickleballtournaments.com
SUMMARY:Raintree Children's Village Helene Relief Pickleball Tournament
DESCRIPTION:⏺️••”Raintree Children’s Village Helene Relief Pickleball Tournament”\nPickleball tournament in Sharpsburg\, GA\nOrganized by: East Coweta High School \nShare this:\n				Share on Facebook (Opens in new window)\n				Facebook\n			\n				Share on X (Opens in new window)\n				X\n			\n				Share on WhatsApp (Opens in new window)\n				WhatsApp\n			\n				Share on Pinterest (Opens in new window)\n				Pinterest\n			\n				Share on LinkedIn (Opens in new window)\n				LinkedIn
URL:https://georgiapickleballtournaments.com/event/raintree-childrens-village-helene-relief-pickleball-tournament/
LOCATION:East Coweta High School\, 400 Georgia 154\, Sharpsburg\, 30277\, United States
CATEGORIES:Georgia
ATTACH;FMTTYPE=image/jpeg:https://georgiapickleballtournaments.com/wp-content/uploads/2025/02/20250502c.jpg
END:VEVENT
BEGIN:VEVENT
DTSTART;VALUE=DATE:20250502
DTEND;VALUE=DATE:20250505
DTSTAMP:20260422T200629
CREATED:20241222T210655Z
LAST-MODIFIED:20241222T210655Z
UID:10000139-1746144000-1746403199@georgiapickleballtournaments.com
SUMMARY:World Pickleball Tour Atlanta Open
DESCRIPTION:⏺️••”World Pickleball Tour Atlanta Open”\nPickleball tournament in Atlanta\, GA\nOrganized by: World Pickleball Tour \nShare this:\n				Share on Facebook (Opens in new window)\n				Facebook\n			\n				Share on X (Opens in new window)\n				X\n			\n				Share on WhatsApp (Opens in new window)\n				WhatsApp\n			\n				Share on Pinterest (Opens in new window)\n				Pinterest\n			\n				Share on LinkedIn (Opens in new window)\n				LinkedIn
URL:https://georgiapickleballtournaments.com/event/world-pickleball-tour-atlanta-open/
LOCATION:ITA Atlanta\, 3110 Presidential Dr\, Atlanta\, 30340\, United States
CATEGORIES:Georgia
ATTACH;FMTTYPE=image/jpeg:https://georgiapickleballtournaments.com/wp-content/uploads/2024/12/20250502a.jpg
END:VEVENT
BEGIN:VEVENT
DTSTART;VALUE=DATE:20250502
DTEND;VALUE=DATE:20250505
DTSTAMP:20260422T200629
CREATED:20250327T135915Z
LAST-MODIFIED:20250327T135915Z
UID:10000230-1746144000-1746403199@georgiapickleballtournaments.com
SUMMARY:Almost Cinco de Mayo Tournament
DESCRIPTION:⏺️••”Almost Cinco de Mayo Tournament”\nPickleball tournament in Hoschton\, GA\nOrganized by: Del Webb Pickleball Club \nShare this:\n				Share on Facebook (Opens in new window)\n				Facebook\n			\n				Share on X (Opens in new window)\n				X\n			\n				Share on WhatsApp (Opens in new window)\n				WhatsApp\n			\n				Share on Pinterest (Opens in new window)\n				Pinterest\n			\n				Share on LinkedIn (Opens in new window)\n				LinkedIn
URL:https://georgiapickleballtournaments.com/event/almost-cinco-de-mayo-tournament/
LOCATION:Del Webb Chateau Elan\, 5575 Napa Ridge Road\, Hoschton\, 30548\, United States
CATEGORIES:Georgia
ATTACH;FMTTYPE=image/jpeg:https://georgiapickleballtournaments.com/wp-content/uploads/2025/03/20250502d.jpg
END:VEVENT
BEGIN:VEVENT
DTSTART;VALUE=DATE:20250503
DTEND;VALUE=DATE:20250505
DTSTAMP:20260422T200629
CREATED:20250120T025013Z
LAST-MODIFIED:20250120T025013Z
UID:10000165-1746230400-1746403199@georgiapickleballtournaments.com
SUMMARY:South Georgia Smash
DESCRIPTION:⏺️••”South Georgia Smash”\nPickleball tournament in Valdosta\, GA\nOrganized by: Pickleball in Valdosta \nShare this:\n				Share on Facebook (Opens in new window)\n				Facebook\n			\n				Share on X (Opens in new window)\n				X\n			\n				Share on WhatsApp (Opens in new window)\n				WhatsApp\n			\n				Share on Pinterest (Opens in new window)\n				Pinterest\n			\n				Share on LinkedIn (Opens in new window)\n				LinkedIn
URL:https://georgiapickleballtournaments.com/event/south-georgia-smash/
LOCATION:McKey Park\, 812 Burton St\, Valdosta\, 31601\, United States
CATEGORIES:Georgia
ATTACH;FMTTYPE=image/jpeg:https://georgiapickleballtournaments.com/wp-content/uploads/2025/01/20250503a.jpg
END:VEVENT
BEGIN:VEVENT
DTSTART;VALUE=DATE:20250503
DTEND;VALUE=DATE:20250505
DTSTAMP:20260422T200629
CREATED:20250319T212739Z
LAST-MODIFIED:20250319T212739Z
UID:10000210-1746230400-1746403199@georgiapickleballtournaments.com
SUMMARY:Dinko de Mayo in Rome
DESCRIPTION:⏺️••”Dinko de Mayo in Rome”\nPickleball tournament in Rome\, GA\nOrganized by: Southern Pickleball \nShare this:\n				Share on Facebook (Opens in new window)\n				Facebook\n			\n				Share on X (Opens in new window)\n				X\n			\n				Share on WhatsApp (Opens in new window)\n				WhatsApp\n			\n				Share on Pinterest (Opens in new window)\n				Pinterest\n			\n				Share on LinkedIn (Opens in new window)\n				LinkedIn
URL:https://georgiapickleballtournaments.com/event/dinko-de-mayo-in-rome/
LOCATION:Rome Downtown Racquets Center\, 301 W 3rd St\, Rome\, GA\, 30165\, United States
CATEGORIES:Georgia
ATTACH;FMTTYPE=image/jpeg:https://georgiapickleballtournaments.com/wp-content/uploads/2025/03/20250503b-1.jpg
END:VEVENT
BEGIN:VEVENT
DTSTART;VALUE=DATE:20250503
DTEND;VALUE=DATE:20250505
DTSTAMP:20260422T200629
CREATED:20250319T224026Z
LAST-MODIFIED:20250319T224026Z
UID:10000211-1746230400-1746403199@georgiapickleballtournaments.com
SUMMARY:Dinko de Mayo in Macon
DESCRIPTION:⏺️••”Dinko de Mayo in Macon”\nPickleball tournament in Macon\, GA\nOrganized by: Southern Pickleball \nShare this:\n				Share on Facebook (Opens in new window)\n				Facebook\n			\n				Share on X (Opens in new window)\n				X\n			\n				Share on WhatsApp (Opens in new window)\n				WhatsApp\n			\n				Share on Pinterest (Opens in new window)\n				Pinterest\n			\n				Share on LinkedIn (Opens in new window)\n				LinkedIn
URL:https://georgiapickleballtournaments.com/event/dinko-de-mayo-in-macon/
LOCATION:Tattnall Pickleball Center\, 1155 College Street\, Macon\, 31201\, United States
CATEGORIES:Georgia
ATTACH;FMTTYPE=image/jpeg:https://georgiapickleballtournaments.com/wp-content/uploads/2025/03/20250503c.jpg
END:VEVENT
END:VCALENDAR