BEGIN:VCALENDAR
VERSION:2.0
PRODID:-//Georgia Pickleball Tournaments - ECPv6.15.20//NONSGML v1.0//EN
CALSCALE:GREGORIAN
METHOD:PUBLISH
X-ORIGINAL-URL:https://georgiapickleballtournaments.com
X-WR-CALDESC:Events for Georgia Pickleball Tournaments
REFRESH-INTERVAL;VALUE=DURATION:PT1H
X-Robots-Tag:noindex
X-PUBLISHED-TTL:PT1H
BEGIN:VTIMEZONE
TZID:America/New_York
BEGIN:DAYLIGHT
TZOFFSETFROM:-0500
TZOFFSETTO:-0400
TZNAME:EDT
DTSTART:20240310T070000
END:DAYLIGHT
BEGIN:STANDARD
TZOFFSETFROM:-0400
TZOFFSETTO:-0500
TZNAME:EST
DTSTART:20241103T060000
END:STANDARD
BEGIN:DAYLIGHT
TZOFFSETFROM:-0500
TZOFFSETTO:-0400
TZNAME:EDT
DTSTART:20250309T070000
END:DAYLIGHT
BEGIN:STANDARD
TZOFFSETFROM:-0400
TZOFFSETTO:-0500
TZNAME:EST
DTSTART:20251102T060000
END:STANDARD
BEGIN:DAYLIGHT
TZOFFSETFROM:-0500
TZOFFSETTO:-0400
TZNAME:EDT
DTSTART:20260308T070000
END:DAYLIGHT
BEGIN:STANDARD
TZOFFSETFROM:-0400
TZOFFSETTO:-0500
TZNAME:EST
DTSTART:20261101T060000
END:STANDARD
END:VTIMEZONE
BEGIN:VTIMEZONE
TZID:UTC
BEGIN:STANDARD
TZOFFSETFROM:+0000
TZOFFSETTO:+0000
TZNAME:UTC
DTSTART:20240101T000000
END:STANDARD
END:VTIMEZONE
BEGIN:VEVENT
DTSTART;VALUE=DATE:20250424
DTEND;VALUE=DATE:20250428
DTSTAMP:20260422T213439
CREATED:20250325T042238Z
LAST-MODIFIED:20250325T042238Z
UID:10000215-1745452800-1745798399@georgiapickleballtournaments.com
SUMMARY:Life Time Spring Classic at Sugarloaf
DESCRIPTION:⏺️••”Life Time Spring Classic at Sugarloaf”\nPickleball tournament in Lawrenceville\, GA\nOrganized by: Life Time Sugarloaf \nShare this:\n				Share on Facebook (Opens in new window)\n				Facebook\n			\n				Share on X (Opens in new window)\n				X\n			\n				Share on WhatsApp (Opens in new window)\n				WhatsApp\n			\n				Share on Pinterest (Opens in new window)\n				Pinterest\n			\n				Share on LinkedIn (Opens in new window)\n				LinkedIn
URL:https://georgiapickleballtournaments.com/event/life-time-spring-classic-at-sugarloaf/
LOCATION:Life Time Sugarloaf\, 1823 N Brown Rd\, Lawrenceville\, 30043\, United States
CATEGORIES:Georgia
ATTACH;FMTTYPE=image/jpeg:https://georgiapickleballtournaments.com/wp-content/uploads/2025/03/20250424a.jpg
END:VEVENT
BEGIN:VEVENT
DTSTART;VALUE=DATE:20250425
DTEND;VALUE=DATE:20250426
DTSTAMP:20260422T213439
CREATED:20250224T101345Z
LAST-MODIFIED:20250224T101649Z
UID:10000204-1745539200-1745625599@georgiapickleballtournaments.com
SUMMARY:2025 Andee's Army Pickleball Event
DESCRIPTION:⏺️••”2025 Andee’s Army Pickleball Event”\nPickleball tournament in Atlanta\, GA\nOrganized by: Andee’s Army \nShare this:\n				Share on Facebook (Opens in new window)\n				Facebook\n			\n				Share on X (Opens in new window)\n				X\n			\n				Share on WhatsApp (Opens in new window)\n				WhatsApp\n			\n				Share on Pinterest (Opens in new window)\n				Pinterest\n			\n				Share on LinkedIn (Opens in new window)\n				LinkedIn
URL:https://georgiapickleballtournaments.com/event/2025-andees-army-pickleball-event/
LOCATION:Painted Pickle\, 279 Ottley Drive\, Atlanta\, 30324\, United States
CATEGORIES:Georgia,Non-for-Profit
ATTACH;FMTTYPE=image/jpeg:https://georgiapickleballtournaments.com/wp-content/uploads/2025/02/20250425b.jpg
END:VEVENT
BEGIN:VEVENT
DTSTART;VALUE=DATE:20250425
DTEND;VALUE=DATE:20250428
DTSTAMP:20260422T213439
CREATED:20241221T214621Z
LAST-MODIFIED:20241221T214655Z
UID:10000130-1745539200-1745798399@georgiapickleballtournaments.com
SUMMARY:Georgia Mountain Pickleball Spring Classic 2025
DESCRIPTION:⏺️••”Georgia Mountain Pickleball Spring Classic 2025″\nPickleball tournament in Hiawassee\, GA\nOrganized by: Georgia Mountain Pickleball \nShare this:\n				Share on Facebook (Opens in new window)\n				Facebook\n			\n				Share on X (Opens in new window)\n				X\n			\n				Share on WhatsApp (Opens in new window)\n				WhatsApp\n			\n				Share on Pinterest (Opens in new window)\n				Pinterest\n			\n				Share on LinkedIn (Opens in new window)\n				LinkedIn
URL:https://georgiapickleballtournaments.com/event/georgia-mountain-pickleball-spring-classic-2025/
LOCATION:Towns County Pickleball Complex\, 800 US Highway 76\, Hiawassee\, 30546\, United States
CATEGORIES:Georgia
ATTACH;FMTTYPE=image/jpeg:https://georgiapickleballtournaments.com/wp-content/uploads/2024/12/20250425a.jpg
END:VEVENT
BEGIN:VEVENT
DTSTART;VALUE=DATE:20250425
DTEND;VALUE=DATE:20250428
DTSTAMP:20260422T213439
CREATED:20250319T095939Z
LAST-MODIFIED:20250319T095939Z
UID:10000209-1745539200-1745798399@georgiapickleballtournaments.com
SUMMARY:RNB $4000 Moneyball
DESCRIPTION:⏺️••”RNB $4000 Moneyball”\nPickleball tournament in Lawrenceville\, GA\nOrganized by: RNB TENNIS \nShare this:\n				Share on Facebook (Opens in new window)\n				Facebook\n			\n				Share on X (Opens in new window)\n				X\n			\n				Share on WhatsApp (Opens in new window)\n				WhatsApp\n			\n				Share on Pinterest (Opens in new window)\n				Pinterest\n			\n				Share on LinkedIn (Opens in new window)\n				LinkedIn
URL:https://georgiapickleballtournaments.com/event/rnb-4000-moneyball/
LOCATION:Rhodes Jordan Tennis Center\, 100 E Crogan St\, Lawrenceville\, 30046\, United States
CATEGORIES:Georgia
ATTACH;FMTTYPE=image/jpeg:https://georgiapickleballtournaments.com/wp-content/uploads/2025/03/20250425C.jpg
END:VEVENT
BEGIN:VEVENT
DTSTART;VALUE=DATE:20250425
DTEND;VALUE=DATE:20250428
DTSTAMP:20260422T213439
CREATED:20250325T043339Z
LAST-MODIFIED:20250325T043339Z
UID:10000216-1745539200-1745798399@georgiapickleballtournaments.com
SUMMARY:Life Time Spring Classic Peachtree Corners
DESCRIPTION:⏺️••”Life Time Spring Classic Peachtree Corners”\nPickleball tournament in Peachtree Corners\, GA\nOrganized by: Life Time Peachtree Corners \nShare this:\n				Share on Facebook (Opens in new window)\n				Facebook\n			\n				Share on X (Opens in new window)\n				X\n			\n				Share on WhatsApp (Opens in new window)\n				WhatsApp\n			\n				Share on Pinterest (Opens in new window)\n				Pinterest\n			\n				Share on LinkedIn (Opens in new window)\n				LinkedIn
URL:https://georgiapickleballtournaments.com/event/life-time-spring-classic-peachtree-corners/
LOCATION:Life Time Peachtree Corners\, 6350 Courtside Dr NW\, Peachtree Corners\, 30092\, United States
CATEGORIES:Georgia
ATTACH;FMTTYPE=image/jpeg:https://georgiapickleballtournaments.com/wp-content/uploads/2025/03/20250425d.jpg
END:VEVENT
BEGIN:VEVENT
DTSTART;VALUE=DATE:20250425
DTEND;VALUE=DATE:20250428
DTSTAMP:20260422T213439
CREATED:20250325T045518Z
LAST-MODIFIED:20250325T045518Z
UID:10000217-1745539200-1745798399@georgiapickleballtournaments.com
SUMMARY:MTP 2025 April Moneyball
DESCRIPTION:⏺️••”MTP 2025 April Moneyball”\nPickleball tournament in Buford\, GA\nOrganized by: More Than Pickleball – Buford\, GA \nShare this:\n				Share on Facebook (Opens in new window)\n				Facebook\n			\n				Share on X (Opens in new window)\n				X\n			\n				Share on WhatsApp (Opens in new window)\n				WhatsApp\n			\n				Share on Pinterest (Opens in new window)\n				Pinterest\n			\n				Share on LinkedIn (Opens in new window)\n				LinkedIn
URL:https://georgiapickleballtournaments.com/event/mtp-2025-april-moneyball/
LOCATION:More Than Pickleball\, 3230 Woodward Crossing Blvd\, Buford\, GA\, 30519\, United States
CATEGORIES:Georgia
ATTACH;FMTTYPE=image/jpeg:https://georgiapickleballtournaments.com/wp-content/uploads/2025/03/20250425e.jpg
ORGANIZER;CN="More Than Pickleball Team":MAILTO:info@morethanpball.com
END:VEVENT
BEGIN:VEVENT
DTSTART;VALUE=DATE:20250426
DTEND;VALUE=DATE:20250427
DTSTAMP:20260422T213439
CREATED:20250223T233645Z
LAST-MODIFIED:20250223T233645Z
UID:10000195-1745625600-1745711999@georgiapickleballtournaments.com
SUMMARY:Save our Seniors Slam
DESCRIPTION:⏺️••”Save our Seniors Slam”\nPickleball tournament in Dacula\, GA\nOrganized by: Mending The Gap \nShare this:\n				Share on Facebook (Opens in new window)\n				Facebook\n			\n				Share on X (Opens in new window)\n				X\n			\n				Share on WhatsApp (Opens in new window)\n				WhatsApp\n			\n				Share on Pinterest (Opens in new window)\n				Pinterest\n			\n				Share on LinkedIn (Opens in new window)\n				LinkedIn
URL:https://georgiapickleballtournaments.com/event/save-our-seniors-slam/
LOCATION:Apalachee’s Farms\, 1001 Dacula Rd\, Dacula\, 30019\, United States
CATEGORIES:Georgia,Non-for-Profit
ATTACH;FMTTYPE=image/jpeg:https://georgiapickleballtournaments.com/wp-content/uploads/2025/02/20250426c.jpg
END:VEVENT
BEGIN:VEVENT
DTSTART;VALUE=DATE:20250426
DTEND;VALUE=DATE:20250427
DTSTAMP:20260422T213439
CREATED:20250319T005004Z
LAST-MODIFIED:20250319T005004Z
UID:10000205-1745625600-1745711999@georgiapickleballtournaments.com
SUMMARY:Dinks for Dave
DESCRIPTION:⏺️••”Dinks for Dave”\nPickleball tournament in Jonesboro\, GA\nOrganized by: The Dave Krache Foundation \nShare this:\n				Share on Facebook (Opens in new window)\n				Facebook\n			\n				Share on X (Opens in new window)\n				X\n			\n				Share on WhatsApp (Opens in new window)\n				WhatsApp\n			\n				Share on Pinterest (Opens in new window)\n				Pinterest\n			\n				Share on LinkedIn (Opens in new window)\n				LinkedIn
URL:https://georgiapickleballtournaments.com/event/dinks-for-dave/
LOCATION:Clayton County Tennis Center\, 2300 Hwy 138 SE\, Jonesboro\, 30236\, United States
CATEGORIES:Georgia,Non-for-Profit
ATTACH;FMTTYPE=image/jpeg:https://georgiapickleballtournaments.com/wp-content/uploads/2025/03/20250426d.jpg
END:VEVENT
BEGIN:VEVENT
DTSTART;VALUE=DATE:20250426
DTEND;VALUE=DATE:20250428
DTSTAMP:20260422T213439
CREATED:20250115T200939Z
LAST-MODIFIED:20250115T200939Z
UID:10000153-1745625600-1745798399@georgiapickleballtournaments.com
SUMMARY:International City Invitational
DESCRIPTION:⏺️••”International City Invitational”\nPickleball tournament in Bonaire\, GA\nOrganized by: Warner Robins Pickleball Association \nShare this:\n				Share on Facebook (Opens in new window)\n				Facebook\n			\n				Share on X (Opens in new window)\n				X\n			\n				Share on WhatsApp (Opens in new window)\n				WhatsApp\n			\n				Share on Pinterest (Opens in new window)\n				Pinterest\n			\n				Share on LinkedIn (Opens in new window)\n				LinkedIn
URL:https://georgiapickleballtournaments.com/event/international-city-invitational/
LOCATION:Ted Wright Park\, 2841 Moody Road\, Bonaire\, 31005\, United States
CATEGORIES:Georgia
ATTACH;FMTTYPE=image/jpeg:https://georgiapickleballtournaments.com/wp-content/uploads/2025/01/20250426a.jpg
ORGANIZER;CN="Warner Robins Pickleball Association":MAILTO:warnerrobinspickleball@gmail.com
END:VEVENT
BEGIN:VEVENT
DTSTART;VALUE=DATE:20250426
DTEND;VALUE=DATE:20250428
DTSTAMP:20260422T213439
CREATED:20250116T113011Z
LAST-MODIFIED:20250116T113011Z
UID:10000161-1745625600-1745798399@georgiapickleballtournaments.com
SUMMARY:Rock'n The HOP 2025
DESCRIPTION:⏺️••”Rock’n The HOP 2025″\nPickleball tournament in Newnan\, GA\nOrganized by: Southern Pickleball \nShare this:\n				Share on Facebook (Opens in new window)\n				Facebook\n			\n				Share on X (Opens in new window)\n				X\n			\n				Share on WhatsApp (Opens in new window)\n				WhatsApp\n			\n				Share on Pinterest (Opens in new window)\n				Pinterest\n			\n				Share on LinkedIn (Opens in new window)\n				LinkedIn
URL:https://georgiapickleballtournaments.com/event/rockn-the-hop-2025/
LOCATION:The House of Pickleball\, 4 Joseph-Hannah Blvd\, Newnan\, 30263\, United States
CATEGORIES:Georgia
ATTACH;FMTTYPE=image/jpeg:https://georgiapickleballtournaments.com/wp-content/uploads/2025/01/20250426b.jpg
END:VEVENT
BEGIN:VEVENT
DTSTART;VALUE=DATE:20250426
DTEND;VALUE=DATE:20250428
DTSTAMP:20260422T213439
CREATED:20250327T132912Z
LAST-MODIFIED:20250327T132941Z
UID:10000229-1745625600-1745798399@georgiapickleballtournaments.com
SUMMARY:Play for Good - Play for Sheff
DESCRIPTION:⏺️••”Play for Good – Play for Sheff”\nPickleball tournament in Alpharetta\, GA\nOrganized by: North Fulton Community Charities \nShare this:\n				Share on Facebook (Opens in new window)\n				Facebook\n			\n				Share on X (Opens in new window)\n				X\n			\n				Share on WhatsApp (Opens in new window)\n				WhatsApp\n			\n				Share on Pinterest (Opens in new window)\n				Pinterest\n			\n				Share on LinkedIn (Opens in new window)\n				LinkedIn
URL:https://georgiapickleballtournaments.com/event/play-for-good-play-for-sheff/
LOCATION:Alpharetta North Park North Tennis and Pickleball Center\, 13450 Cogburn Rd\, Alpharetta\, GA\, 30004\, United States
CATEGORIES:Georgia,Non-for-Profit
ATTACH;FMTTYPE=image/jpeg:https://georgiapickleballtournaments.com/wp-content/uploads/2025/03/20250426e.jpg
END:VEVENT
END:VCALENDAR