BEGIN:VCALENDAR
VERSION:2.0
PRODID:-//Georgia Pickleball Tournaments - ECPv6.15.20//NONSGML v1.0//EN
CALSCALE:GREGORIAN
METHOD:PUBLISH
X-WR-CALNAME:Georgia Pickleball Tournaments
X-ORIGINAL-URL:https://georgiapickleballtournaments.com
X-WR-CALDESC:Events for Georgia Pickleball Tournaments
REFRESH-INTERVAL;VALUE=DURATION:PT1H
X-Robots-Tag:noindex
X-PUBLISHED-TTL:PT1H
BEGIN:VTIMEZONE
TZID:America/New_York
BEGIN:DAYLIGHT
TZOFFSETFROM:-0500
TZOFFSETTO:-0400
TZNAME:EDT
DTSTART:20240310T070000
END:DAYLIGHT
BEGIN:STANDARD
TZOFFSETFROM:-0400
TZOFFSETTO:-0500
TZNAME:EST
DTSTART:20241103T060000
END:STANDARD
BEGIN:DAYLIGHT
TZOFFSETFROM:-0500
TZOFFSETTO:-0400
TZNAME:EDT
DTSTART:20250309T070000
END:DAYLIGHT
BEGIN:STANDARD
TZOFFSETFROM:-0400
TZOFFSETTO:-0500
TZNAME:EST
DTSTART:20251102T060000
END:STANDARD
BEGIN:DAYLIGHT
TZOFFSETFROM:-0500
TZOFFSETTO:-0400
TZNAME:EDT
DTSTART:20260308T070000
END:DAYLIGHT
BEGIN:STANDARD
TZOFFSETFROM:-0400
TZOFFSETTO:-0500
TZNAME:EST
DTSTART:20261101T060000
END:STANDARD
END:VTIMEZONE
BEGIN:VTIMEZONE
TZID:UTC
BEGIN:STANDARD
TZOFFSETFROM:+0000
TZOFFSETTO:+0000
TZNAME:UTC
DTSTART:20240101T000000
END:STANDARD
END:VTIMEZONE
BEGIN:VEVENT
DTSTART;VALUE=DATE:20250404
DTEND;VALUE=DATE:20250406
DTSTAMP:20260423T005349
CREATED:20250223T164355Z
LAST-MODIFIED:20250223T164417Z
UID:10000192-1743724800-1743897599@georgiapickleballtournaments.com
SUMMARY:Pickling with my Peeps
DESCRIPTION:⏺️••”Pickling with my Peeps”\nPickleball tournament in Gray\, GA\nOrganized by: Jones County Pickleball \nShare this:\n				Share on Facebook (Opens in new window)\n				Facebook\n			\n				Share on X (Opens in new window)\n				X\n			\n				Share on WhatsApp (Opens in new window)\n				WhatsApp\n			\n				Share on Pinterest (Opens in new window)\n				Pinterest\n			\n				Share on LinkedIn (Opens in new window)\n				LinkedIn
URL:https://georgiapickleballtournaments.com/event/pickling-with-my-peeps/
LOCATION:Morris Bank Recreation Complex\, 166 Recreation Rd\, Gray\, 31032\, United States
CATEGORIES:Georgia
ATTACH;FMTTYPE=image/jpeg:https://georgiapickleballtournaments.com/wp-content/uploads/2025/02/20250404c.jpg
END:VEVENT
BEGIN:VEVENT
DTSTART;VALUE=DATE:20250404
DTEND;VALUE=DATE:20250407
DTSTAMP:20260423T005349
CREATED:20250115T103245Z
LAST-MODIFIED:20250115T103308Z
UID:10000150-1743724800-1743983999@georgiapickleballtournaments.com
SUMMARY:Doc Holliday Shootout 2025
DESCRIPTION:⏺️••”Doc Holliday Shootout 2025″\nPickleball tournament in Griffin\, GA\nOrganized by: Spalding County Pickleball Association \nShare this:\n				Share on Facebook (Opens in new window)\n				Facebook\n			\n				Share on X (Opens in new window)\n				X\n			\n				Share on WhatsApp (Opens in new window)\n				WhatsApp\n			\n				Share on Pinterest (Opens in new window)\n				Pinterest\n			\n				Share on LinkedIn (Opens in new window)\n				LinkedIn
URL:https://georgiapickleballtournaments.com/event/doc-holliday-shootout-2025/
LOCATION:Wyomia Tyus Olympic Park\, 1301 Cowan Rd\, Griffin\, 30223\, United States
CATEGORIES:Georgia
ATTACH;FMTTYPE=image/jpeg:https://georgiapickleballtournaments.com/wp-content/uploads/2025/01/20250404a.jpg
ORGANIZER;CN="Spalding County Pickleball Association":MAILTO:spaldingpickleball@gmail.com
END:VEVENT
BEGIN:VEVENT
DTSTART;VALUE=DATE:20250404
DTEND;VALUE=DATE:20250407
DTSTAMP:20260423T005349
CREATED:20250115T111200Z
LAST-MODIFIED:20250115T111200Z
UID:10000151-1743724800-1743983999@georgiapickleballtournaments.com
SUMMARY:Savannah Open 2025
DESCRIPTION:⏺️••”Savannah Open 2025″\nPickleball tournament in Savannah\, GA\nOrganized by: The Savannah Golf Club \nShare this:\n				Share on Facebook (Opens in new window)\n				Facebook\n			\n				Share on X (Opens in new window)\n				X\n			\n				Share on WhatsApp (Opens in new window)\n				WhatsApp\n			\n				Share on Pinterest (Opens in new window)\n				Pinterest\n			\n				Share on LinkedIn (Opens in new window)\n				LinkedIn
URL:https://georgiapickleballtournaments.com/event/savannah-open-2025/
LOCATION:Savannah Golf Club\, 1661 East President Street\, Savannah\, GA\, 31404\, United States
CATEGORIES:Georgia
ATTACH;FMTTYPE=image/jpeg:https://georgiapickleballtournaments.com/wp-content/uploads/2025/01/20250404b.jpg
END:VEVENT
BEGIN:VEVENT
DTSTART;VALUE=DATE:20250405
DTEND;VALUE=DATE:20250406
DTSTAMP:20260423T005349
CREATED:20250319T010736Z
LAST-MODIFIED:20250319T010736Z
UID:10000206-1743811200-1743897599@georgiapickleballtournaments.com
SUMMARY:AR7 Part 3 Tournament
DESCRIPTION:⏺️••”AR7 Part 3 Tournament”\nPickleball tournament in Jackson\, GA\nOrganized by: AR 7 Soccer Training Facility \nShare this:\n				Share on Facebook (Opens in new window)\n				Facebook\n			\n				Share on X (Opens in new window)\n				X\n			\n				Share on WhatsApp (Opens in new window)\n				WhatsApp\n			\n				Share on Pinterest (Opens in new window)\n				Pinterest\n			\n				Share on LinkedIn (Opens in new window)\n				LinkedIn
URL:https://georgiapickleballtournaments.com/event/ar7-part-3-tournament/
LOCATION:AR 7 SOCCER TRAINING FACILITY\, 101 A Sherrell Ave\, Jackson\, 30233\, United States
CATEGORIES:Georgia
ATTACH;FMTTYPE=image/jpeg:https://georgiapickleballtournaments.com/wp-content/uploads/2025/03/20250405b.jpg
END:VEVENT
BEGIN:VEVENT
DTSTART;VALUE=DATE:20250405
DTEND;VALUE=DATE:20250407
DTSTAMP:20260423T005349
CREATED:20241221T205532Z
LAST-MODIFIED:20241221T205552Z
UID:10000129-1743811200-1743983999@georgiapickleballtournaments.com
SUMMARY:5th Annual Shamrock Smash
DESCRIPTION:⏺️••”5th Annual Shamrock Smash”\nPickleball tournament in Dublin\, GA\nOrganized by: Dublin Georgia Pickleball Association \nShare this:\n				Share on Facebook (Opens in new window)\n				Facebook\n			\n				Share on X (Opens in new window)\n				X\n			\n				Share on WhatsApp (Opens in new window)\n				WhatsApp\n			\n				Share on Pinterest (Opens in new window)\n				Pinterest\n			\n				Share on LinkedIn (Opens in new window)\n				LinkedIn
URL:https://georgiapickleballtournaments.com/event/5th-annual-shamrock-smash/
LOCATION:Southern PInes Recreational Complex\, 575 Southern Pine Rd\, Dublin\, 31021\, United States
CATEGORIES:Georgia,Non-for-Profit
ATTACH;FMTTYPE=image/jpeg:https://georgiapickleballtournaments.com/wp-content/uploads/2024/12/20250405a.jpg
END:VEVENT
END:VCALENDAR