BEGIN:VCALENDAR
VERSION:2.0
PRODID:-//Georgia Pickleball Tournaments - ECPv6.15.20//NONSGML v1.0//EN
CALSCALE:GREGORIAN
METHOD:PUBLISH
X-ORIGINAL-URL:https://georgiapickleballtournaments.com
X-WR-CALDESC:Events for Georgia Pickleball Tournaments
REFRESH-INTERVAL;VALUE=DURATION:PT1H
X-Robots-Tag:noindex
X-PUBLISHED-TTL:PT1H
BEGIN:VTIMEZONE
TZID:UTC
BEGIN:STANDARD
TZOFFSETFROM:+0000
TZOFFSETTO:+0000
TZNAME:UTC
DTSTART:20230101T000000
END:STANDARD
END:VTIMEZONE
BEGIN:VEVENT
DTSTART;VALUE=DATE:20241108
DTEND;VALUE=DATE:20241111
DTSTAMP:20260423T041113
CREATED:20240611T073304Z
LAST-MODIFIED:20240611T074959Z
UID:10000090-1731024000-1731283199@georgiapickleballtournaments.com
SUMMARY:3rd Annual Toys for Tots
DESCRIPTION:⏺️••”3rd Annual Toys for Tots”\nPickleball tournament in Canton\, GA\nOrganized by: DAB Pickleball \nShare this:\n				Share on Facebook (Opens in new window)\n				Facebook\n			\n				Share on X (Opens in new window)\n				X\n			\n				Share on WhatsApp (Opens in new window)\n				WhatsApp\n			\n				Share on Pinterest (Opens in new window)\n				Pinterest\n			\n				Share on LinkedIn (Opens in new window)\n				LinkedIn
URL:https://georgiapickleballtournaments.com/event/3rd-annual-toys-for-tots/
LOCATION:BridgeMill Athletic Club\, 1180 Bridgemill Ave\, Canton\, GA\, United States
CATEGORIES:Georgia
ATTACH;FMTTYPE=image/jpeg:https://georgiapickleballtournaments.com/wp-content/uploads/2024/06/20241108a.jpg
ORGANIZER;CN="DAB Pickleball":MAILTO:pickleball@dinkinandbangin.com
END:VEVENT
END:VCALENDAR