BEGIN:VCALENDAR
VERSION:2.0
PRODID:-//Georgia Pickleball Tournaments - ECPv6.15.20//NONSGML v1.0//EN
CALSCALE:GREGORIAN
METHOD:PUBLISH
X-ORIGINAL-URL:https://georgiapickleballtournaments.com
X-WR-CALDESC:Events for Georgia Pickleball Tournaments
REFRESH-INTERVAL;VALUE=DURATION:PT1H
X-Robots-Tag:noindex
X-PUBLISHED-TTL:PT1H
BEGIN:VTIMEZONE
TZID:UTC
BEGIN:STANDARD
TZOFFSETFROM:+0000
TZOFFSETTO:+0000
TZNAME:UTC
DTSTART:20230101T000000
END:STANDARD
END:VTIMEZONE
BEGIN:VEVENT
DTSTART;VALUE=DATE:20241025
DTEND;VALUE=DATE:20241028
DTSTAMP:20260423T123330
CREATED:20240619T055103Z
LAST-MODIFIED:20240619T065206Z
UID:10000099-1729814400-1730073599@georgiapickleballtournaments.com
SUMMARY:5th Annual Monster Mash and Bash
DESCRIPTION:⏺️••”5th Annual Monster Mash and Bash”\nPickleball tournament in Newnan\, GA\nOrganized by: Southern Pickleball \nAll medal winners will qualify for the Southern Championships in January 2025 which will be held at Macon\, GA’s Rhythm and Rally – the world’s largest indoor pickleball facility. \nShare this:\n				Share on Facebook (Opens in new window)\n				Facebook\n			\n				Share on X (Opens in new window)\n				X\n			\n				Share on WhatsApp (Opens in new window)\n				WhatsApp\n			\n				Share on Pinterest (Opens in new window)\n				Pinterest\n			\n				Share on LinkedIn (Opens in new window)\n				LinkedIn
URL:https://georgiapickleballtournaments.com/event/5th-annual-monster-mash-and-bash/
LOCATION:House of Pickleball\, 4 Joseph Hannah Blvd\, Newnan\, 30263\, United States
CATEGORIES:Georgia
ATTACH;FMTTYPE=image/jpeg:https://georgiapickleballtournaments.com/wp-content/uploads/2024/06/20241025a.jpg
END:VEVENT
BEGIN:VEVENT
DTSTART;VALUE=DATE:20241026
DTEND;VALUE=DATE:20241028
DTSTAMP:20260423T123330
CREATED:20240516T153738Z
LAST-MODIFIED:20240516T154538Z
UID:10000070-1729900800-1730073599@georgiapickleballtournaments.com
SUMMARY:Woodstock Lions Club Fall Pickleball Jamboree
DESCRIPTION:⏺️••”Woodstock Lions Club Fall Pickleball Jamboree” \nPickleball tournament in Woodstock\, GA \nOrganized by: Woodstock Lions Club Pickleball Jamboree \nShare this:\n				Share on Facebook (Opens in new window)\n				Facebook\n			\n				Share on X (Opens in new window)\n				X\n			\n				Share on WhatsApp (Opens in new window)\n				WhatsApp\n			\n				Share on Pinterest (Opens in new window)\n				Pinterest\n			\n				Share on LinkedIn (Opens in new window)\n				LinkedIn
URL:https://georgiapickleballtournaments.com/event/woodstock-lions-club-fall-pickleball-jamboree/
LOCATION:Dupree Park\, 513 Neese Rd\, Woodstock\, 30188\, United States
CATEGORIES:Georgia
ATTACH;FMTTYPE=image/jpeg:https://georgiapickleballtournaments.com/wp-content/uploads/2024/05/20241026a.jpg
END:VEVENT
END:VCALENDAR