BEGIN:VCALENDAR
VERSION:2.0
PRODID:-//Georgia Pickleball Tournaments - ECPv6.15.20//NONSGML v1.0//EN
CALSCALE:GREGORIAN
METHOD:PUBLISH
X-ORIGINAL-URL:https://georgiapickleballtournaments.com
X-WR-CALDESC:Events for Georgia Pickleball Tournaments
REFRESH-INTERVAL;VALUE=DURATION:PT1H
X-Robots-Tag:noindex
X-PUBLISHED-TTL:PT1H
BEGIN:VTIMEZONE
TZID:UTC
BEGIN:STANDARD
TZOFFSETFROM:+0000
TZOFFSETTO:+0000
TZNAME:UTC
DTSTART:20230101T000000
END:STANDARD
END:VTIMEZONE
BEGIN:VEVENT
DTSTART;VALUE=DATE:20241004
DTEND;VALUE=DATE:20241007
DTSTAMP:20260423T121113
CREATED:20240516T034121Z
LAST-MODIFIED:20240516T034700Z
UID:10000065-1728000000-1728259199@georgiapickleballtournaments.com
SUMMARY:Dink 4 Pink Savannah
DESCRIPTION:⏺️••”Dink 4 Pink Savannah” \nPickleball tournament in Savannah\, GA \nOrganized by: The Savannah Golf Club \nShare this:\n				Share on Facebook (Opens in new window)\n				Facebook\n			\n				Share on X (Opens in new window)\n				X\n			\n				Share on WhatsApp (Opens in new window)\n				WhatsApp\n			\n				Share on Pinterest (Opens in new window)\n				Pinterest\n			\n				Share on LinkedIn (Opens in new window)\n				LinkedIn
URL:https://georgiapickleballtournaments.com/event/dink-4-pink-savannah/
LOCATION:Savannah Golf Club\, 1661 East President Street\, Savannah\, GA\, 31404\, United States
CATEGORIES:Georgia
ATTACH;FMTTYPE=image/jpeg:https://georgiapickleballtournaments.com/wp-content/uploads/2024/05/20241004a.jpg
END:VEVENT
BEGIN:VEVENT
DTSTART;VALUE=DATE:20241004
DTEND;VALUE=DATE:20241007
DTSTAMP:20260423T121113
CREATED:20240516T041141Z
LAST-MODIFIED:20240516T042711Z
UID:10000066-1728000000-1728259199@georgiapickleballtournaments.com
SUMMARY:Georgia Mountain Pickleball Fall Classic 2024
DESCRIPTION:⏺️••”Georgia Mountain Pickleball Fall Classic” \nPickleball tournament in Hiawassee\, GA \nOrganized by: Georgia Mountain Pickleball \nShare this:\n				Share on Facebook (Opens in new window)\n				Facebook\n			\n				Share on X (Opens in new window)\n				X\n			\n				Share on WhatsApp (Opens in new window)\n				WhatsApp\n			\n				Share on Pinterest (Opens in new window)\n				Pinterest\n			\n				Share on LinkedIn (Opens in new window)\n				LinkedIn
URL:https://georgiapickleballtournaments.com/event/georgia-mountain-pickleball-fall-classic-2024/
LOCATION:Towns County Pickleball Complex\, 800 US Highway 76\, Hiawassee\, 30546\, United States
CATEGORIES:Georgia
ATTACH;FMTTYPE=image/jpeg:https://georgiapickleballtournaments.com/wp-content/uploads/2024/05/20241004b.jpg
END:VEVENT
BEGIN:VEVENT
DTSTART;VALUE=DATE:20241004
DTEND;VALUE=DATE:20241007
DTSTAMP:20260423T121113
CREATED:20240619T074458Z
LAST-MODIFIED:20240619T081955Z
UID:10000100-1728000000-1728259199@georgiapickleballtournaments.com
SUMMARY:UTR Sports Pickleball Amateur Series – Atlanta
DESCRIPTION:⏺️••”UTR Sports Pickleball Amateur Series – Atlanta GA”\nPickleball tournament in Atlanta\, GA\nOrganized by: UTR Sports \nUTR Sports Pickleball Amateur Series – Atlanta\, GA \nUSA Pickleball MMP Sanctioned event \nBall: Franklin X-40 yellow \nUSA Pickleball Membership required \nShare this:\n				Share on Facebook (Opens in new window)\n				Facebook\n			\n				Share on X (Opens in new window)\n				X\n			\n				Share on WhatsApp (Opens in new window)\n				WhatsApp\n			\n				Share on Pinterest (Opens in new window)\n				Pinterest\n			\n				Share on LinkedIn (Opens in new window)\n				LinkedIn
URL:https://georgiapickleballtournaments.com/event/utr-sports-pickleball-amateur-series-atlanta/
LOCATION:ITA Atlanta\, 3110 Presidential Dr\, Atlanta\, 30340\, United States
CATEGORIES:Georgia
ATTACH;FMTTYPE=image/jpeg:https://georgiapickleballtournaments.com/wp-content/uploads/2024/06/20241004c.jpg
ORGANIZER;CN="UTR Sports":MAILTO:support@universaltennis.com
END:VEVENT
END:VCALENDAR