BEGIN:VCALENDAR
VERSION:2.0
PRODID:-//Georgia Pickleball Tournaments - ECPv6.15.20//NONSGML v1.0//EN
CALSCALE:GREGORIAN
METHOD:PUBLISH
X-ORIGINAL-URL:https://georgiapickleballtournaments.com
X-WR-CALDESC:Events for Georgia Pickleball Tournaments
REFRESH-INTERVAL;VALUE=DURATION:PT1H
X-Robots-Tag:noindex
X-PUBLISHED-TTL:PT1H
BEGIN:VTIMEZONE
TZID:UTC
BEGIN:STANDARD
TZOFFSETFROM:+0000
TZOFFSETTO:+0000
TZNAME:UTC
DTSTART:20230101T000000
END:STANDARD
END:VTIMEZONE
BEGIN:VEVENT
DTSTART;VALUE=DATE:20240917
DTEND;VALUE=DATE:20240920
DTSTAMP:20260423T121052
CREATED:20240515T195731Z
LAST-MODIFIED:20240515T200814Z
UID:10000061-1726531200-1726790399@georgiapickleballtournaments.com
SUMMARY:Georgia Golden Olympics - Pickleball
DESCRIPTION:⏺️••”Georgia Golden Olympics – Pickleball” \nPickleball tournament in Bonaire\, GA \nOrganized by: Georgia Golden Olympics \nShare this:\n				Share on Facebook (Opens in new window)\n				Facebook\n			\n				Share on X (Opens in new window)\n				X\n			\n				Share on WhatsApp (Opens in new window)\n				WhatsApp\n			\n				Share on Pinterest (Opens in new window)\n				Pinterest\n			\n				Share on LinkedIn (Opens in new window)\n				LinkedIn
URL:https://georgiapickleballtournaments.com/event/georgia-golden-olympics-pickleball/
LOCATION:Ted Wright Park\, 2841 Moody Road\, Bonaire\, 31005\, United States
CATEGORIES:Georgia
ATTACH;FMTTYPE=image/jpeg:https://georgiapickleballtournaments.com/wp-content/uploads/2024/05/20240917a-2.jpg
END:VEVENT
BEGIN:VEVENT
DTSTART;VALUE=DATE:20240920
DTEND;VALUE=DATE:20240923
DTSTAMP:20260423T121052
CREATED:20240608T010507Z
LAST-MODIFIED:20240608T011709Z
UID:10000085-1726790400-1727049599@georgiapickleballtournaments.com
SUMMARY:2024 BPC Picklin' for a Cause
DESCRIPTION:⏺️••”2024 BPC Picklin’ for a Cause”\nPickleball tournament in Blairsville\, GA\nOrganized by: -Blairsville Pickleball Club \nShare this:\n				Share on Facebook (Opens in new window)\n				Facebook\n			\n				Share on X (Opens in new window)\n				X\n			\n				Share on WhatsApp (Opens in new window)\n				WhatsApp\n			\n				Share on Pinterest (Opens in new window)\n				Pinterest\n			\n				Share on LinkedIn (Opens in new window)\n				LinkedIn
URL:https://georgiapickleballtournaments.com/event/2024-bpc-picklin-for-a-cause/
LOCATION:Union County Recreation Dept Pickleball Courts\, 108 Chase Drive\, Blairsville\, 30512\, United States
CATEGORIES:Georgia
ATTACH;FMTTYPE=image/jpeg:https://georgiapickleballtournaments.com/wp-content/uploads/2024/06/20240920a.jpg
END:VEVENT
BEGIN:VEVENT
DTSTART;VALUE=DATE:20240921
DTEND;VALUE=DATE:20240922
DTSTAMP:20260423T121052
CREATED:20240728T173659Z
LAST-MODIFIED:20240728T175721Z
UID:10000110-1726876800-1726963199@georgiapickleballtournaments.com
SUMMARY:Classic City Open
DESCRIPTION:⏺️••”Classic City Open”\nPickleball tournament in Watkinsville\, GA\nOrganized by: Classic City Pickleball \nShare this:\n				Share on Facebook (Opens in new window)\n				Facebook\n			\n				Share on X (Opens in new window)\n				X\n			\n				Share on WhatsApp (Opens in new window)\n				WhatsApp\n			\n				Share on Pinterest (Opens in new window)\n				Pinterest\n			\n				Share on LinkedIn (Opens in new window)\n				LinkedIn
URL:https://georgiapickleballtournaments.com/event/classic-city-open/
LOCATION:Jennings Mill Country Club Tennis Center\, Meriweather Drive\, Watkinsville\, 30677\, United States
CATEGORIES:Georgia
ATTACH;FMTTYPE=image/jpeg:https://georgiapickleballtournaments.com/wp-content/uploads/2024/07/20240921b.jpg
END:VEVENT
BEGIN:VEVENT
DTSTART;VALUE=DATE:20240921
DTEND;VALUE=DATE:20240923
DTSTAMP:20260423T121052
CREATED:20240515T224613Z
LAST-MODIFIED:20240515T230344Z
UID:10000062-1726876800-1727049599@georgiapickleballtournaments.com
SUMMARY:Midwest Food Bank Peanut Butter
DESCRIPTION:⏺️••”Midwest Food Bank” \nPickleball tournament in Griffin\, GA \nOrganized by: Southern Pickleball \nShare this:\n				Share on Facebook (Opens in new window)\n				Facebook\n			\n				Share on X (Opens in new window)\n				X\n			\n				Share on WhatsApp (Opens in new window)\n				WhatsApp\n			\n				Share on Pinterest (Opens in new window)\n				Pinterest\n			\n				Share on LinkedIn (Opens in new window)\n				LinkedIn
URL:https://georgiapickleballtournaments.com/event/midwest-food-bank-peanut-butter/
LOCATION:Wyomia Tyus Olympic Park\, 1301 Cowan Rd\, Griffin\, 30223\, United States
CATEGORIES:Georgia
ATTACH;FMTTYPE=image/jpeg:https://georgiapickleballtournaments.com/wp-content/uploads/2024/05/20240921a.jpg
END:VEVENT
BEGIN:VEVENT
DTSTART;VALUE=DATE:20240921
DTEND;VALUE=DATE:20240923
DTSTAMP:20260423T121052
CREATED:20240728T194043Z
LAST-MODIFIED:20240728T194453Z
UID:10000112-1726876800-1727049599@georgiapickleballtournaments.com
SUMMARY:Dink for Patients
DESCRIPTION:⏺️••”Dink for Patients”\nPickleball tournament in Buchanan\, GA\nOrganized by: Haralson United Pickleball Club \nShare this:\n				Share on Facebook (Opens in new window)\n				Facebook\n			\n				Share on X (Opens in new window)\n				X\n			\n				Share on WhatsApp (Opens in new window)\n				WhatsApp\n			\n				Share on Pinterest (Opens in new window)\n				Pinterest\n			\n				Share on LinkedIn (Opens in new window)\n				LinkedIn
URL:https://georgiapickleballtournaments.com/event/dink-for-patients/
LOCATION:Haralson County Recreation Dept\, 25 Recreation Lane\, Buchanan\, 30113\, United States
CATEGORIES:Georgia
ATTACH;FMTTYPE=image/jpeg:https://georgiapickleballtournaments.com/wp-content/uploads/2024/07/20240921c.jpg
END:VEVENT
END:VCALENDAR