BEGIN:VCALENDAR
VERSION:2.0
PRODID:-//Georgia Pickleball Tournaments - ECPv6.15.20//NONSGML v1.0//EN
CALSCALE:GREGORIAN
METHOD:PUBLISH
X-ORIGINAL-URL:https://georgiapickleballtournaments.com
X-WR-CALDESC:Events for Georgia Pickleball Tournaments
REFRESH-INTERVAL;VALUE=DURATION:PT1H
X-Robots-Tag:noindex
X-PUBLISHED-TTL:PT1H
BEGIN:VTIMEZONE
TZID:UTC
BEGIN:STANDARD
TZOFFSETFROM:+0000
TZOFFSETTO:+0000
TZNAME:UTC
DTSTART:20230101T000000
END:STANDARD
END:VTIMEZONE
BEGIN:VEVENT
DTSTART;VALUE=DATE:20240907
DTEND;VALUE=DATE:20240908
DTSTAMP:20260423T123324
CREATED:20240904T083341Z
LAST-MODIFIED:20240904T083341Z
UID:10000118-1725667200-1725753599@georgiapickleballtournaments.com
SUMMARY:Pickleball BSSL for Charity
DESCRIPTION:⏺️••”Pickleball BSSL for Charity”\nPickleball tournament in Canton\, GA\nOrganized by: Bridgemill Sixes Service League \nShare this:\n				Share on Facebook (Opens in new window)\n				Facebook\n			\n				Share on X (Opens in new window)\n				X\n			\n				Share on WhatsApp (Opens in new window)\n				WhatsApp\n			\n				Share on Pinterest (Opens in new window)\n				Pinterest\n			\n				Share on LinkedIn (Opens in new window)\n				LinkedIn
URL:https://georgiapickleballtournaments.com/event/pickleball-bssl-for-charity/
LOCATION:BridgeMill Athletic Club\, 1180 Bridgemill Ave\, Canton\, GA\, United States
CATEGORIES:Georgia
ATTACH;FMTTYPE=image/jpeg:https://georgiapickleballtournaments.com/wp-content/uploads/2024/09/20240907d.jpg
END:VEVENT
BEGIN:VEVENT
DTSTART;VALUE=DATE:20240907
DTEND;VALUE=DATE:20240908
DTSTAMP:20260423T123324
CREATED:20240904T084826Z
LAST-MODIFIED:20240904T085502Z
UID:10000119-1725667200-1725753599@georgiapickleballtournaments.com
SUMMARY:Youngs Grove Elementary Tournament
DESCRIPTION:⏺️••”Youngs Grove Elementary Tournament”\nPickleball tournament in Cedartown\, GA\nOrganized by: Youngs Grove Elementary School \nShare this:\n				Share on Facebook (Opens in new window)\n				Facebook\n			\n				Share on X (Opens in new window)\n				X\n			\n				Share on WhatsApp (Opens in new window)\n				WhatsApp\n			\n				Share on Pinterest (Opens in new window)\n				Pinterest\n			\n				Share on LinkedIn (Opens in new window)\n				LinkedIn
URL:https://georgiapickleballtournaments.com/event/youngs-grove-elementary-tournament/
LOCATION:Youngs Grove Elementary courts\, 601 Wooten Rd\, Cedartown\, 30125\, United States
CATEGORIES:Georgia
ATTACH;FMTTYPE=image/jpeg:https://georgiapickleballtournaments.com/wp-content/uploads/2024/09/20240907e.jpg
END:VEVENT
BEGIN:VEVENT
DTSTART;VALUE=DATE:20240907
DTEND;VALUE=DATE:20240909
DTSTAMP:20260423T123324
CREATED:20240515T183600Z
LAST-MODIFIED:20240515T190554Z
UID:10000058-1725667200-1725839999@georgiapickleballtournaments.com
SUMMARY:BMore Bash
DESCRIPTION:⏺️••”BMore Bash” \nPickleball tournament in Cumming\, GA \nOrganized by: BMore Learning \nShare this:\n				Share on Facebook (Opens in new window)\n				Facebook\n			\n				Share on X (Opens in new window)\n				X\n			\n				Share on WhatsApp (Opens in new window)\n				WhatsApp\n			\n				Share on Pinterest (Opens in new window)\n				Pinterest\n			\n				Share on LinkedIn (Opens in new window)\n				LinkedIn
URL:https://georgiapickleballtournaments.com/event/bmore-bash/
LOCATION:Coal Mountain Park\, 3560 Settingdown Road\, Cumming\, 30028\, United States
CATEGORIES:Georgia
ATTACH;FMTTYPE=image/jpeg:https://georgiapickleballtournaments.com/wp-content/uploads/2024/05/20240907a.jpg
END:VEVENT
BEGIN:VEVENT
DTSTART;VALUE=DATE:20240907
DTEND;VALUE=DATE:20240909
DTSTAMP:20260423T123324
CREATED:20240619T085148Z
LAST-MODIFIED:20240619T085148Z
UID:10000101-1725667200-1725839999@georgiapickleballtournaments.com
SUMMARY:The Southeast Amateur Open
DESCRIPTION:⏺️••”The Southeast Amateur Open”\nPickleball tournament in Atlanta\, GA\nOrganized by: Amateur Pickleball Association \nShare this:\n				Share on Facebook (Opens in new window)\n				Facebook\n			\n				Share on X (Opens in new window)\n				X\n			\n				Share on WhatsApp (Opens in new window)\n				WhatsApp\n			\n				Share on Pinterest (Opens in new window)\n				Pinterest\n			\n				Share on LinkedIn (Opens in new window)\n				LinkedIn
URL:https://georgiapickleballtournaments.com/event/the-southeast-amateur-open/
LOCATION:ITA Atlanta\, 3110 Presidential Dr\, Atlanta\, 30340\, United States
CATEGORIES:Georgia
ATTACH;FMTTYPE=image/jpeg:https://georgiapickleballtournaments.com/wp-content/uploads/2024/06/20240907b.jpg
ORGANIZER;CN="APA - Amateur Pickleball Association":MAILTO:director@APATournaments.com
END:VEVENT
BEGIN:VEVENT
DTSTART;VALUE=DATE:20240907
DTEND;VALUE=DATE:20240909
DTSTAMP:20260423T123324
CREATED:20240904T060242Z
LAST-MODIFIED:20240904T060303Z
UID:10000116-1725667200-1725839999@georgiapickleballtournaments.com
SUMMARY:Richmond Hill $2000 Tournament
DESCRIPTION:⏺️••”Richmond Hill $2000 Tournament”\nPickleball tournament in Richmond Hill\, GA\nOrganized by: United Pickleball Experience \nShare this:\n				Share on Facebook (Opens in new window)\n				Facebook\n			\n				Share on X (Opens in new window)\n				X\n			\n				Share on WhatsApp (Opens in new window)\n				WhatsApp\n			\n				Share on Pinterest (Opens in new window)\n				Pinterest\n			\n				Share on LinkedIn (Opens in new window)\n				LinkedIn
URL:https://georgiapickleballtournaments.com/event/richmond-hill-2000-tournament/
LOCATION:Richmond Hill Recreation\, 508 Timber Trail\, Richmond Hill\, 31324\, United States
CATEGORIES:Georgia
ATTACH;FMTTYPE=image/jpeg:https://georgiapickleballtournaments.com/wp-content/uploads/2024/09/20240907c.jpg
END:VEVENT
END:VCALENDAR