BEGIN:VCALENDAR
VERSION:2.0
PRODID:-//Georgia Pickleball Tournaments - ECPv6.15.20//NONSGML v1.0//EN
CALSCALE:GREGORIAN
METHOD:PUBLISH
X-ORIGINAL-URL:https://georgiapickleballtournaments.com
X-WR-CALDESC:Events for Georgia Pickleball Tournaments
REFRESH-INTERVAL;VALUE=DURATION:PT1H
X-Robots-Tag:noindex
X-PUBLISHED-TTL:PT1H
BEGIN:VTIMEZONE
TZID:UTC
BEGIN:STANDARD
TZOFFSETFROM:+0000
TZOFFSETTO:+0000
TZNAME:UTC
DTSTART:20230101T000000
END:STANDARD
END:VTIMEZONE
BEGIN:VEVENT
DTSTART;VALUE=DATE:20240830
DTEND;VALUE=DATE:20240902
DTSTAMP:20260423T160505
CREATED:20240607T171555Z
LAST-MODIFIED:20240607T172923Z
UID:10000083-1724976000-1725235199@georgiapickleballtournaments.com
SUMMARY:USSP 2024 Southeastern Zone Championship
DESCRIPTION:⏺️••”USSP 2024 Southeastern Zone Championship”\nPickleball tournament in Hoschton\, GA\nOrganized by: 𝙐𝙎 𝙎𝙀𝙉𝙄𝙊𝙍 𝙋𝙄𝘾𝙆𝙇𝙀𝘽𝘼𝙇𝙇 – 𝙐𝙎𝙎𝙋 \nShare this:\n				Share on Facebook (Opens in new window)\n				Facebook\n			\n				Share on X (Opens in new window)\n				X\n			\n				Share on WhatsApp (Opens in new window)\n				WhatsApp\n			\n				Share on Pinterest (Opens in new window)\n				Pinterest\n			\n				Share on LinkedIn (Opens in new window)\n				LinkedIn
URL:https://georgiapickleballtournaments.com/event/ussp-2024-southeastern-zone-championship/
LOCATION:Cresswind Georgia at Twin Lakes\, 11 Ontario Ln\, Hoschton\, 30548\, United States
CATEGORIES:Georgia
ATTACH;FMTTYPE=image/jpeg:https://georgiapickleballtournaments.com/wp-content/uploads/2024/06/20240830a.jpg
END:VEVENT
BEGIN:VEVENT
DTSTART;VALUE=DATE:20240831
DTEND;VALUE=DATE:20240901
DTSTAMP:20260423T160505
CREATED:20240618T210418Z
LAST-MODIFIED:20240618T211853Z
UID:10000097-1725062400-1725148799@georgiapickleballtournaments.com
SUMMARY:Pickleball Compete Seniors Only
DESCRIPTION:⏺️••”Pickleball Compete Seniors Only”\nPickleball tournament in Villa Rica\, GA\nOrganized by: Villa Rica Pickleball \nShare this:\n				Share on Facebook (Opens in new window)\n				Facebook\n			\n				Share on X (Opens in new window)\n				X\n			\n				Share on WhatsApp (Opens in new window)\n				WhatsApp\n			\n				Share on Pinterest (Opens in new window)\n				Pinterest\n			\n				Share on LinkedIn (Opens in new window)\n				LinkedIn
URL:https://georgiapickleballtournaments.com/event/pickleball-compete-seniors-only/
LOCATION:Gold Dust Park Gym\, 646 Industrial Blvd\, Villa Rica\, 30180\, United States
CATEGORIES:Georgia
ATTACH;FMTTYPE=image/jpeg:https://georgiapickleballtournaments.com/wp-content/uploads/2024/06/20240831a.jpg
ORGANIZER;CN="Pickleball Compete - VR Complete Pickleball":MAILTO:support@pickleballcompete.com
END:VEVENT
BEGIN:VEVENT
DTSTART;VALUE=DATE:20240831
DTEND;VALUE=DATE:20240901
DTSTAMP:20260423T160505
CREATED:20240728T181351Z
LAST-MODIFIED:20240728T181351Z
UID:10000111-1725062400-1725148799@georgiapickleballtournaments.com
SUMMARY:SSRC Moneyball Pickleball Cash Prize Event
DESCRIPTION:  \nFrom ORGANIZERS \nGet ready for the grand MONEYBALL PICKLEBALL CASH PRIZE EVENT on Saturday\, August 31\, 2024\, from 1-4 pm! 💰💰💰➡️ Calling all men’s\, women’s\, and mixed teams to battle it out for the cash prize in a thrilling Round Robin format. For just $40 per team member\, you could be the next pickleball champ! ➡️ Don’t miss out – spectators are welcome to witness the epic showdown at SSRC MoneyBall Pickleball. Secure your spot now and register your team to compete for a chance to win prize money! \nShare this:\n				Share on Facebook (Opens in new window)\n				Facebook\n			\n				Share on X (Opens in new window)\n				X\n			\n				Share on WhatsApp (Opens in new window)\n				WhatsApp\n			\n				Share on Pinterest (Opens in new window)\n				Pinterest\n			\n				Share on LinkedIn (Opens in new window)\n				LinkedIn
URL:https://georgiapickleballtournaments.com/event/ssrc-moneyball-pickleball-cash-prize-event/
LOCATION:Sandy Springs Racquet Center\, 500 Abernathy Rd\, Sandy Springs\, 30328\, United States
CATEGORIES:Georgia
ATTACH;FMTTYPE=image/jpeg:https://georgiapickleballtournaments.com/wp-content/uploads/2024/07/20240831b.jpg
END:VEVENT
END:VCALENDAR