BEGIN:VCALENDAR
VERSION:2.0
PRODID:-//Georgia Pickleball Tournaments - ECPv6.15.20//NONSGML v1.0//EN
CALSCALE:GREGORIAN
METHOD:PUBLISH
X-WR-CALNAME:Georgia Pickleball Tournaments
X-ORIGINAL-URL:https://georgiapickleballtournaments.com
X-WR-CALDESC:Events for Georgia Pickleball Tournaments
REFRESH-INTERVAL;VALUE=DURATION:PT1H
X-Robots-Tag:noindex
X-PUBLISHED-TTL:PT1H
BEGIN:VTIMEZONE
TZID:UTC
BEGIN:STANDARD
TZOFFSETFROM:+0000
TZOFFSETTO:+0000
TZNAME:UTC
DTSTART:20230101T000000
END:STANDARD
END:VTIMEZONE
BEGIN:VEVENT
DTSTART;VALUE=DATE:20240731
DTEND;VALUE=DATE:20240801
DTSTAMP:20260423T134250
CREATED:20240717T024811Z
LAST-MODIFIED:20240717T024811Z
UID:10000106-1722384000-1722470399@georgiapickleballtournaments.com
SUMMARY:Summer Sizzle
DESCRIPTION:⏺️••”Summer Sizzle”\nPickleball tournament in Woodstock\, GA\nOrganized by: Woodstock Parks and Recreation \nFrom ORGANIZERS \nTHE HEAT IS ON!\nThe Summer Sizzle Pickleball Tournament will be a 6-team 3.5 mixed doubles and 6-team 4.0 mixed doubles\, team round robin tournament held at the Dupree Park Pickleball Courts on July 31 with matches beginning at 6pm. This tournament will be for high intermediate mixed doubles teams. Players should be a 3.5 or 4.0 skill rating based on the USA Pickleball rating system and will register into that specific division. Each team will be guaranteed five team matches in pool play. Top four teams will play for Gold\, Silver and Bronze. Tournament matches will be self-officiated and subject to USA Pickleball Association Rules. Participating players will provide equipment. Teams will be mixed doubles (female/male) and will request partner when registering. Summer Sizzle Tournament fee is $20 per player.  \nWHEN: Wednesday\, July 31 at 6pm\nWHERE; Dupree Park Pickleball Courts\, 513 Neese Road\nFEE: $20 per player\nREGISTER HERE: \nFor 3.5 Division: https://bit.ly/3VMQDWq \nFor 4.0 Division: https://bit.ly/3W69aOE \nShare this:\n				Share on Facebook (Opens in new window)\n				Facebook\n			\n				Share on X (Opens in new window)\n				X\n			\n				Share on WhatsApp (Opens in new window)\n				WhatsApp\n			\n				Share on Pinterest (Opens in new window)\n				Pinterest\n			\n				Share on LinkedIn (Opens in new window)\n				LinkedIn
URL:https://georgiapickleballtournaments.com/event/summer-sizzle/
LOCATION:Dupree Park\, 513 Neese Rd\, Woodstock\, 30188\, United States
CATEGORIES:Georgia
ATTACH;FMTTYPE=image/jpeg:https://georgiapickleballtournaments.com/wp-content/uploads/2024/07/20240731a.jpg
END:VEVENT
BEGIN:VEVENT
DTSTART;VALUE=DATE:20240803
DTEND;VALUE=DATE:20240804
DTSTAMP:20260423T134250
CREATED:20240618T144741Z
LAST-MODIFIED:20240618T152445Z
UID:10000094-1722643200-1722729599@georgiapickleballtournaments.com
SUMMARY:Clayton County Back to School Tournament
DESCRIPTION:⏺️••”Clayton County Back to School Tournament”\nPickleball tournament in Jonesboro\, GA\nOrganized by: DAB Pickleball \nThe first pickleball tournament on the new Clayton County courts will be epic\, serving the kids of our community at the same time! On August 3\, 2024\, Atlanta Tennis\, Clayton County Tennis Center\, and DAB Pickleball will host a one-day pickleball tournament to provide back-to-school supplies to the surrounding community. \nShare this:\n				Share on Facebook (Opens in new window)\n				Facebook\n			\n				Share on X (Opens in new window)\n				X\n			\n				Share on WhatsApp (Opens in new window)\n				WhatsApp\n			\n				Share on Pinterest (Opens in new window)\n				Pinterest\n			\n				Share on LinkedIn (Opens in new window)\n				LinkedIn
URL:https://georgiapickleballtournaments.com/event/clayton-county-back-to-school-tournament/
LOCATION:Clayton County Tennis Center\, 2300 Hwy 138 SE\, Jonesboro\, 30236\, United States
CATEGORIES:Georgia
ATTACH;FMTTYPE=image/jpeg:https://georgiapickleballtournaments.com/wp-content/uploads/2024/06/20240803a.jpg
ORGANIZER;CN="DAB Pickleball":MAILTO:pickleball@dinkinandbangin.com
END:VEVENT
BEGIN:VEVENT
DTSTART;VALUE=DATE:20240803
DTEND;VALUE=DATE:20240804
DTSTAMP:20260423T134250
CREATED:20240717T004218Z
LAST-MODIFIED:20240717T005316Z
UID:10000105-1722643200-1722729599@georgiapickleballtournaments.com
SUMMARY:Stealth Summer Smash
DESCRIPTION:⏺️••”Stealth Summer Smash”\nPickleball tournament in Buford\, GA\nOrganized by: Stealth Sports Academy \nFrom ORGANIZERS \nJoin us for one of Georgia’s largest pickleball tournaments this year!  \nStealth Summer Smash \nSaturday\, August 3rd at More than Pickleball in Buford\, Georgia.  \n✅Men’s Doubles\n✅Women’s Doubles\n✅Mixed Doubles\n✅Multiple skill levels for all 3 events \n💰1st place teams win CASH prizes💰 \nShare this:\n				Share on Facebook (Opens in new window)\n				Facebook\n			\n				Share on X (Opens in new window)\n				X\n			\n				Share on WhatsApp (Opens in new window)\n				WhatsApp\n			\n				Share on Pinterest (Opens in new window)\n				Pinterest\n			\n				Share on LinkedIn (Opens in new window)\n				LinkedIn
URL:https://georgiapickleballtournaments.com/event/stealth-summer-smash/
LOCATION:More Than Pickleball\, 3230 Woodward Crossing Blvd\, Buford\, GA\, 30519\, United States
CATEGORIES:Georgia
ATTACH;FMTTYPE=image/jpeg:https://georgiapickleballtournaments.com/wp-content/uploads/2024/07/20240803b.jpg
END:VEVENT
BEGIN:VEVENT
DTSTART;VALUE=DATE:20240803
DTEND;VALUE=DATE:20240804
DTSTAMP:20260423T134250
CREATED:20240728T100437Z
LAST-MODIFIED:20240728T101359Z
UID:10000109-1722643200-1722729599@georgiapickleballtournaments.com
SUMMARY:Back to School Round Robin
DESCRIPTION:⏺️••”Back to School Round Robin”\nPickleball tournament in Atlanta\, GA\nOrganized by: Agape Tennis & Pickleball Academy \nShare this:\n				Share on Facebook (Opens in new window)\n				Facebook\n			\n				Share on X (Opens in new window)\n				X\n			\n				Share on WhatsApp (Opens in new window)\n				WhatsApp\n			\n				Share on Pinterest (Opens in new window)\n				Pinterest\n			\n				Share on LinkedIn (Opens in new window)\n				LinkedIn
URL:https://georgiapickleballtournaments.com/event/back-to-school-round-robin/
LOCATION:Sharon Lester Tennis Center\, 400 Park Drive NE\, Atlanta\, 30306\, United States
CATEGORIES:Georgia
ATTACH;FMTTYPE=image/jpeg:https://georgiapickleballtournaments.com/wp-content/uploads/2024/07/20240803c.jpg
END:VEVENT
END:VCALENDAR