BEGIN:VCALENDAR
VERSION:2.0
PRODID:-//Georgia Pickleball Tournaments - ECPv6.15.20//NONSGML v1.0//EN
CALSCALE:GREGORIAN
METHOD:PUBLISH
X-WR-CALNAME:Georgia Pickleball Tournaments
X-ORIGINAL-URL:https://georgiapickleballtournaments.com
X-WR-CALDESC:Events for Georgia Pickleball Tournaments
REFRESH-INTERVAL;VALUE=DURATION:PT1H
X-Robots-Tag:noindex
X-PUBLISHED-TTL:PT1H
BEGIN:VTIMEZONE
TZID:America/New_York
BEGIN:DAYLIGHT
TZOFFSETFROM:-0500
TZOFFSETTO:-0400
TZNAME:EDT
DTSTART:20240310T070000
END:DAYLIGHT
BEGIN:STANDARD
TZOFFSETFROM:-0400
TZOFFSETTO:-0500
TZNAME:EST
DTSTART:20241103T060000
END:STANDARD
BEGIN:DAYLIGHT
TZOFFSETFROM:-0500
TZOFFSETTO:-0400
TZNAME:EDT
DTSTART:20250309T070000
END:DAYLIGHT
BEGIN:STANDARD
TZOFFSETFROM:-0400
TZOFFSETTO:-0500
TZNAME:EST
DTSTART:20251102T060000
END:STANDARD
BEGIN:DAYLIGHT
TZOFFSETFROM:-0500
TZOFFSETTO:-0400
TZNAME:EDT
DTSTART:20260308T070000
END:DAYLIGHT
BEGIN:STANDARD
TZOFFSETFROM:-0400
TZOFFSETTO:-0500
TZNAME:EST
DTSTART:20261101T060000
END:STANDARD
END:VTIMEZONE
BEGIN:VTIMEZONE
TZID:UTC
BEGIN:STANDARD
TZOFFSETFROM:+0000
TZOFFSETTO:+0000
TZNAME:UTC
DTSTART:20230101T000000
END:STANDARD
END:VTIMEZONE
BEGIN:VEVENT
DTSTART;VALUE=DATE:20250425
DTEND;VALUE=DATE:20250426
DTSTAMP:20260422T181131
CREATED:20250224T101345Z
LAST-MODIFIED:20250224T101649Z
UID:10000204-1745539200-1745625599@georgiapickleballtournaments.com
SUMMARY:2025 Andee's Army Pickleball Event
DESCRIPTION:⏺️••”2025 Andee’s Army Pickleball Event”\nPickleball tournament in Atlanta\, GA\nOrganized by: Andee’s Army \nShare this:\n				Share on Facebook (Opens in new window)\n				Facebook\n			\n				Share on X (Opens in new window)\n				X\n			\n				Share on WhatsApp (Opens in new window)\n				WhatsApp\n			\n				Share on Pinterest (Opens in new window)\n				Pinterest\n			\n				Share on LinkedIn (Opens in new window)\n				LinkedIn
URL:https://georgiapickleballtournaments.com/event/2025-andees-army-pickleball-event/
LOCATION:Painted Pickle\, 279 Ottley Drive\, Atlanta\, 30324\, United States
CATEGORIES:Georgia,Non-for-Profit
ATTACH;FMTTYPE=image/jpeg:https://georgiapickleballtournaments.com/wp-content/uploads/2025/02/20250425b.jpg
END:VEVENT
BEGIN:VEVENT
DTSTART;VALUE=DATE:20250326
DTEND;VALUE=DATE:20250331
DTSTAMP:20260422T181131
CREATED:20241222T200500Z
LAST-MODIFIED:20250114T212149Z
UID:10000138-1742947200-1743379199@georgiapickleballtournaments.com
SUMMARY:Pinkest Pickleball Party on the Planet 2025
DESCRIPTION:⏺️••”Pinkest Pickleball Party on the Planet 2025″\nPickleball tournament in Macon\, GA\nOrganized by: Macon Pickleball \nShare this:\n				Share on Facebook (Opens in new window)\n				Facebook\n			\n				Share on X (Opens in new window)\n				X\n			\n				Share on WhatsApp (Opens in new window)\n				WhatsApp\n			\n				Share on Pinterest (Opens in new window)\n				Pinterest\n			\n				Share on LinkedIn (Opens in new window)\n				LinkedIn
URL:https://georgiapickleballtournaments.com/event/pinkest-pickleball-party-on-the-planet-2025/
LOCATION:Tattnall Pickleball Center\, 1155 College Street\, Macon\, 31201\, United States
CATEGORIES:Georgia
ATTACH;FMTTYPE=image/jpeg:https://georgiapickleballtournaments.com/wp-content/uploads/2024/12/20250326a.jpg
END:VEVENT
BEGIN:VEVENT
DTSTART;VALUE=DATE:20250322
DTEND;VALUE=DATE:20250323
DTSTAMP:20260422T181131
CREATED:20250115T225146Z
LAST-MODIFIED:20250115T225235Z
UID:10000156-1742601600-1742687999@georgiapickleballtournaments.com
SUMMARY:Girls on the Run Pickleball Open
DESCRIPTION:⏺️••”Girls on the Run Pickleball Open”\nPickleball tournament in Atlanta\, GA\nOrganized by: Girls on the Run Georgia \nShare this:\n				Share on Facebook (Opens in new window)\n				Facebook\n			\n				Share on X (Opens in new window)\n				X\n			\n				Share on WhatsApp (Opens in new window)\n				WhatsApp\n			\n				Share on Pinterest (Opens in new window)\n				Pinterest\n			\n				Share on LinkedIn (Opens in new window)\n				LinkedIn
URL:https://georgiapickleballtournaments.com/event/girls-on-the-run-pickleball-open/
LOCATION:ITA Atlanta\, 3110 Presidential Dr\, Atlanta\, 30340\, United States
CATEGORIES:Georgia,Non-for-Profit
ATTACH;FMTTYPE=image/jpeg:https://georgiapickleballtournaments.com/wp-content/uploads/2025/01/20250322a.jpg
END:VEVENT
BEGIN:VEVENT
DTSTART;VALUE=DATE:20250315
DTEND;VALUE=DATE:20250316
DTSTAMP:20260422T181131
CREATED:20250116T083020Z
LAST-MODIFIED:20250202T134338Z
UID:10000157-1741996800-1742083199@georgiapickleballtournaments.com
SUMMARY:Rockdale Pickleball Tournament
DESCRIPTION:⏺️••”Rockdale Pickleball Tournament”\nPickleball tournament in Conyers\, GA\nOrganized by: Rockdale County Parks & Recreation \nShare this:\n				Share on Facebook (Opens in new window)\n				Facebook\n			\n				Share on X (Opens in new window)\n				X\n			\n				Share on WhatsApp (Opens in new window)\n				WhatsApp\n			\n				Share on Pinterest (Opens in new window)\n				Pinterest\n			\n				Share on LinkedIn (Opens in new window)\n				LinkedIn
URL:https://georgiapickleballtournaments.com/event/rockdale-pickleball-tournament/
LOCATION:Wheeler Park\, 1400 Parker Rd\, Conyers\, 30094\, United States
CATEGORIES:Georgia
ATTACH;FMTTYPE=image/jpeg:https://georgiapickleballtournaments.com/wp-content/uploads/2025/01/20250315b.jpg
END:VEVENT
BEGIN:VEVENT
DTSTART;VALUE=DATE:20250314
DTEND;VALUE=DATE:20250316
DTSTAMP:20260422T181131
CREATED:20250114T192804Z
LAST-MODIFIED:20250114T203251Z
UID:10000148-1741910400-1742083199@georgiapickleballtournaments.com
SUMMARY:Fannin County Paddle Battle III
DESCRIPTION:⏺️••”Fannin County Paddle Battle III”\nPickleball tournament in Blue Ridge\, GA\nOrganized by: Blue Ridge Pickleball Club \nShare this:\n				Share on Facebook (Opens in new window)\n				Facebook\n			\n				Share on X (Opens in new window)\n				X\n			\n				Share on WhatsApp (Opens in new window)\n				WhatsApp\n			\n				Share on Pinterest (Opens in new window)\n				Pinterest\n			\n				Share on LinkedIn (Opens in new window)\n				LinkedIn
URL:https://georgiapickleballtournaments.com/event/fannin-county-paddle-battle-lll/
LOCATION:Fannin County Recreation Center\, 370 Tom Boyd Rd\, Blue Ridge\, 30513\, United States
CATEGORIES:Georgia
ATTACH;FMTTYPE=image/jpeg:https://georgiapickleballtournaments.com/wp-content/uploads/2025/01/20250314c.jpg
END:VEVENT
BEGIN:VEVENT
DTSTART;VALUE=DATE:20240917
DTEND;VALUE=DATE:20240920
DTSTAMP:20260422T181131
CREATED:20240515T195731Z
LAST-MODIFIED:20240515T200814Z
UID:10000061-1726531200-1726790399@georgiapickleballtournaments.com
SUMMARY:Georgia Golden Olympics - Pickleball
DESCRIPTION:⏺️••”Georgia Golden Olympics – Pickleball” \nPickleball tournament in Bonaire\, GA \nOrganized by: Georgia Golden Olympics \nShare this:\n				Share on Facebook (Opens in new window)\n				Facebook\n			\n				Share on X (Opens in new window)\n				X\n			\n				Share on WhatsApp (Opens in new window)\n				WhatsApp\n			\n				Share on Pinterest (Opens in new window)\n				Pinterest\n			\n				Share on LinkedIn (Opens in new window)\n				LinkedIn
URL:https://georgiapickleballtournaments.com/event/georgia-golden-olympics-pickleball/
LOCATION:Ted Wright Park\, 2841 Moody Road\, Bonaire\, 31005\, United States
CATEGORIES:Georgia
ATTACH;FMTTYPE=image/jpeg:https://georgiapickleballtournaments.com/wp-content/uploads/2024/05/20240917a-2.jpg
END:VEVENT
BEGIN:VEVENT
DTSTART;VALUE=DATE:20240810
DTEND;VALUE=DATE:20240811
DTSTAMP:20260422T181131
CREATED:20240629T173240Z
LAST-MODIFIED:20240629T174140Z
UID:10000102-1723248000-1723334399@georgiapickleballtournaments.com
SUMMARY:AFB Tournament
DESCRIPTION:⏺️••”AFB Tournament”\nPickleball tournament in Robins AFB\, GA\nOrganized by: 78th Force Support Squadron\, Robins AFB \nJoin Us for a Pickleball Showdown!🏆 \nWe’re excited to announce our Pickleball Tournament! Whether you’re a seasoned pro or a beginner looking to have some fun\, this event is for you.  \n– Competitive and recreational brackets\n– A fun and friendly atmosphere \n👫 Bring Your Friends and Family!\nSpectators are welcome to cheer on the players and enjoy the festivities. \n💡 Pre- Registration:\nSign up now to secure your spot by August 8th\nthru Member planet – https://www.memberplanet.com/events/robinsafbclubs/pickelballtournament2024 \nDon’t miss out on the chance to showcase your skills and meet fellow pickleball enthusiasts. Let’s make this year’s tournament the best one yet! \nFor more information\, contact us at 478-222-7684. \nSee you on the court!  \nShare this:\n				Share on Facebook (Opens in new window)\n				Facebook\n			\n				Share on X (Opens in new window)\n				X\n			\n				Share on WhatsApp (Opens in new window)\n				WhatsApp\n			\n				Share on Pinterest (Opens in new window)\n				Pinterest\n			\n				Share on LinkedIn (Opens in new window)\n				LinkedIn
URL:https://georgiapickleballtournaments.com/event/afb-tournament/
LOCATION:AFB Fitness Center Tennis Courts\, 840 Eighth Street\, Robins AFB\, 31098\, United States
CATEGORIES:Georgia
ATTACH;FMTTYPE=image/jpeg:https://georgiapickleballtournaments.com/wp-content/uploads/2024/06/20240810a.jpg
END:VEVENT
BEGIN:VEVENT
DTSTART;VALUE=DATE:20240712
DTEND;VALUE=DATE:20240715
DTSTAMP:20260422T181131
CREATED:20240513T192659Z
LAST-MODIFIED:20240513T193425Z
UID:10000049-1720742400-1721001599@georgiapickleballtournaments.com
SUMMARY:2024 USSP Indoor National Championship
DESCRIPTION:⏺️••”2024 USSP Indoor National Championship” \nPickleball tournament in Macon\, GA \nOrganized by: US Senior Pickleball – USSP \nShare this:\n				Share on Facebook (Opens in new window)\n				Facebook\n			\n				Share on X (Opens in new window)\n				X\n			\n				Share on WhatsApp (Opens in new window)\n				WhatsApp\n			\n				Share on Pinterest (Opens in new window)\n				Pinterest\n			\n				Share on LinkedIn (Opens in new window)\n				LinkedIn
URL:https://georgiapickleballtournaments.com/event/2024-ussp-indoor-national-championship/
LOCATION:Rhythm & Rally Sports & Events\, 3661 Eisenhower Pkwy\, Macon\, GA\, 31206\, United States
CATEGORIES:Georgia
ATTACH;FMTTYPE=image/jpeg:https://georgiapickleballtournaments.com/wp-content/uploads/2024/05/20240712a.jpg
END:VEVENT
BEGIN:VEVENT
DTSTART;VALUE=DATE:20240628
DTEND;VALUE=DATE:20240701
DTSTAMP:20260422T181131
CREATED:20240513T150605Z
LAST-MODIFIED:20240513T150605Z
UID:10000047-1719532800-1719791999@georgiapickleballtournaments.com
SUMMARY:Freedom Tournament
DESCRIPTION:⏺️••”Freedom Tournament” \nPickleball tournament in Alpharetta\, GA \nOrganized by: A2msports.com \nShare this:\n				Share on Facebook (Opens in new window)\n				Facebook\n			\n				Share on X (Opens in new window)\n				X\n			\n				Share on WhatsApp (Opens in new window)\n				WhatsApp\n			\n				Share on Pinterest (Opens in new window)\n				Pinterest\n			\n				Share on LinkedIn (Opens in new window)\n				LinkedIn
URL:https://georgiapickleballtournaments.com/event/freedom-tournament/
LOCATION:Alpharetta North Park North Tennis and Pickleball Center\, 13450 Cogburn Rd\, Alpharetta\, GA\, 30004\, United States
CATEGORIES:Georgia
ATTACH;FMTTYPE=image/jpeg:https://georgiapickleballtournaments.com/wp-content/uploads/2024/05/20240628a.jpg
END:VEVENT
BEGIN:VEVENT
DTSTART;VALUE=DATE:20240622
DTEND;VALUE=DATE:20240624
DTSTAMP:20260422T181131
CREATED:20240516T192639Z
LAST-MODIFIED:20240516T193740Z
UID:10000076-1719014400-1719187199@georgiapickleballtournaments.com
SUMMARY:2024 Badge Buddies
DESCRIPTION:⏺️••”2024 Badge Buddies” \nPickleball tournament in Newnan\, GA \nOrganized by: Coweta County Prison \nShare this:\n				Share on Facebook (Opens in new window)\n				Facebook\n			\n				Share on X (Opens in new window)\n				X\n			\n				Share on WhatsApp (Opens in new window)\n				WhatsApp\n			\n				Share on Pinterest (Opens in new window)\n				Pinterest\n			\n				Share on LinkedIn (Opens in new window)\n				LinkedIn
URL:https://georgiapickleballtournaments.com/event/2024-badge-buddies/
LOCATION:Temple Avenue Sports Complex\, 39 Hospital Road\, Newnan\, 30263\, United States
CATEGORIES:Georgia
ATTACH;FMTTYPE=image/jpeg:https://georgiapickleballtournaments.com/wp-content/uploads/2024/05/20240622d.jpg
END:VEVENT
BEGIN:VEVENT
DTSTART;VALUE=DATE:20240622
DTEND;VALUE=DATE:20240624
DTSTAMP:20260422T181131
CREATED:20240513T143526Z
LAST-MODIFIED:20240513T145644Z
UID:10000046-1719014400-1719187199@georgiapickleballtournaments.com
SUMMARY:Smash Cancer
DESCRIPTION:⏺️••”Smash Cancer” \nPickleball tournament in Buford\, GA \nOrganized by: More Than Pickleball – Buford\, GA \nShare this:\n				Share on Facebook (Opens in new window)\n				Facebook\n			\n				Share on X (Opens in new window)\n				X\n			\n				Share on WhatsApp (Opens in new window)\n				WhatsApp\n			\n				Share on Pinterest (Opens in new window)\n				Pinterest\n			\n				Share on LinkedIn (Opens in new window)\n				LinkedIn
URL:https://georgiapickleballtournaments.com/event/smash-cancer/
LOCATION:More Than Pickleball\, 3230 Woodward Crossing Blvd\, Buford\, GA\, 30519\, United States
CATEGORIES:Georgia
ATTACH;FMTTYPE=image/jpeg:https://georgiapickleballtournaments.com/wp-content/uploads/2024/05/20240622c.jpg
ORGANIZER;CN="More Than Pickleball Team":MAILTO:info@morethanpball.com
END:VEVENT
END:VCALENDAR