BEGIN:VCALENDAR
VERSION:2.0
PRODID:-//Georgia Pickleball Tournaments - ECPv6.15.20//NONSGML v1.0//EN
CALSCALE:GREGORIAN
METHOD:PUBLISH
X-WR-CALNAME:Georgia Pickleball Tournaments
X-ORIGINAL-URL:https://georgiapickleballtournaments.com
X-WR-CALDESC:Events for Georgia Pickleball Tournaments
REFRESH-INTERVAL;VALUE=DURATION:PT1H
X-Robots-Tag:noindex
X-PUBLISHED-TTL:PT1H
BEGIN:VTIMEZONE
TZID:UTC
BEGIN:STANDARD
TZOFFSETFROM:+0000
TZOFFSETTO:+0000
TZNAME:UTC
DTSTART:20230101T000000
END:STANDARD
END:VTIMEZONE
BEGIN:VEVENT
DTSTART;VALUE=DATE:20240531
DTEND;VALUE=DATE:20240603
DTSTAMP:20260422T182848
CREATED:20240513T222819Z
LAST-MODIFIED:20240513T223937Z
UID:10000050-1717113600-1717372799@georgiapickleballtournaments.com
SUMMARY:Georgia Games 2024 Championships
DESCRIPTION:⏺️••”Georgia Games 2024 Championships” \nPickleball tournament in Alpharetta\, GA \nOrganized by: Georgia Games \nShare this:\n				Share on Facebook (Opens in new window)\n				Facebook\n			\n				Share on X (Opens in new window)\n				X\n			\n				Share on WhatsApp (Opens in new window)\n				WhatsApp\n			\n				Share on Pinterest (Opens in new window)\n				Pinterest\n			\n				Share on LinkedIn (Opens in new window)\n				LinkedIn
URL:https://georgiapickleballtournaments.com/event/georgia-games-2024-championships/
LOCATION:Alpharetta North Park North Tennis and Pickleball Center\, 13450 Cogburn Rd\, Alpharetta\, GA\, 30004\, United States
CATEGORIES:Georgia
ATTACH;FMTTYPE=image/jpeg:https://georgiapickleballtournaments.com/wp-content/uploads/2024/05/20240531a.jpg
ORGANIZER;CN="Georgia Games":MAILTO:info@georgiagames.org
END:VEVENT
BEGIN:VEVENT
DTSTART;VALUE=DATE:20240529
DTEND;VALUE=DATE:20240603
DTSTAMP:20260422T182848
CREATED:20240513T153008Z
LAST-MODIFIED:20240513T153935Z
UID:10000048-1716940800-1717372799@georgiapickleballtournaments.com
SUMMARY:UTR Sports Macon Open
DESCRIPTION:⏺️••”UTR Sports Macon Open” \nPickleball tournament in Macon\, GA \nOrganized by: UTR Sports \nShare this:\n				Share on Facebook (Opens in new window)\n				Facebook\n			\n				Share on X (Opens in new window)\n				X\n			\n				Share on WhatsApp (Opens in new window)\n				WhatsApp\n			\n				Share on Pinterest (Opens in new window)\n				Pinterest\n			\n				Share on LinkedIn (Opens in new window)\n				LinkedIn
URL:https://georgiapickleballtournaments.com/event/utr-sports-macon-open/
LOCATION:Rhythm & Rally Sports & Events\, 3661 Eisenhower Pkwy\, Macon\, GA\, 31206\, United States
CATEGORIES:Georgia
ATTACH;FMTTYPE=image/jpeg:https://georgiapickleballtournaments.com/wp-content/uploads/2024/05/20240529a.jpg
ORGANIZER;CN="UTR Sports":MAILTO:support@universaltennis.com
END:VEVENT
BEGIN:VEVENT
DTSTART;VALUE=DATE:20240529
DTEND;VALUE=DATE:20240530
DTSTAMP:20260422T182848
CREATED:20240514T055743Z
LAST-MODIFIED:20240514T061051Z
UID:10000051-1716940800-1717027199@georgiapickleballtournaments.com
SUMMARY:Spring Slam
DESCRIPTION:⏺️••”Spring Slam” \nPickleball tournament in Woodstock\, GA \nOrganized by: Woodstock Parks and Recreation \nTo register: \nWomen’s Division Register https://woodstock.recdesk.com/Community/Program/Detail?programId=1509 \nMen’s Division Register https://woodstock.recdesk.com/Community/Program/Detail?programId=1510 \nShare this:\n				Share on Facebook (Opens in new window)\n				Facebook\n			\n				Share on X (Opens in new window)\n				X\n			\n				Share on WhatsApp (Opens in new window)\n				WhatsApp\n			\n				Share on Pinterest (Opens in new window)\n				Pinterest\n			\n				Share on LinkedIn (Opens in new window)\n				LinkedIn
URL:https://georgiapickleballtournaments.com/event/spring-slam/
LOCATION:Dupree Park\, 513 Neese Rd\, Woodstock\, 30188\, United States
CATEGORIES:Georgia
ATTACH;FMTTYPE=image/jpeg:https://georgiapickleballtournaments.com/wp-content/uploads/2024/05/20240529b.jpg
END:VEVENT
BEGIN:VEVENT
DTSTART;VALUE=DATE:20240525
DTEND;VALUE=DATE:20240527
DTSTAMP:20260422T182848
CREATED:20240512T051427Z
LAST-MODIFIED:20240512T051427Z
UID:10000029-1716595200-1716767999@georgiapickleballtournaments.com
SUMMARY:Atlanta Classic by Gamma
DESCRIPTION:⏺️••”Atlanta Classic by Gamma” \nPickleball tournament in Atlanta\, GA \nOrganized by: Gamma Pickleball \nShare this:\n				Share on Facebook (Opens in new window)\n				Facebook\n			\n				Share on X (Opens in new window)\n				X\n			\n				Share on WhatsApp (Opens in new window)\n				WhatsApp\n			\n				Share on Pinterest (Opens in new window)\n				Pinterest\n			\n				Share on LinkedIn (Opens in new window)\n				LinkedIn
URL:https://georgiapickleballtournaments.com/event/atlanta-classic-by-gamma/
LOCATION:The Atlanta Pickleball Center\, 1359 Ellsworth Industrial Blvd NW suite B\, Atlanta\, 30318\, United States
CATEGORIES:Georgia
ATTACH;FMTTYPE=image/jpeg:https://georgiapickleballtournaments.com/wp-content/uploads/2024/05/20240525a.jpg
END:VEVENT
BEGIN:VEVENT
DTSTART;VALUE=DATE:20240525
DTEND;VALUE=DATE:20240526
DTSTAMP:20260422T182848
CREATED:20240512T185122Z
LAST-MODIFIED:20240512T185357Z
UID:10000040-1716595200-1716681599@georgiapickleballtournaments.com
SUMMARY:BHS Cheer Pickleball
DESCRIPTION:⏺️••”BHS Cheer Pickleball” \nPickleball tournament in Bainbridge\, GA \nOrganized by: BHS Football Cheer \nShare this:\n				Share on Facebook (Opens in new window)\n				Facebook\n			\n				Share on X (Opens in new window)\n				X\n			\n				Share on WhatsApp (Opens in new window)\n				WhatsApp\n			\n				Share on Pinterest (Opens in new window)\n				Pinterest\n			\n				Share on LinkedIn (Opens in new window)\n				LinkedIn
URL:https://georgiapickleballtournaments.com/event/bhs-cheer-pickleball/
LOCATION:Bill Reynolds Tennis Center\, 1500 Cox Ave\, Bainbridge\, 39819\, United States
CATEGORIES:Georgia
ATTACH;FMTTYPE=image/jpeg:https://georgiapickleballtournaments.com/wp-content/uploads/2024/05/20240525c.jpg
END:VEVENT
BEGIN:VEVENT
DTSTART;VALUE=DATE:20240525
DTEND;VALUE=DATE:20240527
DTSTAMP:20260422T182848
CREATED:20240512T062647Z
LAST-MODIFIED:20240512T063026Z
UID:10000030-1716595200-1716767999@georgiapickleballtournaments.com
SUMMARY:3rd Annual Oregon Park Memorial Day Classic
DESCRIPTION:⏺️••”3rd Annual Oregon Park Memorial Day Classic” \nPickleball tournament in Marietta\, GA \nOrganized by: Southern Pickleball \nShare this:\n				Share on Facebook (Opens in new window)\n				Facebook\n			\n				Share on X (Opens in new window)\n				X\n			\n				Share on WhatsApp (Opens in new window)\n				WhatsApp\n			\n				Share on Pinterest (Opens in new window)\n				Pinterest\n			\n				Share on LinkedIn (Opens in new window)\n				LinkedIn
URL:https://georgiapickleballtournaments.com/event/3rd-annual-oregon-park-memorial-day-classic/
LOCATION:Oregon Park\, 3791 Lamb Dr\, Marietta\, GA\, 30064\, United States
CATEGORIES:Georgia
ATTACH;FMTTYPE=image/jpeg:https://georgiapickleballtournaments.com/wp-content/uploads/2024/05/20240525b.jpg
END:VEVENT
BEGIN:VEVENT
DTSTART;VALUE=DATE:20240517
DTEND;VALUE=DATE:20240520
DTSTAMP:20260422T182848
CREATED:20240512T043024Z
LAST-MODIFIED:20240512T043024Z
UID:10000028-1715904000-1716163199@georgiapickleballtournaments.com
SUMMARY:Rockin' in Cochran
DESCRIPTION:⏺️••”Rockin’ in Cochran” \nPickleball tournament in Cochran\, GA \nOrganized by: Southern Pickleball \nShare this:\n				Share on Facebook (Opens in new window)\n				Facebook\n			\n				Share on X (Opens in new window)\n				X\n			\n				Share on WhatsApp (Opens in new window)\n				WhatsApp\n			\n				Share on Pinterest (Opens in new window)\n				Pinterest\n			\n				Share on LinkedIn (Opens in new window)\n				LinkedIn
URL:https://georgiapickleballtournaments.com/event/rockin-in-cochran/
LOCATION:Bleckley County Pickleball Courts\, 242 E Dykes St\, Cochran\, United States
CATEGORIES:Georgia
ATTACH;FMTTYPE=image/jpeg:https://georgiapickleballtournaments.com/wp-content/uploads/2024/05/20240517a.jpg
ORGANIZER;CN="Bleckley Pickleball Association":MAILTO:bleckleypickleball@gmail.com
END:VEVENT
BEGIN:VEVENT
DTSTART;VALUE=DATE:20240513
DTEND;VALUE=DATE:20240520
DTSTAMP:20260422T182848
CREATED:20240512T025103Z
LAST-MODIFIED:20240512T025103Z
UID:10000027-1715558400-1716163199@georgiapickleballtournaments.com
SUMMARY:PPA Tour: Atlanta GA
DESCRIPTION:⏺️••”PPA Tour: Atlanta GA ” \nPickleball tournament in Peachtree Corners\, GA \nOrganized by: PPA Tour \nShare this:\n				Share on Facebook (Opens in new window)\n				Facebook\n			\n				Share on X (Opens in new window)\n				X\n			\n				Share on WhatsApp (Opens in new window)\n				WhatsApp\n			\n				Share on Pinterest (Opens in new window)\n				Pinterest\n			\n				Share on LinkedIn (Opens in new window)\n				LinkedIn
URL:https://georgiapickleballtournaments.com/event/ppa-tour-atlanta-ga/
LOCATION:Lifetime Peachtree Corners\, 6350 Courtside Dr NW\, Peachtree Corners\, 30092\, United States
CATEGORIES:Georgia
ATTACH;FMTTYPE=image/jpeg:https://georgiapickleballtournaments.com/wp-content/uploads/2024/05/20240513a.jpg
END:VEVENT
BEGIN:VEVENT
DTSTART;VALUE=DATE:20240511
DTEND;VALUE=DATE:20240512
DTSTAMP:20260422T182848
CREATED:20240512T020811Z
LAST-MODIFIED:20240512T020811Z
UID:10000025-1715385600-1715471999@georgiapickleballtournaments.com
SUMMARY:APA Gold Ribbon Classic '24
DESCRIPTION:⏺️••”APA Gold Ribbon Classic ’24” \nPickleball tournament in Alpharetta\, GA \nOrganized by: Atlanta Pickleball Alliance \nShare this:\n				Share on Facebook (Opens in new window)\n				Facebook\n			\n				Share on X (Opens in new window)\n				X\n			\n				Share on WhatsApp (Opens in new window)\n				WhatsApp\n			\n				Share on Pinterest (Opens in new window)\n				Pinterest\n			\n				Share on LinkedIn (Opens in new window)\n				LinkedIn
URL:https://georgiapickleballtournaments.com/event/apa-gold-ribbon-classic-24/
LOCATION:Alpharetta North Park North Tennis and Pickleball Center\, 13450 Cogburn Rd\, Alpharetta\, GA\, 30004\, United States
CATEGORIES:Georgia
ATTACH;FMTTYPE=image/jpeg:https://georgiapickleballtournaments.com/wp-content/uploads/2024/05/20240511a.jpg
ORGANIZER;CN="Atlanta Pickleball Alliance":MAILTO:AtlantaPickleballAlliance@gmail.com
END:VEVENT
END:VCALENDAR