BEGIN:VCALENDAR
VERSION:2.0
PRODID:-//Georgia Pickleball Tournaments - ECPv6.15.20//NONSGML v1.0//EN
CALSCALE:GREGORIAN
METHOD:PUBLISH
X-WR-CALNAME:Georgia Pickleball Tournaments
X-ORIGINAL-URL:https://georgiapickleballtournaments.com
X-WR-CALDESC:Events for Georgia Pickleball Tournaments
REFRESH-INTERVAL;VALUE=DURATION:PT1H
X-Robots-Tag:noindex
X-PUBLISHED-TTL:PT1H
BEGIN:VTIMEZONE
TZID:America/New_York
BEGIN:DAYLIGHT
TZOFFSETFROM:-0500
TZOFFSETTO:-0400
TZNAME:EDT
DTSTART:20240310T070000
END:DAYLIGHT
BEGIN:STANDARD
TZOFFSETFROM:-0400
TZOFFSETTO:-0500
TZNAME:EST
DTSTART:20241103T060000
END:STANDARD
BEGIN:DAYLIGHT
TZOFFSETFROM:-0500
TZOFFSETTO:-0400
TZNAME:EDT
DTSTART:20250309T070000
END:DAYLIGHT
BEGIN:STANDARD
TZOFFSETFROM:-0400
TZOFFSETTO:-0500
TZNAME:EST
DTSTART:20251102T060000
END:STANDARD
BEGIN:DAYLIGHT
TZOFFSETFROM:-0500
TZOFFSETTO:-0400
TZNAME:EDT
DTSTART:20260308T070000
END:DAYLIGHT
BEGIN:STANDARD
TZOFFSETFROM:-0400
TZOFFSETTO:-0500
TZNAME:EST
DTSTART:20261101T060000
END:STANDARD
END:VTIMEZONE
BEGIN:VEVENT
DTSTART;VALUE=DATE:20250801
DTEND;VALUE=DATE:20250804
DTSTAMP:20260423T013910
CREATED:20250703T194723Z
LAST-MODIFIED:20250703T194723Z
UID:10000270-1754006400-1754265599@georgiapickleballtournaments.com
SUMMARY:3rd RNB $500 Moneyball
DESCRIPTION:⏺️••”3rd RNB $500 Moneyball”\nPickleball tournament in Alpharetta\, GA\nOrganized by: RNB Tennis & Pickleball\nShare this:\n				Share on Facebook (Opens in new window)\n				Facebook\n			\n				Share on X (Opens in new window)\n				X\n			\n				Share on WhatsApp (Opens in new window)\n				WhatsApp\n			\n				Share on Pinterest (Opens in new window)\n				Pinterest\n			\n				Share on LinkedIn (Opens in new window)\n				LinkedIn
URL:https://georgiapickleballtournaments.com/event/3rd-rnb-500-moneyball/
LOCATION:Alpharetta North Park North Tennis and Pickleball Center\, 13450 Cogburn Rd\, Alpharetta\, GA\, 30004\, United States
CATEGORIES:Georgia
ATTACH;FMTTYPE=image/jpeg:https://georgiapickleballtournaments.com/wp-content/uploads/2025/07/20250801a.jpg
END:VEVENT
BEGIN:VEVENT
DTSTART;VALUE=DATE:20250808
DTEND;VALUE=DATE:20250811
DTSTAMP:20260423T013910
CREATED:20250628T234030Z
LAST-MODIFIED:20250628T234030Z
UID:10000260-1754611200-1754870399@georgiapickleballtournaments.com
SUMMARY:Beat the Heat Macon
DESCRIPTION:⏺️••”Beat the Heat Macon”\nPickleball tournament in Macon\, GA\nOrganized by: Southern Pickleball\nShare this:\n				Share on Facebook (Opens in new window)\n				Facebook\n			\n				Share on X (Opens in new window)\n				X\n			\n				Share on WhatsApp (Opens in new window)\n				WhatsApp\n			\n				Share on Pinterest (Opens in new window)\n				Pinterest\n			\n				Share on LinkedIn (Opens in new window)\n				LinkedIn
URL:https://georgiapickleballtournaments.com/event/beat-the-heat-macon/
LOCATION:Rhythm & Rally Sports & Events\, 3661 Eisenhower Pkwy\, Macon\, GA\, 31206\, United States
CATEGORIES:Georgia
ATTACH;FMTTYPE=image/jpeg:https://georgiapickleballtournaments.com/wp-content/uploads/2025/06/20250808a.jpg
END:VEVENT
BEGIN:VEVENT
DTSTART;VALUE=DATE:20250809
DTEND;VALUE=DATE:20250811
DTSTAMP:20260423T013910
CREATED:20250629T052435Z
LAST-MODIFIED:20250629T052435Z
UID:10000261-1754697600-1754870399@georgiapickleballtournaments.com
SUMMARY:The Georgia Gold Cup
DESCRIPTION:⏺️••”The Georgia Gold Cup”\nPickleball tournament in Calhoun\, GA\nOrganized by: Amateur Pickleball Association\nShare this:\n				Share on Facebook (Opens in new window)\n				Facebook\n			\n				Share on X (Opens in new window)\n				X\n			\n				Share on WhatsApp (Opens in new window)\n				WhatsApp\n			\n				Share on Pinterest (Opens in new window)\n				Pinterest\n			\n				Share on LinkedIn (Opens in new window)\n				LinkedIn
URL:https://georgiapickleballtournaments.com/event/the-georgia-gold-cup/
LOCATION:Pickleball 706\, 122 WC Bryant Pkwy\, Calhoun\, GA\, 30701\, United States
CATEGORIES:Georgia
ATTACH;FMTTYPE=image/jpeg:https://georgiapickleballtournaments.com/wp-content/uploads/2025/06/20250809a.jpg
ORGANIZER;CN="APA - Amateur Pickleball Association":MAILTO:director@APATournaments.com
END:VEVENT
BEGIN:VEVENT
DTSTART;VALUE=DATE:20250814
DTEND;VALUE=DATE:20250818
DTSTAMP:20260423T013910
CREATED:20250224T090041Z
LAST-MODIFIED:20250224T090041Z
UID:10000201-1755129600-1755475199@georgiapickleballtournaments.com
SUMMARY:Jammin for Joy 2025
DESCRIPTION:⏺️••”Jammin for Joy 2025″\nPickleball tournament in Jasper\, GA\nOrganized by: The Joy House \nShare this:\n				Share on Facebook (Opens in new window)\n				Facebook\n			\n				Share on X (Opens in new window)\n				X\n			\n				Share on WhatsApp (Opens in new window)\n				WhatsApp\n			\n				Share on Pinterest (Opens in new window)\n				Pinterest\n			\n				Share on LinkedIn (Opens in new window)\n				LinkedIn
URL:https://georgiapickleballtournaments.com/event/jammin-for-joy-2025/
LOCATION:The Courts at Bent Tree\, 172 Villa Rd\, Jasper\, 30143\, United States
CATEGORIES:Georgia
ATTACH;FMTTYPE=image/jpeg:https://georgiapickleballtournaments.com/wp-content/uploads/2025/02/20250814a.jpg
END:VEVENT
BEGIN:VEVENT
DTSTART;VALUE=DATE:20250816
DTEND;VALUE=DATE:20250817
DTSTAMP:20260423T013910
CREATED:20250628T051105Z
LAST-MODIFIED:20250628T051105Z
UID:10000252-1755302400-1755388799@georgiapickleballtournaments.com
SUMMARY:Braveheart Picklepaws Tournament
DESCRIPTION:⏺️••”Braveheart Picklepaws Tournament”\nPickleball tournament in Decatur\, GA\nOrganized by: Braveheart Bulliez Rescue\nShare this:\n				Share on Facebook (Opens in new window)\n				Facebook\n			\n				Share on X (Opens in new window)\n				X\n			\n				Share on WhatsApp (Opens in new window)\n				WhatsApp\n			\n				Share on Pinterest (Opens in new window)\n				Pinterest\n			\n				Share on LinkedIn (Opens in new window)\n				LinkedIn
URL:https://georgiapickleballtournaments.com/event/braveheart-picklepaws-tournament/
LOCATION:Dekalb Tennis Center\, 1400 McConnell Dr\, Decatur\, 30330\, United States
CATEGORIES:Georgia,Non-for-Profit
ATTACH;FMTTYPE=image/jpeg:https://georgiapickleballtournaments.com/wp-content/uploads/2025/06/20250816a.jpg
END:VEVENT
BEGIN:VEVENT
DTSTART;VALUE=DATE:20250823
DTEND;VALUE=DATE:20250824
DTSTAMP:20260423T013910
CREATED:20250721T002138Z
LAST-MODIFIED:20250721T002138Z
UID:10000284-1755907200-1755993599@georgiapickleballtournaments.com
SUMMARY:It's a Big Dill! Summer Edition
DESCRIPTION:⏺️••”It’s a Big Dill! Summer Edition”\nPickleball tournament in Woodstock\, GA\nOrganized by: YMCA of Cherokee County\nShare this:\n				Share on Facebook (Opens in new window)\n				Facebook\n			\n				Share on X (Opens in new window)\n				X\n			\n				Share on WhatsApp (Opens in new window)\n				WhatsApp\n			\n				Share on Pinterest (Opens in new window)\n				Pinterest\n			\n				Share on LinkedIn (Opens in new window)\n				LinkedIn
URL:https://georgiapickleballtournaments.com/event/its-a-big-dill-summer-edition/
LOCATION:YMCA of Cherokee County\, 201 E Bells Ferry Rd\, Woodstock\, 30189\, United States
CATEGORIES:Georgia,Non-for-Profit
ATTACH;FMTTYPE=image/jpeg:https://georgiapickleballtournaments.com/wp-content/uploads/2025/07/20250823c.jpg
END:VEVENT
BEGIN:VEVENT
DTSTART;VALUE=DATE:20250823
DTEND;VALUE=DATE:20250825
DTSTAMP:20260423T013910
CREATED:20250629T054545Z
LAST-MODIFIED:20250629T054545Z
UID:10000262-1755907200-1756079999@georgiapickleballtournaments.com
SUMMARY:APA Open 2025
DESCRIPTION:⏺️••”APA Open 2025″\nPickleball tournament in Alpharetta\, GA\nOrganized by: Atlanta Pickleball Alliance\nShare this:\n				Share on Facebook (Opens in new window)\n				Facebook\n			\n				Share on X (Opens in new window)\n				X\n			\n				Share on WhatsApp (Opens in new window)\n				WhatsApp\n			\n				Share on Pinterest (Opens in new window)\n				Pinterest\n			\n				Share on LinkedIn (Opens in new window)\n				LinkedIn
URL:https://georgiapickleballtournaments.com/event/apa-open-2025/
LOCATION:Alpharetta North Park North Tennis and Pickleball Center\, 13450 Cogburn Rd\, Alpharetta\, GA\, 30004\, United States
CATEGORIES:Georgia
ATTACH;FMTTYPE=image/jpeg:https://georgiapickleballtournaments.com/wp-content/uploads/2025/06/20250823a.jpg
ORGANIZER;CN="Atlanta Pickleball Alliance":MAILTO:AtlantaPickleballAlliance@gmail.com
END:VEVENT
BEGIN:VEVENT
DTSTART;VALUE=DATE:20250823
DTEND;VALUE=DATE:20250825
DTSTAMP:20260423T013910
CREATED:20250629T062052Z
LAST-MODIFIED:20250629T062052Z
UID:10000263-1755907200-1756079999@georgiapickleballtournaments.com
SUMMARY:Igniting Hope for the Homeless
DESCRIPTION:⏺️••”Igniting Hope for the Homeless”\nPickleball tournament in Macon\, GA\nOrganized by: Middle Georgia Association of REALTORS\nShare this:\n				Share on Facebook (Opens in new window)\n				Facebook\n			\n				Share on X (Opens in new window)\n				X\n			\n				Share on WhatsApp (Opens in new window)\n				WhatsApp\n			\n				Share on Pinterest (Opens in new window)\n				Pinterest\n			\n				Share on LinkedIn (Opens in new window)\n				LinkedIn
URL:https://georgiapickleballtournaments.com/event/igniting-hope-for-the-homeless-2/
LOCATION:Rhythm & Rally Sports & Events\, 3661 Eisenhower Pkwy\, Macon\, GA\, 31206\, United States
CATEGORIES:Georgia
ATTACH;FMTTYPE=image/jpeg:https://georgiapickleballtournaments.com/wp-content/uploads/2025/06/20250823b.jpg
END:VEVENT
BEGIN:VEVENT
DTSTART;VALUE=DATE:20250823
DTEND;VALUE=DATE:20250825
DTSTAMP:20260423T013910
CREATED:20250721T005432Z
LAST-MODIFIED:20250721T005432Z
UID:10000285-1755907200-1756079999@georgiapickleballtournaments.com
SUMMARY:Honcho Amateur Tour
DESCRIPTION:⏺️••”Honcho Amateur Tour”\nPickleball tournament in Atlanta\, GA\nOrganized by: Honcho Pickleball League\nShare this:\n				Share on Facebook (Opens in new window)\n				Facebook\n			\n				Share on X (Opens in new window)\n				X\n			\n				Share on WhatsApp (Opens in new window)\n				WhatsApp\n			\n				Share on Pinterest (Opens in new window)\n				Pinterest\n			\n				Share on LinkedIn (Opens in new window)\n				LinkedIn
URL:https://georgiapickleballtournaments.com/event/honcho-amateur-tour/
LOCATION:The Atlanta Pickleball Center\, 1359 Ellsworth Industrial Blvd NW suite B\, Atlanta\, 30318\, United States
CATEGORIES:Georgia
ATTACH;FMTTYPE=image/jpeg:https://georgiapickleballtournaments.com/wp-content/uploads/2025/07/20250823d.jpg
END:VEVENT
END:VCALENDAR