BEGIN:VCALENDAR
VERSION:2.0
PRODID:-//Georgia Pickleball Tournaments - ECPv6.15.20//NONSGML v1.0//EN
CALSCALE:GREGORIAN
METHOD:PUBLISH
X-WR-CALNAME:Georgia Pickleball Tournaments
X-ORIGINAL-URL:https://georgiapickleballtournaments.com
X-WR-CALDESC:Events for Georgia Pickleball Tournaments
REFRESH-INTERVAL;VALUE=DURATION:PT1H
X-Robots-Tag:noindex
X-PUBLISHED-TTL:PT1H
BEGIN:VTIMEZONE
TZID:America/New_York
BEGIN:DAYLIGHT
TZOFFSETFROM:-0500
TZOFFSETTO:-0400
TZNAME:EDT
DTSTART:20240310T070000
END:DAYLIGHT
BEGIN:STANDARD
TZOFFSETFROM:-0400
TZOFFSETTO:-0500
TZNAME:EST
DTSTART:20241103T060000
END:STANDARD
BEGIN:DAYLIGHT
TZOFFSETFROM:-0500
TZOFFSETTO:-0400
TZNAME:EDT
DTSTART:20250309T070000
END:DAYLIGHT
BEGIN:STANDARD
TZOFFSETFROM:-0400
TZOFFSETTO:-0500
TZNAME:EST
DTSTART:20251102T060000
END:STANDARD
BEGIN:DAYLIGHT
TZOFFSETFROM:-0500
TZOFFSETTO:-0400
TZNAME:EDT
DTSTART:20260308T070000
END:DAYLIGHT
BEGIN:STANDARD
TZOFFSETFROM:-0400
TZOFFSETTO:-0500
TZNAME:EST
DTSTART:20261101T060000
END:STANDARD
END:VTIMEZONE
BEGIN:VEVENT
DTSTART;VALUE=DATE:20250704
DTEND;VALUE=DATE:20250706
DTSTAMP:20260422T193305
CREATED:20250620T102441Z
LAST-MODIFIED:20250620T102441Z
UID:10000243-1751587200-1751759999@georgiapickleballtournaments.com
SUMMARY:July 4th Special RNB $500 Moneyball
DESCRIPTION:⏺️••”July 4th Special RNB $500 Moneyball” \n\n\n\n\n\n\n\n\n\n\nPickleball tournament in Marietta\, GA\nOrganized by: RNB Tennis & Pickleball\n\n\n\n\nShare this:\n				Share on Facebook (Opens in new window)\n				Facebook\n			\n				Share on X (Opens in new window)\n				X\n			\n				Share on WhatsApp (Opens in new window)\n				WhatsApp\n			\n				Share on Pinterest (Opens in new window)\n				Pinterest\n			\n				Share on LinkedIn (Opens in new window)\n				LinkedIn
URL:https://georgiapickleballtournaments.com/event/july-4th-special-rnb-500-moneyball/
LOCATION:Oregon Park\, 3791 Lamb Dr\, Marietta\, GA\, 30064\, United States
CATEGORIES:Georgia
ATTACH;FMTTYPE=image/jpeg:https://georgiapickleballtournaments.com/wp-content/uploads/2025/06/20250704a.jpg
END:VEVENT
BEGIN:VEVENT
DTSTART;VALUE=DATE:20250705
DTEND;VALUE=DATE:20250706
DTSTAMP:20260422T193305
CREATED:20250623T135310Z
LAST-MODIFIED:20250623T135423Z
UID:10000251-1751673600-1751759999@georgiapickleballtournaments.com
SUMMARY:Red\, White & Boom Boom Boom
DESCRIPTION:⏺️••”Red\, White & Boom Boom Boom”\nPickleball tournament in Calhoun\, GA\nOrganized by: Pickleball 706\nShare this:\n				Share on Facebook (Opens in new window)\n				Facebook\n			\n				Share on X (Opens in new window)\n				X\n			\n				Share on WhatsApp (Opens in new window)\n				WhatsApp\n			\n				Share on Pinterest (Opens in new window)\n				Pinterest\n			\n				Share on LinkedIn (Opens in new window)\n				LinkedIn
URL:https://georgiapickleballtournaments.com/event/red-white-boom-boom-boom/
LOCATION:Pickleball 706\, 122 WC Bryant Pkwy\, Calhoun\, GA\, 30701\, United States
CATEGORIES:Georgia,Singles
ATTACH;FMTTYPE=image/jpeg:https://georgiapickleballtournaments.com/wp-content/uploads/2025/06/20250705b.jpg
END:VEVENT
BEGIN:VEVENT
DTSTART;VALUE=DATE:20250705
DTEND;VALUE=DATE:20250707
DTSTAMP:20260422T193305
CREATED:20250618T161041Z
LAST-MODIFIED:20250618T161041Z
UID:10000239-1751673600-1751846399@georgiapickleballtournaments.com
SUMMARY:Stars and Stripes Macon
DESCRIPTION:⏺️••”Stars and Stripes Macon”\nPickleball tournament in Macon\, GA\nOrganized by: Southern Pickleball\nShare this:\n				Share on Facebook (Opens in new window)\n				Facebook\n			\n				Share on X (Opens in new window)\n				X\n			\n				Share on WhatsApp (Opens in new window)\n				WhatsApp\n			\n				Share on Pinterest (Opens in new window)\n				Pinterest\n			\n				Share on LinkedIn (Opens in new window)\n				LinkedIn
URL:https://georgiapickleballtournaments.com/event/stars-and-stripes-macon/
LOCATION:Rhythm and Rally Sports & Events\, 3661 Eisenhower Parkway\, Macon\, 31206\, United States
CATEGORIES:Georgia
ATTACH;FMTTYPE=image/jpeg:https://georgiapickleballtournaments.com/wp-content/uploads/2025/06/20250705a.jpg
END:VEVENT
BEGIN:VEVENT
DTSTART;VALUE=DATE:20250710
DTEND;VALUE=DATE:20250713
DTSTAMP:20260422T193305
CREATED:20250618T163736Z
LAST-MODIFIED:20250618T163736Z
UID:10000240-1752105600-1752364799@georgiapickleballtournaments.com
SUMMARY:2025 Apple Capital Paddle Battle
DESCRIPTION:⏺️••”2025 Apple Capital Paddle Battle”\nPickleball tournament in Ellijay\, GA\nOrganized by: Victory Christian Center\nShare this:\n				Share on Facebook (Opens in new window)\n				Facebook\n			\n				Share on X (Opens in new window)\n				X\n			\n				Share on WhatsApp (Opens in new window)\n				WhatsApp\n			\n				Share on Pinterest (Opens in new window)\n				Pinterest\n			\n				Share on LinkedIn (Opens in new window)\n				LinkedIn
URL:https://georgiapickleballtournaments.com/event/2025-apple-capital-paddle-battle/
LOCATION:Victory Christian Center\, 208 Victory Circle\, Ellijay\, GA\, 30540\, United States
CATEGORIES:Georgia
ATTACH;FMTTYPE=image/jpeg:https://georgiapickleballtournaments.com/wp-content/uploads/2025/06/20250710a.jpg
END:VEVENT
BEGIN:VEVENT
DTSTART;VALUE=DATE:20250712
DTEND;VALUE=DATE:20250714
DTSTAMP:20260422T193305
CREATED:20250618T235323Z
LAST-MODIFIED:20250618T235905Z
UID:10000242-1752278400-1752451199@georgiapickleballtournaments.com
SUMMARY:Inaugural Dill Dinkers Dink-off!
DESCRIPTION:⏺️••”Inaugural Dill Dinkers Dink-off!”\nPickleball tournament in Atlanta\, GA\nOrganized by: Dill Dinkers – West End\nShare this:\n				Share on Facebook (Opens in new window)\n				Facebook\n			\n				Share on X (Opens in new window)\n				X\n			\n				Share on WhatsApp (Opens in new window)\n				WhatsApp\n			\n				Share on Pinterest (Opens in new window)\n				Pinterest\n			\n				Share on LinkedIn (Opens in new window)\n				LinkedIn
URL:https://georgiapickleballtournaments.com/event/inaugural-dill-dinkers-dink-off/
LOCATION:Dill Dinkers West End\, 1200 White Street Southwest #1000\, Atlanta\, GA\, 30310\, United States
CATEGORIES:Georgia
ATTACH;FMTTYPE=image/jpeg:https://georgiapickleballtournaments.com/wp-content/uploads/2025/06/20250712b.jpg
END:VEVENT
BEGIN:VEVENT
DTSTART;VALUE=DATE:20250717
DTEND;VALUE=DATE:20250721
DTSTAMP:20260422T193305
CREATED:20250620T115103Z
LAST-MODIFIED:20250620T115153Z
UID:10000244-1752710400-1753055999@georgiapickleballtournaments.com
SUMMARY:Dink'd Summer Slam
DESCRIPTION:⏺️••”Dink’d Summer Slam”\nPickleball tournament in Augusta\, GA\nOrganized by: DiNK’D PiCKLEBALL\nShare this:\n				Share on Facebook (Opens in new window)\n				Facebook\n			\n				Share on X (Opens in new window)\n				X\n			\n				Share on WhatsApp (Opens in new window)\n				WhatsApp\n			\n				Share on Pinterest (Opens in new window)\n				Pinterest\n			\n				Share on LinkedIn (Opens in new window)\n				LinkedIn
URL:https://georgiapickleballtournaments.com/event/dinkd-summer-slam/
LOCATION:Dink’d Pickleball – Augusta\, 500 Fury's Ferry Rd\, Suite107\, Augusta\, GA\, 30907\, United States
CATEGORIES:Georgia
ATTACH;FMTTYPE=image/jpeg:https://georgiapickleballtournaments.com/wp-content/uploads/2025/06/20250717a.jpg
END:VEVENT
BEGIN:VEVENT
DTSTART;VALUE=DATE:20250718
DTEND;VALUE=DATE:20250719
DTSTAMP:20260422T193305
CREATED:20250620T133629Z
LAST-MODIFIED:20250620T133629Z
UID:10000246-1752796800-1752883199@georgiapickleballtournaments.com
SUMMARY:YLWG Friday Night Lights
DESCRIPTION:⏺️••”YLWG Friday Night Lights”\nPickleball tournament in Carrollton\, GA\nOrganized by: Young Life West Georgia\nShare this:\n				Share on Facebook (Opens in new window)\n				Facebook\n			\n				Share on X (Opens in new window)\n				X\n			\n				Share on WhatsApp (Opens in new window)\n				WhatsApp\n			\n				Share on Pinterest (Opens in new window)\n				Pinterest\n			\n				Share on LinkedIn (Opens in new window)\n				LinkedIn
URL:https://georgiapickleballtournaments.com/event/ylwg-friday-night-lights/
LOCATION:PATL – Pickleball at the Lake\, 116 Lumpkin Drive\, Carrollton\, 30117\, United States
CATEGORIES:Georgia
ATTACH;FMTTYPE=image/jpeg:https://georgiapickleballtournaments.com/wp-content/uploads/2025/06/20250718a.jpg
END:VEVENT
BEGIN:VEVENT
DTSTART;VALUE=DATE:20250718
DTEND;VALUE=DATE:20250721
DTSTAMP:20260422T193305
CREATED:20250623T074502Z
LAST-MODIFIED:20250623T074502Z
UID:10000248-1752796800-1753055999@georgiapickleballtournaments.com
SUMMARY:Power of the Paddle Tifton
DESCRIPTION:⏺️••”Power of the Paddle Tifton”\nPickleball tournament in Tifton\, GA\nOrganized by: Let’s Play Pickleball\nShare this:\n				Share on Facebook (Opens in new window)\n				Facebook\n			\n				Share on X (Opens in new window)\n				X\n			\n				Share on WhatsApp (Opens in new window)\n				WhatsApp\n			\n				Share on Pinterest (Opens in new window)\n				Pinterest\n			\n				Share on LinkedIn (Opens in new window)\n				LinkedIn
URL:https://georgiapickleballtournaments.com/event/power-of-the-paddle-tifton/
LOCATION:Tift County Recreation Department\, 315 West 2nd Street\, Tifton\, GA\, 31794\, United States
CATEGORIES:Georgia
ATTACH;FMTTYPE=image/jpeg:https://georgiapickleballtournaments.com/wp-content/uploads/2025/06/20250718b.jpg
END:VEVENT
BEGIN:VEVENT
DTSTART;VALUE=DATE:20250719
DTEND;VALUE=DATE:20250720
DTSTAMP:20260422T193305
CREATED:20250628T080835Z
LAST-MODIFIED:20250628T080854Z
UID:10000256-1752883200-1752969599@georgiapickleballtournaments.com
SUMMARY:Beyond the Badge's Round Robin
DESCRIPTION:⏺️••”Beyond the Badge’s Round Robin”\nPickleball tournament in Monroe\, GA\nOrganized by: Deputies Beyond the Badge\nShare this:\n				Share on Facebook (Opens in new window)\n				Facebook\n			\n				Share on X (Opens in new window)\n				X\n			\n				Share on WhatsApp (Opens in new window)\n				WhatsApp\n			\n				Share on Pinterest (Opens in new window)\n				Pinterest\n			\n				Share on LinkedIn (Opens in new window)\n				LinkedIn
URL:https://georgiapickleballtournaments.com/event/beyond-the-badges-round-robin/
LOCATION:Ayers Park\, 1011 Heritage Parkway\, Monroe\, GA\, 30656\, United States
CATEGORIES:Georgia
ATTACH;FMTTYPE=image/jpeg:https://georgiapickleballtournaments.com/wp-content/uploads/2025/06/20250719c.jpg
END:VEVENT
BEGIN:VEVENT
DTSTART;VALUE=DATE:20250719
DTEND;VALUE=DATE:20250721
DTSTAMP:20260422T193305
CREATED:20250623T082211Z
LAST-MODIFIED:20250623T082211Z
UID:10000249-1752883200-1753055999@georgiapickleballtournaments.com
SUMMARY:Drop It Like It's Hot
DESCRIPTION:⏺️••”Drop It Like It’s Hot”\nPickleball tournament in Covington\, GA\nOrganized by: The Pickleball People Club\nShare this:\n				Share on Facebook (Opens in new window)\n				Facebook\n			\n				Share on X (Opens in new window)\n				X\n			\n				Share on WhatsApp (Opens in new window)\n				WhatsApp\n			\n				Share on Pinterest (Opens in new window)\n				Pinterest\n			\n				Share on LinkedIn (Opens in new window)\n				LinkedIn
URL:https://georgiapickleballtournaments.com/event/drop-it-like-its-hot/
LOCATION:City Pond Park\, 13501 City Pond Rd.\, Covington\, GA\, 30014\, United States
CATEGORIES:Georgia
ATTACH;FMTTYPE=image/jpeg:https://georgiapickleballtournaments.com/wp-content/uploads/2025/06/20250719a.jpg
END:VEVENT
BEGIN:VEVENT
DTSTART;VALUE=DATE:20250719
DTEND;VALUE=DATE:20250721
DTSTAMP:20260422T193305
CREATED:20250628T073415Z
LAST-MODIFIED:20250628T073415Z
UID:10000255-1752883200-1753055999@georgiapickleballtournaments.com
SUMMARY:Pickleball Lovers of America Rugged RR
DESCRIPTION:⏺️••”Pickleball Lovers of America Rugged RR”\nPickleball tournament in Ellenwood\, GA\nOrganized by: Pickleball Lovers of America\nShare this:\n				Share on Facebook (Opens in new window)\n				Facebook\n			\n				Share on X (Opens in new window)\n				X\n			\n				Share on WhatsApp (Opens in new window)\n				WhatsApp\n			\n				Share on Pinterest (Opens in new window)\n				Pinterest\n			\n				Share on LinkedIn (Opens in new window)\n				LinkedIn
URL:https://georgiapickleballtournaments.com/event/pickleball-lovers-of-america-rugged-rr/
LOCATION:Hidden Valley Park\, 100 Spraggins Memorial Pkwy\, Ellenwood\, GA\, 30281\, United States
CATEGORIES:Georgia
ATTACH;FMTTYPE=image/jpeg:https://georgiapickleballtournaments.com/wp-content/uploads/2025/06/20250719b.jpg
END:VEVENT
BEGIN:VEVENT
DTSTART;VALUE=DATE:20250725
DTEND;VALUE=DATE:20250728
DTSTAMP:20260422T193305
CREATED:20250623T132920Z
LAST-MODIFIED:20250623T132937Z
UID:10000250-1753401600-1753660799@georgiapickleballtournaments.com
SUMMARY:Summer Showdown
DESCRIPTION:⏺️••”Summer Showdown”\nPickleball tournament in Wrens\, GA\nOrganized by: North Jefferson Family YMCA\nShare this:\n				Share on Facebook (Opens in new window)\n				Facebook\n			\n				Share on X (Opens in new window)\n				X\n			\n				Share on WhatsApp (Opens in new window)\n				WhatsApp\n			\n				Share on Pinterest (Opens in new window)\n				Pinterest\n			\n				Share on LinkedIn (Opens in new window)\n				LinkedIn
URL:https://georgiapickleballtournaments.com/event/summer-showdown/
LOCATION:North Jefferson Family YMCA\, 3001 Georgia 17\, Wrens\, GA\, 30833\, United States
CATEGORIES:Georgia
ATTACH;FMTTYPE=image/jpeg:https://georgiapickleballtournaments.com/wp-content/uploads/2025/06/20250725a.jpg
END:VEVENT
BEGIN:VEVENT
DTSTART;VALUE=DATE:20250725
DTEND;VALUE=DATE:20250728
DTSTAMP:20260422T193305
CREATED:20250628T175624Z
LAST-MODIFIED:20250628T175624Z
UID:10000257-1753401600-1753660799@georgiapickleballtournaments.com
SUMMARY:MTP Moneyball July 2025
DESCRIPTION:⏺️••”MTP Moneyball July 2025″\nPickleball tournament in Buford\, GA\nOrganized by: More Than Pickleball – Buford\, GA\nShare this:\n				Share on Facebook (Opens in new window)\n				Facebook\n			\n				Share on X (Opens in new window)\n				X\n			\n				Share on WhatsApp (Opens in new window)\n				WhatsApp\n			\n				Share on Pinterest (Opens in new window)\n				Pinterest\n			\n				Share on LinkedIn (Opens in new window)\n				LinkedIn
URL:https://georgiapickleballtournaments.com/event/mtp-moneyball-july-2025/
LOCATION:More Than Pickleball\, 3230 Woodward Crossing Blvd\, Buford\, GA\, 30519\, United States
CATEGORIES:Georgia
ATTACH;FMTTYPE=image/jpeg:https://georgiapickleballtournaments.com/wp-content/uploads/2025/06/20250725b.jpg
ORGANIZER;CN="More Than Pickleball Team":MAILTO:info@morethanpball.com
END:VEVENT
BEGIN:VEVENT
DTSTART;VALUE=DATE:20250726
DTEND;VALUE=DATE:20250727
DTSTAMP:20260422T193305
CREATED:20250628T193405Z
LAST-MODIFIED:20250628T193405Z
UID:10000258-1753488000-1753574399@georgiapickleballtournaments.com
SUMMARY:3rd Annual Bill Thornton Summer Smash
DESCRIPTION:⏺️••”3rd Annual Bill Thornton Summer Smash”\nPickleball tournament in Rome\, GA\nOrganized by: Rome Downtown Racquets Center\nShare this:\n				Share on Facebook (Opens in new window)\n				Facebook\n			\n				Share on X (Opens in new window)\n				X\n			\n				Share on WhatsApp (Opens in new window)\n				WhatsApp\n			\n				Share on Pinterest (Opens in new window)\n				Pinterest\n			\n				Share on LinkedIn (Opens in new window)\n				LinkedIn
URL:https://georgiapickleballtournaments.com/event/3rd-annual-bill-thornton-summer-smash/
LOCATION:Rome Downtown Racquets Center\, 301 W 3rd St\, Rome\, GA\, 30165\, United States
CATEGORIES:Georgia
ATTACH;FMTTYPE=image/jpeg:https://georgiapickleballtournaments.com/wp-content/uploads/2025/06/20250726a.jpg
END:VEVENT
BEGIN:VEVENT
DTSTART;VALUE=DATE:20250726
DTEND;VALUE=DATE:20250728
DTSTAMP:20260422T193305
CREATED:20250628T230840Z
LAST-MODIFIED:20250628T230840Z
UID:10000259-1753488000-1753660799@georgiapickleballtournaments.com
SUMMARY:Summer Smash Showdown
DESCRIPTION:⏺️••”Summer Smash Showdown”\nPickleball tournament in Johns Creek\, GA\nOrganized by: Life Time Johns Creek\nShare this:\n				Share on Facebook (Opens in new window)\n				Facebook\n			\n				Share on X (Opens in new window)\n				X\n			\n				Share on WhatsApp (Opens in new window)\n				WhatsApp\n			\n				Share on Pinterest (Opens in new window)\n				Pinterest\n			\n				Share on LinkedIn (Opens in new window)\n				LinkedIn
URL:https://georgiapickleballtournaments.com/event/summer-smash-showdown/
LOCATION:Life Time Johns Creek\, 11555 Johns Creek Pkwy\, Johns Creek\, 30097\, United States
CATEGORIES:Georgia
ATTACH;FMTTYPE=image/jpeg:https://georgiapickleballtournaments.com/wp-content/uploads/2025/06/20250726b.jpg
END:VEVENT
END:VCALENDAR