BEGIN:VCALENDAR
VERSION:2.0
PRODID:-//Georgia Pickleball Tournaments - ECPv6.15.20//NONSGML v1.0//EN
CALSCALE:GREGORIAN
METHOD:PUBLISH
X-ORIGINAL-URL:https://georgiapickleballtournaments.com
X-WR-CALDESC:Events for Georgia Pickleball Tournaments
REFRESH-INTERVAL;VALUE=DURATION:PT1H
X-Robots-Tag:noindex
X-PUBLISHED-TTL:PT1H
BEGIN:VTIMEZONE
TZID:UTC
BEGIN:STANDARD
TZOFFSETFROM:+0000
TZOFFSETTO:+0000
TZNAME:UTC
DTSTART:20230101T000000
END:STANDARD
END:VTIMEZONE
BEGIN:VEVENT
DTSTART;VALUE=DATE:20240706
DTEND;VALUE=DATE:20240707
DTSTAMP:20260423T152149
CREATED:20240607T201225Z
LAST-MODIFIED:20240607T203614Z
UID:10000084-1720224000-1720310399@georgiapickleballtournaments.com
SUMMARY:InDINKpendence Day Tournament
DESCRIPTION:⏺️••”InDINKpendence Day Tournament”\nPickleball tournament in Buford\, GA\nOrganized by: ATL Picklebrawl \nShare this:\n				Share on Facebook (Opens in new window)\n				Facebook\n			\n				Share on X (Opens in new window)\n				X\n			\n				Share on WhatsApp (Opens in new window)\n				WhatsApp\n			\n				Share on Pinterest (Opens in new window)\n				Pinterest\n			\n				Share on LinkedIn (Opens in new window)\n				LinkedIn
URL:https://georgiapickleballtournaments.com/event/indinkpendence-day-tournament/
LOCATION:More Than Pickleball\, 3230 Woodward Crossing Blvd\, Buford\, GA\, 30519\, United States
CATEGORIES:Georgia
ATTACH;FMTTYPE=image/jpeg:https://georgiapickleballtournaments.com/wp-content/uploads/2024/06/20240706a.jpg
END:VEVENT
BEGIN:VEVENT
DTSTART;VALUE=DATE:20240712
DTEND;VALUE=DATE:20240714
DTSTAMP:20260423T152149
CREATED:20240514T064806Z
LAST-MODIFIED:20240514T071525Z
UID:10000052-1720742400-1720915199@georgiapickleballtournaments.com
SUMMARY:2024 Apple Capital Paddle Battle
DESCRIPTION:⏺️••”2024 Apple Capital Paddle Battle” \nPickleball tournament in Ellijay\, GA \nOrganized by: Victory Christian Center \nShare this:\n				Share on Facebook (Opens in new window)\n				Facebook\n			\n				Share on X (Opens in new window)\n				X\n			\n				Share on WhatsApp (Opens in new window)\n				WhatsApp\n			\n				Share on Pinterest (Opens in new window)\n				Pinterest\n			\n				Share on LinkedIn (Opens in new window)\n				LinkedIn
URL:https://georgiapickleballtournaments.com/event/2024-apple-capital-paddle-battle/
LOCATION:Victory Christian Center\, 208 Victory Circle\, Ellijay\, GA\, 30540\, United States
CATEGORIES:Georgia
ATTACH;FMTTYPE=image/jpeg:https://georgiapickleballtournaments.com/wp-content/uploads/2024/05/20240712b.jpg
END:VEVENT
BEGIN:VEVENT
DTSTART;VALUE=DATE:20240712
DTEND;VALUE=DATE:20240715
DTSTAMP:20260423T152149
CREATED:20240513T192659Z
LAST-MODIFIED:20240513T193425Z
UID:10000049-1720742400-1721001599@georgiapickleballtournaments.com
SUMMARY:2024 USSP Indoor National Championship
DESCRIPTION:⏺️••”2024 USSP Indoor National Championship” \nPickleball tournament in Macon\, GA \nOrganized by: US Senior Pickleball – USSP \nShare this:\n				Share on Facebook (Opens in new window)\n				Facebook\n			\n				Share on X (Opens in new window)\n				X\n			\n				Share on WhatsApp (Opens in new window)\n				WhatsApp\n			\n				Share on Pinterest (Opens in new window)\n				Pinterest\n			\n				Share on LinkedIn (Opens in new window)\n				LinkedIn
URL:https://georgiapickleballtournaments.com/event/2024-ussp-indoor-national-championship/
LOCATION:Rhythm & Rally Sports & Events\, 3661 Eisenhower Pkwy\, Macon\, GA\, 31206\, United States
CATEGORIES:Georgia
ATTACH;FMTTYPE=image/jpeg:https://georgiapickleballtournaments.com/wp-content/uploads/2024/05/20240712a.jpg
END:VEVENT
BEGIN:VEVENT
DTSTART;VALUE=DATE:20240713
DTEND;VALUE=DATE:20240714
DTSTAMP:20260423T152149
CREATED:20240514T071927Z
LAST-MODIFIED:20240514T081706Z
UID:10000053-1720828800-1720915199@georgiapickleballtournaments.com
SUMMARY:USAPB East Coast Championships
DESCRIPTION:⏺️••”USAPB East Coast Championships” \nPickleball tournament in Atlanta\, GA \nOrganized by: USAPB \nALL PLAYERS MUST REQUEST AN INVITE TO OUR USAPB DUPR GROUP BEFORE THE TOURNAMENT STARTS\nALL PLAYERS MUST BE REGISTRERD INTO OUR DUPR GROUP IN ORDER TO PLAY. NO EXCEPTIONS \nplease copy this link to request an invite. The name of the club is USAPB\nhttps://mydupr.com/dashboard/browse/clubs/6455188763 \nShare this:\n				Share on Facebook (Opens in new window)\n				Facebook\n			\n				Share on X (Opens in new window)\n				X\n			\n				Share on WhatsApp (Opens in new window)\n				WhatsApp\n			\n				Share on Pinterest (Opens in new window)\n				Pinterest\n			\n				Share on LinkedIn (Opens in new window)\n				LinkedIn
URL:https://georgiapickleballtournaments.com/event/usapb-east-coast-championships/
LOCATION:ITA Atlanta\, 3110 Presidential Dr\, Atlanta\, 30340\, United States
CATEGORIES:Georgia
ATTACH;FMTTYPE=image/jpeg:https://georgiapickleballtournaments.com/wp-content/uploads/2024/05/20240713a.jpg
END:VEVENT
BEGIN:VEVENT
DTSTART;VALUE=DATE:20240713
DTEND;VALUE=DATE:20240715
DTSTAMP:20260423T152149
CREATED:20240607T091949Z
LAST-MODIFIED:20240607T093529Z
UID:10000080-1720828800-1721001599@georgiapickleballtournaments.com
SUMMARY:Paddle Battle Benefiting Love Your Story
DESCRIPTION:⏺️••”Paddle Battle Benefiting Love Your Story”\nPickleball tournament in Flowery Branch\, GA\nOrganized by: Love Your Story \nThe 1st Annual Paddle Battle Pickleball Tournament will be held at Alberta Banks Park in Flowery Branch Georgia on July 13th and 14th. The tournament is presented by Riverside Roofing and is being held to benefit Love Your Story. Love Your Story is a not-for-profit located in Gainesville\, GA who’s mission is to create places of respite and belonging for families impacted by disability.  \nThe doubles only tournament will be single elimination with a consolidation bracket. Registration is $120 per pair with all proceeds benefitting Love Your Story.  \nShare this:\n				Share on Facebook (Opens in new window)\n				Facebook\n			\n				Share on X (Opens in new window)\n				X\n			\n				Share on WhatsApp (Opens in new window)\n				WhatsApp\n			\n				Share on Pinterest (Opens in new window)\n				Pinterest\n			\n				Share on LinkedIn (Opens in new window)\n				LinkedIn
URL:https://georgiapickleballtournaments.com/event/paddle-battle-benefiting-love-your-story/
LOCATION:Alberta Banks Park\, 5575 Jim Crow Rd\, Flowery Branch\, 30542\, United States
CATEGORIES:Georgia
ATTACH;FMTTYPE=image/jpeg:https://georgiapickleballtournaments.com/wp-content/uploads/2024/06/20240713b.jpg
END:VEVENT
BEGIN:VEVENT
DTSTART;VALUE=DATE:20240713
DTEND;VALUE=DATE:20240715
DTSTAMP:20260423T152149
CREATED:20240630T021043Z
LAST-MODIFIED:20240630T023108Z
UID:10000103-1720828800-1721001599@georgiapickleballtournaments.com
SUMMARY:UPE600 Tournament
DESCRIPTION:⏺️••”UPE600 Tournament”\nPickleball tournament in Brunswick\, GA\nOrganized by: United Pickleball Experience \nUPE is coming to Georgia for the $2000 PRIZE MONEY Pickleball Tournament starting July 13 at the North Glynn Recreation Complex in Brunswick\, GA! Secure your spot now at www.UnitedPickleballExp.com or by scanning the QR code.  \nShare this:\n				Share on Facebook (Opens in new window)\n				Facebook\n			\n				Share on X (Opens in new window)\n				X\n			\n				Share on WhatsApp (Opens in new window)\n				WhatsApp\n			\n				Share on Pinterest (Opens in new window)\n				Pinterest\n			\n				Share on LinkedIn (Opens in new window)\n				LinkedIn
URL:https://georgiapickleballtournaments.com/event/upe600-tournament/
LOCATION:North Glynn Recreation Complex\, 570 Harry Driggers Blvd\, Brunswick\, GA\, 31520\, United States
CATEGORIES:Georgia
ATTACH;FMTTYPE=image/jpeg:https://georgiapickleballtournaments.com/wp-content/uploads/2024/06/20240713c.jpg
END:VEVENT
BEGIN:VEVENT
DTSTART;VALUE=DATE:20240720
DTEND;VALUE=DATE:20240721
DTSTAMP:20260423T152149
CREATED:20240619T052837Z
LAST-MODIFIED:20240619T054057Z
UID:10000098-1721433600-1721519999@georgiapickleballtournaments.com
SUMMARY:Premier Pickleball Summer DUPR
DESCRIPTION:⏺️••”Premier Pickleball Summer DUPR”\nPickleball tournament in Dunwoody\, GA\nOrganized by: Premier Pickleball Club \n🚨Premier Pickleball Club is back with our next tournament and we are excited to announce we are partnering with @agapetennisgeorgia to bring you an even better tournament! \n🔹This tournament is a DUPR official event. \n☀️ Premier Pickleball presents the Premier Pickleball Summer DUPR   \n📆 Saturday\, July 20th\, 9am-5pm \n📍Dunwoody Tennis Center at Georgia State University \n     2101 Womack Rd. Dunwoody\, GA 30338 \n💲40 per person \n🥇🥈🥉Prizes for Gold\, Silver\, and Bronze. \n📆 Registration closes July 14th \n🛍️Players will also receive a goody bag! \nShare this:\n				Share on Facebook (Opens in new window)\n				Facebook\n			\n				Share on X (Opens in new window)\n				X\n			\n				Share on WhatsApp (Opens in new window)\n				WhatsApp\n			\n				Share on Pinterest (Opens in new window)\n				Pinterest\n			\n				Share on LinkedIn (Opens in new window)\n				LinkedIn
URL:https://georgiapickleballtournaments.com/event/premier-pickleball-summer-dupr/
LOCATION:Dunwoody Tennis Center\, 2101 Womack Rd\, Dunwoody\, 30338\, United States
CATEGORIES:Georgia
ATTACH;FMTTYPE=image/jpeg:https://georgiapickleballtournaments.com/wp-content/uploads/2024/06/20240720b.jpg
END:VEVENT
BEGIN:VEVENT
DTSTART;VALUE=DATE:20240720
DTEND;VALUE=DATE:20240722
DTSTAMP:20260423T152149
CREATED:20240512T023229Z
LAST-MODIFIED:20240512T023229Z
UID:10000026-1721433600-1721606399@georgiapickleballtournaments.com
SUMMARY:Golden Pickle Legacy Invitational
DESCRIPTION:⏺️••”Golden Pickle Legacy Invitational” \nPickleball tournament in Canton\, GA \nOrganized by: DAB Pickleball \nShare this:\n				Share on Facebook (Opens in new window)\n				Facebook\n			\n				Share on X (Opens in new window)\n				X\n			\n				Share on WhatsApp (Opens in new window)\n				WhatsApp\n			\n				Share on Pinterest (Opens in new window)\n				Pinterest\n			\n				Share on LinkedIn (Opens in new window)\n				LinkedIn
URL:https://georgiapickleballtournaments.com/event/golden-pickle-legacy-invitational/
LOCATION:BridgeMill Athletic Club\, 1180 Bridgemill Ave\, Canton\, GA\, United States
CATEGORIES:Georgia
ATTACH;FMTTYPE=image/jpeg:https://georgiapickleballtournaments.com/wp-content/uploads/2024/05/20240720a.jpg
ORGANIZER;CN="DAB Pickleball":MAILTO:pickleball@dinkinandbangin.com
END:VEVENT
BEGIN:VEVENT
DTSTART;VALUE=DATE:20240721
DTEND;VALUE=DATE:20240722
DTSTAMP:20260423T152149
CREATED:20240717T002201Z
LAST-MODIFIED:20240717T003002Z
UID:10000104-1721520000-1721606399@georgiapickleballtournaments.com
SUMMARY:Denmark HS Pickleball Club Fundraiser
DESCRIPTION:⏺️••”Denmark HS Pickleball Club Fundraiser”\nPickleball tournament in Alpharetta\, GA\nOrganized by: Denmark High School \nFrom ORGANIZERS \nThank you for your interest in Denmark Pickleball Club’s tournament and fundraiser! Come enjoy a day filled with activities\, exercise\, and togetherness as we connect to raise awareness for a worthy cause. We enthusiastically encourage all players\, no matter how skilled or inexperienced\, to take part in this exhilarating occasion. You can find the details needed to finish your registration below. \nShare this:\n				Share on Facebook (Opens in new window)\n				Facebook\n			\n				Share on X (Opens in new window)\n				X\n			\n				Share on WhatsApp (Opens in new window)\n				WhatsApp\n			\n				Share on Pinterest (Opens in new window)\n				Pinterest\n			\n				Share on LinkedIn (Opens in new window)\n				LinkedIn
URL:https://georgiapickleballtournaments.com/event/denmark-hs-pickleball-club-fundraiser/
LOCATION:Alpharetta North Park North Tennis and Pickleball Center\, 13450 Cogburn Rd\, Alpharetta\, GA\, 30004\, United States
CATEGORIES:Georgia
ATTACH;FMTTYPE=image/jpeg:https://georgiapickleballtournaments.com/wp-content/uploads/2024/07/20240721a.jpg
END:VEVENT
BEGIN:VEVENT
DTSTART;VALUE=DATE:20240727
DTEND;VALUE=DATE:20240728
DTSTAMP:20260423T152149
CREATED:20240608T090831Z
LAST-MODIFIED:20240608T094238Z
UID:10000086-1722038400-1722124799@georgiapickleballtournaments.com
SUMMARY:2nd Annual Bill Thornton Summer Smash
DESCRIPTION:⏺️••”2nd Annual Bill Thornton Summer Smash”\nPickleball tournament in Rome\, GA\nOrganized by: Rome Downtown Racquets Center \nShare this:\n				Share on Facebook (Opens in new window)\n				Facebook\n			\n				Share on X (Opens in new window)\n				X\n			\n				Share on WhatsApp (Opens in new window)\n				WhatsApp\n			\n				Share on Pinterest (Opens in new window)\n				Pinterest\n			\n				Share on LinkedIn (Opens in new window)\n				LinkedIn
URL:https://georgiapickleballtournaments.com/event/2nd-annual-bill-thornton-summer-smash/
LOCATION:Rome Downtown Racquets Center\, 301 W 3rd St\, Rome\, GA\, 30165\, United States
CATEGORIES:Georgia
ATTACH;FMTTYPE=image/jpeg:https://georgiapickleballtournaments.com/wp-content/uploads/2024/06/20240727b.jpg
END:VEVENT
BEGIN:VEVENT
DTSTART;VALUE=DATE:20240727
DTEND;VALUE=DATE:20240729
DTSTAMP:20260423T152149
CREATED:20240514T211831Z
LAST-MODIFIED:20240716T213959Z
UID:10000055-1722038400-1722211199@georgiapickleballtournaments.com
SUMMARY:Atlanta Indoor Pickleball Classic
DESCRIPTION:⏺️••”Atlanta Indoor Pickleball Classic” \nPickleball tournament in Atlanta\, GA \nOrganized by: PickleballTourneys.com \nShare this:\n				Share on Facebook (Opens in new window)\n				Facebook\n			\n				Share on X (Opens in new window)\n				X\n			\n				Share on WhatsApp (Opens in new window)\n				WhatsApp\n			\n				Share on Pinterest (Opens in new window)\n				Pinterest\n			\n				Share on LinkedIn (Opens in new window)\n				LinkedIn
URL:https://georgiapickleballtournaments.com/event/atlanta-indoor-pickleball-classic/
LOCATION:The Atlanta Pickleball Center\, 1359 Ellsworth Industrial Blvd NW suite B\, Atlanta\, 30318\, United States
CATEGORIES:Georgia
ATTACH;FMTTYPE=image/jpeg:https://georgiapickleballtournaments.com/wp-content/uploads/2024/05/20240727aCANCELED.jpg
END:VEVENT
BEGIN:VEVENT
DTSTART;VALUE=DATE:20240731
DTEND;VALUE=DATE:20240801
DTSTAMP:20260423T152149
CREATED:20240717T024811Z
LAST-MODIFIED:20240717T024811Z
UID:10000106-1722384000-1722470399@georgiapickleballtournaments.com
SUMMARY:Summer Sizzle
DESCRIPTION:⏺️••”Summer Sizzle”\nPickleball tournament in Woodstock\, GA\nOrganized by: Woodstock Parks and Recreation \nFrom ORGANIZERS \nTHE HEAT IS ON!\nThe Summer Sizzle Pickleball Tournament will be a 6-team 3.5 mixed doubles and 6-team 4.0 mixed doubles\, team round robin tournament held at the Dupree Park Pickleball Courts on July 31 with matches beginning at 6pm. This tournament will be for high intermediate mixed doubles teams. Players should be a 3.5 or 4.0 skill rating based on the USA Pickleball rating system and will register into that specific division. Each team will be guaranteed five team matches in pool play. Top four teams will play for Gold\, Silver and Bronze. Tournament matches will be self-officiated and subject to USA Pickleball Association Rules. Participating players will provide equipment. Teams will be mixed doubles (female/male) and will request partner when registering. Summer Sizzle Tournament fee is $20 per player.  \nWHEN: Wednesday\, July 31 at 6pm\nWHERE; Dupree Park Pickleball Courts\, 513 Neese Road\nFEE: $20 per player\nREGISTER HERE: \nFor 3.5 Division: https://bit.ly/3VMQDWq \nFor 4.0 Division: https://bit.ly/3W69aOE \nShare this:\n				Share on Facebook (Opens in new window)\n				Facebook\n			\n				Share on X (Opens in new window)\n				X\n			\n				Share on WhatsApp (Opens in new window)\n				WhatsApp\n			\n				Share on Pinterest (Opens in new window)\n				Pinterest\n			\n				Share on LinkedIn (Opens in new window)\n				LinkedIn
URL:https://georgiapickleballtournaments.com/event/summer-sizzle/
LOCATION:Dupree Park\, 513 Neese Rd\, Woodstock\, 30188\, United States
CATEGORIES:Georgia
ATTACH;FMTTYPE=image/jpeg:https://georgiapickleballtournaments.com/wp-content/uploads/2024/07/20240731a.jpg
END:VEVENT
END:VCALENDAR