BEGIN:VCALENDAR
VERSION:2.0
PRODID:-//Georgia Pickleball Tournaments - ECPv6.15.20//NONSGML v1.0//EN
CALSCALE:GREGORIAN
METHOD:PUBLISH
X-WR-CALNAME:Georgia Pickleball Tournaments
X-ORIGINAL-URL:https://georgiapickleballtournaments.com
X-WR-CALDESC:Events for Georgia Pickleball Tournaments
REFRESH-INTERVAL;VALUE=DURATION:PT1H
X-Robots-Tag:noindex
X-PUBLISHED-TTL:PT1H
BEGIN:VTIMEZONE
TZID:America/New_York
BEGIN:DAYLIGHT
TZOFFSETFROM:-0500
TZOFFSETTO:-0400
TZNAME:EDT
DTSTART:20240310T070000
END:DAYLIGHT
BEGIN:STANDARD
TZOFFSETFROM:-0400
TZOFFSETTO:-0500
TZNAME:EST
DTSTART:20241103T060000
END:STANDARD
BEGIN:DAYLIGHT
TZOFFSETFROM:-0500
TZOFFSETTO:-0400
TZNAME:EDT
DTSTART:20250309T070000
END:DAYLIGHT
BEGIN:STANDARD
TZOFFSETFROM:-0400
TZOFFSETTO:-0500
TZNAME:EST
DTSTART:20251102T060000
END:STANDARD
BEGIN:DAYLIGHT
TZOFFSETFROM:-0500
TZOFFSETTO:-0400
TZNAME:EDT
DTSTART:20260308T070000
END:DAYLIGHT
BEGIN:STANDARD
TZOFFSETFROM:-0400
TZOFFSETTO:-0500
TZNAME:EST
DTSTART:20261101T060000
END:STANDARD
END:VTIMEZONE
BEGIN:VEVENT
DTSTART;VALUE=DATE:20250613
DTEND;VALUE=DATE:20250615
DTSTAMP:20260423T034918
CREATED:20250325T144611Z
LAST-MODIFIED:20250325T144611Z
UID:10000224-1749772800-1749945599@georgiapickleballtournaments.com
SUMMARY:Macon Dad Proud
DESCRIPTION:⏺️••”Macon Dad Proud”\nPickleball tournament in Macon\, GA\nOrganized by: Southern Pickleball \nShare this:\n				Share on Facebook (Opens in new window)\n				Facebook\n			\n				Share on X (Opens in new window)\n				X\n			\n				Share on WhatsApp (Opens in new window)\n				WhatsApp\n			\n				Share on Pinterest (Opens in new window)\n				Pinterest\n			\n				Share on LinkedIn (Opens in new window)\n				LinkedIn
URL:https://georgiapickleballtournaments.com/event/macon-dad-proud/
LOCATION:Tattnall Pickleball Center\, 1155 College Street\, Macon\, 31201\, United States
CATEGORIES:Georgia
ATTACH;FMTTYPE=image/jpeg:https://georgiapickleballtournaments.com/wp-content/uploads/2025/03/20250613a.jpg
END:VEVENT
BEGIN:VEVENT
DTSTART;VALUE=DATE:20250619
DTEND;VALUE=DATE:20250620
DTSTAMP:20260423T034918
CREATED:20250325T154354Z
LAST-MODIFIED:20250325T154354Z
UID:10000225-1750291200-1750377599@georgiapickleballtournaments.com
SUMMARY:2nd Juneteenth Pickleball Celebration
DESCRIPTION:⏺️••”2nd Juneteenth Pickleball Celebration”\nPickleball tournament in Griffin\, GA\nOrganized by: Pickleball Partners LLC \nShare this:\n				Share on Facebook (Opens in new window)\n				Facebook\n			\n				Share on X (Opens in new window)\n				X\n			\n				Share on WhatsApp (Opens in new window)\n				WhatsApp\n			\n				Share on Pinterest (Opens in new window)\n				Pinterest\n			\n				Share on LinkedIn (Opens in new window)\n				LinkedIn
URL:https://georgiapickleballtournaments.com/event/2nd-juneteenth-pickleball-celebration/
LOCATION:Wyomia Tyus Olympic Park\, 1301 Cowan Rd\, Griffin\, 30223\, United States
CATEGORIES:Georgia
ATTACH;FMTTYPE=image/jpeg:https://georgiapickleballtournaments.com/wp-content/uploads/2025/03/20250619a.jpg
ORGANIZER;CN="Pickleball Partners of Georgia":MAILTO:PickleballPartnersofGeorgia@gmail.com
END:VEVENT
BEGIN:VEVENT
DTSTART;VALUE=DATE:20250620
DTEND;VALUE=DATE:20250623
DTSTAMP:20260423T034918
CREATED:20250617T191600Z
LAST-MODIFIED:20250617T191600Z
UID:10000236-1750377600-1750636799@georgiapickleballtournaments.com
SUMMARY:Savannah Summer Slam
DESCRIPTION:⏺️••”Savannah Summer Slam”\nPickleball tournament in Savannah\, GA\nOrganized by: Savannah Pickleball Academy\nShare this:\n				Share on Facebook (Opens in new window)\n				Facebook\n			\n				Share on X (Opens in new window)\n				X\n			\n				Share on WhatsApp (Opens in new window)\n				WhatsApp\n			\n				Share on Pinterest (Opens in new window)\n				Pinterest\n			\n				Share on LinkedIn (Opens in new window)\n				LinkedIn
URL:https://georgiapickleballtournaments.com/event/savannah-summer-slam/
LOCATION:Savannah Pickleball Academy\, 4102 Meding St\, Savannah\, GA\, 31405\, United States
CATEGORIES:Georgia
ATTACH;FMTTYPE=image/jpeg:https://georgiapickleballtournaments.com/wp-content/uploads/2025/06/20250620b.jpg
END:VEVENT
BEGIN:VEVENT
DTSTART;VALUE=DATE:20250620
DTEND;VALUE=DATE:20250623
DTSTAMP:20260423T034918
CREATED:20250223T053424Z
LAST-MODIFIED:20250617T181843Z
UID:10000183-1750377600-1750636799@georgiapickleballtournaments.com
SUMMARY:Freedom Tournament 2025
DESCRIPTION:⏺️••”Freedom Tournament 2025″\nPickleball tournament in Alpharetta\, GA\nOrganized by: A2msports.com \nShare this:\n				Share on Facebook (Opens in new window)\n				Facebook\n			\n				Share on X (Opens in new window)\n				X\n			\n				Share on WhatsApp (Opens in new window)\n				WhatsApp\n			\n				Share on Pinterest (Opens in new window)\n				Pinterest\n			\n				Share on LinkedIn (Opens in new window)\n				LinkedIn
URL:https://georgiapickleballtournaments.com/event/freedom-tournament-2025/
LOCATION:Alpharetta North Park North Tennis and Pickleball Center\, 13450 Cogburn Rd\, Alpharetta\, GA\, 30004\, United States
CATEGORIES:Georgia
ATTACH;FMTTYPE=image/jpeg:https://georgiapickleballtournaments.com/wp-content/uploads/2025/02/20250620a1.jpg
END:VEVENT
BEGIN:VEVENT
DTSTART;VALUE=DATE:20250621
DTEND;VALUE=DATE:20250622
DTSTAMP:20260423T034918
CREATED:20250617T184528Z
LAST-MODIFIED:20250617T184528Z
UID:10000235-1750464000-1750550399@georgiapickleballtournaments.com
SUMMARY:Glow in the Dark Tournament
DESCRIPTION:⏺️••”Glow in the Dark Tournament”\nPickleball tournament in Jackson\, GA\nOrganized by: AR 7 Soccer Training Facility\nShare this:\n				Share on Facebook (Opens in new window)\n				Facebook\n			\n				Share on X (Opens in new window)\n				X\n			\n				Share on WhatsApp (Opens in new window)\n				WhatsApp\n			\n				Share on Pinterest (Opens in new window)\n				Pinterest\n			\n				Share on LinkedIn (Opens in new window)\n				LinkedIn
URL:https://georgiapickleballtournaments.com/event/glow-in-the-dark-tournament/
LOCATION:AR 7 SOCCER TRAINING FACILITY\, 101 A Sherrell Ave\, Jackson\, 30233\, United States
CATEGORIES:Georgia
ATTACH;FMTTYPE=image/jpeg:https://georgiapickleballtournaments.com/wp-content/uploads/2025/06/20250621b.jpg
END:VEVENT
BEGIN:VEVENT
DTSTART;VALUE=DATE:20250621
DTEND;VALUE=DATE:20250623
DTSTAMP:20260423T034918
CREATED:20250617T193523Z
LAST-MODIFIED:20250617T193523Z
UID:10000237-1750464000-1750636799@georgiapickleballtournaments.com
SUMMARY:Rome Indoor Summer Classic
DESCRIPTION:⏺️••”Rome Indoor Summer Classic”\nPickleball tournament in Rome\, GA\nOrganized by: Southern Pickleball\nShare this:\n				Share on Facebook (Opens in new window)\n				Facebook\n			\n				Share on X (Opens in new window)\n				X\n			\n				Share on WhatsApp (Opens in new window)\n				WhatsApp\n			\n				Share on Pinterest (Opens in new window)\n				Pinterest\n			\n				Share on LinkedIn (Opens in new window)\n				LinkedIn
URL:https://georgiapickleballtournaments.com/event/rome-indoor-summer-classic/
LOCATION:Rome Indoor Tennis Center at Berry College\, 100 Match Point Way NE\, Rome\, 30165\, United States
CATEGORIES:Georgia
ATTACH;FMTTYPE=image/jpeg:https://georgiapickleballtournaments.com/wp-content/uploads/2025/06/20250621c.jpg
END:VEVENT
BEGIN:VEVENT
DTSTART;VALUE=DATE:20250621
DTEND;VALUE=DATE:20250623
DTSTAMP:20260423T034918
CREATED:20250325T155931Z
LAST-MODIFIED:20250325T155931Z
UID:10000226-1750464000-1750636799@georgiapickleballtournaments.com
SUMMARY:The Atlanta Gold Cup
DESCRIPTION:⏺️••”The Atlanta Gold Cup”\nPickleball tournament in Atlanta\, GA\nOrganized by: Amateur Pickleball Association \nShare this:\n				Share on Facebook (Opens in new window)\n				Facebook\n			\n				Share on X (Opens in new window)\n				X\n			\n				Share on WhatsApp (Opens in new window)\n				WhatsApp\n			\n				Share on Pinterest (Opens in new window)\n				Pinterest\n			\n				Share on LinkedIn (Opens in new window)\n				LinkedIn
URL:https://georgiapickleballtournaments.com/event/the-atlanta-gold-cup-2/
LOCATION:ITA Atlanta\, 3110 Presidential Dr\, Atlanta\, 30340\, United States
CATEGORIES:Georgia
ATTACH;FMTTYPE=image/jpeg:https://georgiapickleballtournaments.com/wp-content/uploads/2025/03/20250621a.jpg
ORGANIZER;CN="APA - Amateur Pickleball Association":MAILTO:director@APATournaments.com
END:VEVENT
END:VCALENDAR