BEGIN:VCALENDAR
VERSION:2.0
PRODID:-//Georgia Pickleball Tournaments - ECPv6.15.20//NONSGML v1.0//EN
CALSCALE:GREGORIAN
METHOD:PUBLISH
X-WR-CALNAME:Georgia Pickleball Tournaments
X-ORIGINAL-URL:https://georgiapickleballtournaments.com
X-WR-CALDESC:Events for Georgia Pickleball Tournaments
REFRESH-INTERVAL;VALUE=DURATION:PT1H
X-Robots-Tag:noindex
X-PUBLISHED-TTL:PT1H
BEGIN:VTIMEZONE
TZID:America/New_York
BEGIN:DAYLIGHT
TZOFFSETFROM:-0500
TZOFFSETTO:-0400
TZNAME:EDT
DTSTART:20250309T070000
END:DAYLIGHT
BEGIN:STANDARD
TZOFFSETFROM:-0400
TZOFFSETTO:-0500
TZNAME:EST
DTSTART:20251102T060000
END:STANDARD
BEGIN:DAYLIGHT
TZOFFSETFROM:-0500
TZOFFSETTO:-0400
TZNAME:EDT
DTSTART:20260308T070000
END:DAYLIGHT
BEGIN:STANDARD
TZOFFSETFROM:-0400
TZOFFSETTO:-0500
TZNAME:EST
DTSTART:20261101T060000
END:STANDARD
BEGIN:DAYLIGHT
TZOFFSETFROM:-0500
TZOFFSETTO:-0400
TZNAME:EDT
DTSTART:20270314T070000
END:DAYLIGHT
BEGIN:STANDARD
TZOFFSETFROM:-0400
TZOFFSETTO:-0500
TZNAME:EST
DTSTART:20271107T060000
END:STANDARD
END:VTIMEZONE
BEGIN:VEVENT
DTSTART;VALUE=DATE:20260228
DTEND;VALUE=DATE:20260301
DTSTAMP:20260423T055821
CREATED:20251128T120747Z
LAST-MODIFIED:20260128T150758Z
UID:10000310-1772236800-1772323199@georgiapickleballtournaments.com
SUMMARY:1st Annual Bids for Kids Pickleball Fundraiser presented by The Exchange Club of Tifton
DESCRIPTION:⏺️••”1st Annual Bids for Kids Pickleball Fundraiser presented by The Exchange Club of Tifton”\nPickleball tournament in Tifton\, GA\n\nhttps://georgiapickleballtournaments.com/event/1st-annual-bids-for-kids-pickleball-fundraiser-presented-by-the-exchange-club-of-tifton/\nShare this:\n				Share on Facebook (Opens in new window)\n				Facebook\n			\n				Share on X (Opens in new window)\n				X\n			\n				Share on WhatsApp (Opens in new window)\n				WhatsApp\n			\n				Share on Pinterest (Opens in new window)\n				Pinterest\n			\n				Share on LinkedIn (Opens in new window)\n				LinkedIn
URL:https://georgiapickleballtournaments.com/event/1st-annual-bids-for-kids-pickleball-fundraiser-presented-by-the-exchange-club-of-tifton/
LOCATION:Tift County Recreation Department\, 315 West 2nd Street\, Tifton\, GA\, 31794\, United States
CATEGORIES:Georgia,Non-for-Profit
ATTACH;FMTTYPE=image/jpeg:https://georgiapickleballtournaments.com/wp-content/uploads/2025/11/20260228b.jpg
END:VEVENT
BEGIN:VEVENT
DTSTART;VALUE=DATE:20260228
DTEND;VALUE=DATE:20260301
DTSTAMP:20260423T055821
CREATED:20260129T001857Z
LAST-MODIFIED:20260129T001932Z
UID:10000353-1772236800-1772323199@georgiapickleballtournaments.com
SUMMARY:Andee's Army Pickleball Classic
DESCRIPTION:⏺️••”Andee’s Army Pickleball Classic”\nPickleball tournament in Atlanta\, GA\nFebruary 28\, 2026 \nhttps://georgiapickleballtournaments.com/event/andees-army-pickleball-classic/ \nShare this:\n				Share on Facebook (Opens in new window)\n				Facebook\n			\n				Share on X (Opens in new window)\n				X\n			\n				Share on WhatsApp (Opens in new window)\n				WhatsApp\n			\n				Share on Pinterest (Opens in new window)\n				Pinterest\n			\n				Share on LinkedIn (Opens in new window)\n				LinkedIn
URL:https://georgiapickleballtournaments.com/event/andees-army-pickleball-classic/
LOCATION:Painted Pickle\, 279 Ottley Drive\, Atlanta\, 30324\, United States
CATEGORIES:Georgia,Non-for-Profit
ATTACH;FMTTYPE=image/jpeg:https://georgiapickleballtournaments.com/wp-content/uploads/2026/01/20260228h.jpg
END:VEVENT
BEGIN:VEVENT
DTSTART;VALUE=DATE:20260327
DTEND;VALUE=DATE:20260328
DTSTAMP:20260423T055821
CREATED:20260131T022515Z
LAST-MODIFIED:20260131T022640Z
UID:10000371-1774569600-1774655999@georgiapickleballtournaments.com
SUMMARY:3rd Annual Girls on the Run Georgia Pickleball Tournament
DESCRIPTION:⏺️••”3rd Annual Girls on the Run Georgia Pickleball Tournament”\nPickleball tournament in Atlanta\, GA\nMarch 27\, 2026 \nhttps://georgiapickleballtournaments.com/event/3rd-annual-girls-on-the-run-georgia-pickleball-tournament/ \nShare this:\n				Share on Facebook (Opens in new window)\n				Facebook\n			\n				Share on X (Opens in new window)\n				X\n			\n				Share on WhatsApp (Opens in new window)\n				WhatsApp\n			\n				Share on Pinterest (Opens in new window)\n				Pinterest\n			\n				Share on LinkedIn (Opens in new window)\n				LinkedIn
URL:https://georgiapickleballtournaments.com/event/3rd-annual-girls-on-the-run-georgia-pickleball-tournament/
LOCATION:ITP Training Academy\, 3110 Presidential Drive\, Atlanta\, GA\, 30340\, United States
CATEGORIES:Georgia,Non-for-Profit
ATTACH;FMTTYPE=image/jpeg:https://georgiapickleballtournaments.com/wp-content/uploads/2026/01/20260327b.jpg
END:VEVENT
BEGIN:VEVENT
DTSTART;VALUE=DATE:20260418
DTEND;VALUE=DATE:20260419
DTSTAMP:20260423T055821
CREATED:20260208T021840Z
LAST-MODIFIED:20260208T022004Z
UID:10000381-1776470400-1776556799@georgiapickleballtournaments.com
SUMMARY:Serve Up Hope
DESCRIPTION:⏺️••”Serve Up Hope”\nPickleball tournament in Brooklet\, GA\nApril 18\, 2026 \nhttps://georgiapickleballtournaments.com/event/serve-up-hope/ \nShare this:\n				Share on Facebook (Opens in new window)\n				Facebook\n			\n				Share on X (Opens in new window)\n				X\n			\n				Share on WhatsApp (Opens in new window)\n				WhatsApp\n			\n				Share on Pinterest (Opens in new window)\n				Pinterest\n			\n				Share on LinkedIn (Opens in new window)\n				LinkedIn
URL:https://georgiapickleballtournaments.com/event/serve-up-hope/
LOCATION:Brooklet Parks & Rec\, 416 North Cromley Road\, Brooklet\, GA\, 30415\, United States
CATEGORIES:Georgia,Non-for-Profit
ATTACH;FMTTYPE=image/jpeg:https://georgiapickleballtournaments.com/wp-content/uploads/2026/02/20260418c.jpg
END:VEVENT
BEGIN:VEVENT
DTSTART;VALUE=DATE:20260425
DTEND;VALUE=DATE:20260426
DTSTAMP:20260423T055821
CREATED:20260329T111313Z
LAST-MODIFIED:20260329T112752Z
UID:10000393-1777075200-1777161599@georgiapickleballtournaments.com
SUMMARY:It's A Big Dill Spring !
DESCRIPTION:⏺️••”It’s A Big Dill Spring !”\nPickleball tournament in Woodstock\, Georgia\nApril 25\, 2026\n\nhttps://georgiapickleballtournaments.com/event/its-a-big-dill-spring/\nShare this:\n				Share on Facebook (Opens in new window)\n				Facebook\n			\n				Share on X (Opens in new window)\n				X\n			\n				Share on WhatsApp (Opens in new window)\n				WhatsApp\n			\n				Share on Pinterest (Opens in new window)\n				Pinterest\n			\n				Share on LinkedIn (Opens in new window)\n				LinkedIn
URL:https://georgiapickleballtournaments.com/event/its-a-big-dill-spring/
LOCATION:Cherokee Outdoor YMCA\, 201 E Bells Ferry Rd\, Woodstock\, GA\, 30189\, United States
CATEGORIES:Georgia,Non-for-Profit
ATTACH;FMTTYPE=image/jpeg:https://georgiapickleballtournaments.com/wp-content/uploads/2026/03/20260425b.jpg
END:VEVENT
BEGIN:VEVENT
DTSTART;VALUE=DATE:20260426
DTEND;VALUE=DATE:20260427
DTSTAMP:20260423T055821
CREATED:20260331T105746Z
LAST-MODIFIED:20260331T105825Z
UID:10000404-1777161600-1777247999@georgiapickleballtournaments.com
SUMMARY:Stand Up for Seniors Fundraiser
DESCRIPTION:⏺️••”Stand Up for Seniors Fundraiser”\nPickleball tournament in Canton\, Georgia\nApril 26\, 2026 \nhttps://georgiapickleballtournaments.com/event/stand-up-for-seniors-fundraiser/ \nShare this:\n				Share on Facebook (Opens in new window)\n				Facebook\n			\n				Share on X (Opens in new window)\n				X\n			\n				Share on WhatsApp (Opens in new window)\n				WhatsApp\n			\n				Share on Pinterest (Opens in new window)\n				Pinterest\n			\n				Share on LinkedIn (Opens in new window)\n				LinkedIn
URL:https://georgiapickleballtournaments.com/event/stand-up-for-seniors-fundraiser/
LOCATION:Kenney Askew Park\, 1080 Univeter Rd\, Canton\, GA\, 30115\, United States
CATEGORIES:Georgia,Non-for-Profit
ATTACH;FMTTYPE=image/jpeg:https://georgiapickleballtournaments.com/wp-content/uploads/2026/03/20260426b.jpg
END:VEVENT
BEGIN:VEVENT
DTSTART;VALUE=DATE:20260502
DTEND;VALUE=DATE:20260503
DTSTAMP:20260423T055821
CREATED:20260331T075918Z
LAST-MODIFIED:20260331T080008Z
UID:10000399-1777680000-1777766399@georgiapickleballtournaments.com
SUMMARY:East Bands Spring Classic
DESCRIPTION:⏺️••”East Bands Spring Classic”\nPickleball tournament in Dallas\, Georgia\nMay 2\, 2026\n\nhttps://georgiapickleballtournaments.com/event/east-bands-spring-classic/\nShare this:\n				Share on Facebook (Opens in new window)\n				Facebook\n			\n				Share on X (Opens in new window)\n				X\n			\n				Share on WhatsApp (Opens in new window)\n				WhatsApp\n			\n				Share on Pinterest (Opens in new window)\n				Pinterest\n			\n				Share on LinkedIn (Opens in new window)\n				LinkedIn
URL:https://georgiapickleballtournaments.com/event/east-bands-spring-classic/
LOCATION:Mt. Tabor Park\, 1550 E Paulding Dr\, Dallas\, GA\, 30157\, United States
CATEGORIES:Georgia,Non-for-Profit
ATTACH;FMTTYPE=image/jpeg:https://georgiapickleballtournaments.com/wp-content/uploads/2026/03/20260502e.jpg
END:VEVENT
END:VCALENDAR