BEGIN:VCALENDAR
VERSION:2.0
PRODID:-//Georgia Pickleball Tournaments - ECPv6.15.20//NONSGML v1.0//EN
CALSCALE:GREGORIAN
METHOD:PUBLISH
X-WR-CALNAME:Georgia Pickleball Tournaments
X-ORIGINAL-URL:https://georgiapickleballtournaments.com
X-WR-CALDESC:Events for Georgia Pickleball Tournaments
REFRESH-INTERVAL;VALUE=DURATION:PT1H
X-Robots-Tag:noindex
X-PUBLISHED-TTL:PT1H
BEGIN:VTIMEZONE
TZID:America/New_York
BEGIN:DAYLIGHT
TZOFFSETFROM:-0500
TZOFFSETTO:-0400
TZNAME:EDT
DTSTART:20250309T070000
END:DAYLIGHT
BEGIN:STANDARD
TZOFFSETFROM:-0400
TZOFFSETTO:-0500
TZNAME:EST
DTSTART:20251102T060000
END:STANDARD
BEGIN:DAYLIGHT
TZOFFSETFROM:-0500
TZOFFSETTO:-0400
TZNAME:EDT
DTSTART:20260308T070000
END:DAYLIGHT
BEGIN:STANDARD
TZOFFSETFROM:-0400
TZOFFSETTO:-0500
TZNAME:EST
DTSTART:20261101T060000
END:STANDARD
BEGIN:DAYLIGHT
TZOFFSETFROM:-0500
TZOFFSETTO:-0400
TZNAME:EDT
DTSTART:20270314T070000
END:DAYLIGHT
BEGIN:STANDARD
TZOFFSETFROM:-0400
TZOFFSETTO:-0500
TZNAME:EST
DTSTART:20271107T060000
END:STANDARD
END:VTIMEZONE
BEGIN:VEVENT
DTSTART;VALUE=DATE:20260514
DTEND;VALUE=DATE:20260518
DTSTAMP:20260423T085951
CREATED:20260201T130534Z
LAST-MODIFIED:20260201T132327Z
UID:10000375-1778716800-1779062399@georgiapickleballtournaments.com
SUMMARY:NOT'lanta Open 2026
DESCRIPTION:⏺️••”NOT’lanta Open 2026″\nPickleball tournament in Augusta\, GA\nMay 14-17\, 2026 \nhttps://georgiapickleballtournaments.com/event/notlanta-open-2026/ \nShare this:\n				Share on Facebook (Opens in new window)\n				Facebook\n			\n				Share on X (Opens in new window)\n				X\n			\n				Share on WhatsApp (Opens in new window)\n				WhatsApp\n			\n				Share on Pinterest (Opens in new window)\n				Pinterest\n			\n				Share on LinkedIn (Opens in new window)\n				LinkedIn
URL:https://georgiapickleballtournaments.com/event/notlanta-open-2026/
LOCATION:Montclair Pickleball Courts\, 3304 Crane Ferry Rd\, Augusta\, 30907\, United States
CATEGORIES:Georgia
ATTACH;FMTTYPE=image/jpeg:https://georgiapickleballtournaments.com/wp-content/uploads/2026/02/20260514a.jpg
END:VEVENT
BEGIN:VEVENT
DTSTART;VALUE=DATE:20260516
DTEND;VALUE=DATE:20260518
DTSTAMP:20260423T085951
CREATED:20260401T104410Z
LAST-MODIFIED:20260401T104453Z
UID:10000408-1778889600-1779062399@georgiapickleballtournaments.com
SUMMARY:PATL Royale
DESCRIPTION:⏺️••”PATL Royale”\nPickleball tournament in Carrollton\, Georgia\nMay 16-17\, 2026 \nhttps://georgiapickleballtournaments.com/event/patl-royale/ \nShare this:\n				Share on Facebook (Opens in new window)\n				Facebook\n			\n				Share on X (Opens in new window)\n				X\n			\n				Share on WhatsApp (Opens in new window)\n				WhatsApp\n			\n				Share on Pinterest (Opens in new window)\n				Pinterest\n			\n				Share on LinkedIn (Opens in new window)\n				LinkedIn
URL:https://georgiapickleballtournaments.com/event/patl-royale/
LOCATION:PATL – Pickleball at the Lake\, 116 Lumpkin Drive\, Carrollton\, 30117\, United States
CATEGORIES:Georgia
ATTACH;FMTTYPE=image/jpeg:https://georgiapickleballtournaments.com/wp-content/uploads/2026/04/20260516d.jpg
END:VEVENT
BEGIN:VEVENT
DTSTART;VALUE=DATE:20260517
DTEND;VALUE=DATE:20260520
DTSTAMP:20260423T085951
CREATED:20251201T031137Z
LAST-MODIFIED:20251201T031137Z
UID:10000326-1778976000-1779235199@georgiapickleballtournaments.com
SUMMARY:Lake Country Classic
DESCRIPTION:⏺️••”Lake Country Classic”\nPickleball tournament in Milledgeville\, GA\nThe Complete list of pickleball tournaments in Georgia at www.GeorgiaPickleballTournaments.com\nShare this:\n				Share on Facebook (Opens in new window)\n				Facebook\n			\n				Share on X (Opens in new window)\n				X\n			\n				Share on WhatsApp (Opens in new window)\n				WhatsApp\n			\n				Share on Pinterest (Opens in new window)\n				Pinterest\n			\n				Share on LinkedIn (Opens in new window)\n				LinkedIn
URL:https://georgiapickleballtournaments.com/event/lake-country-classic-2/
LOCATION:Milledgeville Pickleball Courts\, 59 GA-22\, Milledgeville\, 31061\, United States
CATEGORIES:Georgia
ATTACH;FMTTYPE=image/jpeg:https://georgiapickleballtournaments.com/wp-content/uploads/2025/11/20260517a.jpg
END:VEVENT
END:VCALENDAR