BEGIN:VCALENDAR
VERSION:2.0
PRODID:-//Georgia Pickleball Tournaments - ECPv6.15.20//NONSGML v1.0//EN
CALSCALE:GREGORIAN
METHOD:PUBLISH
X-WR-CALNAME:Georgia Pickleball Tournaments
X-ORIGINAL-URL:https://georgiapickleballtournaments.com
X-WR-CALDESC:Events for Georgia Pickleball Tournaments
REFRESH-INTERVAL;VALUE=DURATION:PT1H
X-Robots-Tag:noindex
X-PUBLISHED-TTL:PT1H
BEGIN:VTIMEZONE
TZID:America/New_York
BEGIN:DAYLIGHT
TZOFFSETFROM:-0500
TZOFFSETTO:-0400
TZNAME:EDT
DTSTART:20250309T070000
END:DAYLIGHT
BEGIN:STANDARD
TZOFFSETFROM:-0400
TZOFFSETTO:-0500
TZNAME:EST
DTSTART:20251102T060000
END:STANDARD
BEGIN:DAYLIGHT
TZOFFSETFROM:-0500
TZOFFSETTO:-0400
TZNAME:EDT
DTSTART:20260308T070000
END:DAYLIGHT
BEGIN:STANDARD
TZOFFSETFROM:-0400
TZOFFSETTO:-0500
TZNAME:EST
DTSTART:20261101T060000
END:STANDARD
BEGIN:DAYLIGHT
TZOFFSETFROM:-0500
TZOFFSETTO:-0400
TZNAME:EDT
DTSTART:20270314T070000
END:DAYLIGHT
BEGIN:STANDARD
TZOFFSETFROM:-0400
TZOFFSETTO:-0500
TZNAME:EST
DTSTART:20271107T060000
END:STANDARD
END:VTIMEZONE
BEGIN:VEVENT
DTSTART;VALUE=DATE:20260327
DTEND;VALUE=DATE:20260330
DTSTAMP:20260423T134133
CREATED:20251130T175909Z
LAST-MODIFIED:20260206T032034Z
UID:10000320-1774569600-1774828799@georgiapickleballtournaments.com
SUMMARY:Savannah Open Championship $$$
DESCRIPTION:⏺️••”Savannah Open Championship $$$”\nPickleball tournament in Savannah\, GA\nMarch 27-29\, 2026\nhttps://georgiapickleballtournaments.com/event/savannah-open-championship/ \nShare this:\n				Share on Facebook (Opens in new window)\n				Facebook\n			\n				Share on X (Opens in new window)\n				X\n			\n				Share on WhatsApp (Opens in new window)\n				WhatsApp\n			\n				Share on Pinterest (Opens in new window)\n				Pinterest\n			\n				Share on LinkedIn (Opens in new window)\n				LinkedIn
URL:https://georgiapickleballtournaments.com/event/savannah-open-championship/
LOCATION:Savannah Golf Club\, 1661 East President Street\, Savannah\, GA\, 31404\, United States
CATEGORIES:Georgia,Moneyball
ATTACH;FMTTYPE=image/jpeg:https://georgiapickleballtournaments.com/wp-content/uploads/2025/11/20260327a.jpg
END:VEVENT
BEGIN:VEVENT
DTSTART;VALUE=DATE:20260328
DTEND;VALUE=DATE:20260329
DTSTAMP:20260423T134133
CREATED:20251128T163228Z
LAST-MODIFIED:20260206T032116Z
UID:10000315-1774656000-1774742399@georgiapickleballtournaments.com
SUMMARY:Literacy is a Big Dill
DESCRIPTION:⏺️••”Literacy is a Big Dill”\nPickleball tournament in Cartersville\, GA\nMarch 28\, 2026\nhttps://georgiapickleballtournaments.com/event/literacy-is-a-big-dill/ \nShare this:\n				Share on Facebook (Opens in new window)\n				Facebook\n			\n				Share on X (Opens in new window)\n				X\n			\n				Share on WhatsApp (Opens in new window)\n				WhatsApp\n			\n				Share on Pinterest (Opens in new window)\n				Pinterest\n			\n				Share on LinkedIn (Opens in new window)\n				LinkedIn
URL:https://georgiapickleballtournaments.com/event/literacy-is-a-big-dill/
LOCATION:Hamilton Crossing Park\, 429 - 155 Hamilton Xing Rd NW\, Cartersville\, GA\, 30120\, United States
CATEGORIES:Georgia
ATTACH;FMTTYPE=image/jpeg:https://georgiapickleballtournaments.com/wp-content/uploads/2025/11/20260328a.jpg
END:VEVENT
BEGIN:VEVENT
DTSTART;VALUE=DATE:20260328
DTEND;VALUE=DATE:20260329
DTSTAMP:20260423T134133
CREATED:20260130T042850Z
LAST-MODIFIED:20260130T043017Z
UID:10000364-1774656000-1774742399@georgiapickleballtournaments.com
SUMMARY:3rd Annual Fountain of Life Classic
DESCRIPTION:⏺️••”3rd Annual Fountain of Life Classic”\nPickleball tournament in Thomasville\, GA\nMarch 28\, 2026 \nhttps://georgiapickleballtournaments.com/event/3rd-annual-fountain-of-life-classic/ \nShare this:\n				Share on Facebook (Opens in new window)\n				Facebook\n			\n				Share on X (Opens in new window)\n				X\n			\n				Share on WhatsApp (Opens in new window)\n				WhatsApp\n			\n				Share on Pinterest (Opens in new window)\n				Pinterest\n			\n				Share on LinkedIn (Opens in new window)\n				LinkedIn
URL:https://georgiapickleballtournaments.com/event/3rd-annual-fountain-of-life-classic/
LOCATION:Thomas County Central Middle Courts\, 4681 US Hwy 84 Bypass\, Thomasville\, 31792\, United States
CATEGORIES:Georgia
ATTACH;FMTTYPE=image/jpeg:https://georgiapickleballtournaments.com/wp-content/uploads/2026/01/20260328d.jpg
END:VEVENT
BEGIN:VEVENT
DTSTART;VALUE=DATE:20260328
DTEND;VALUE=DATE:20260329
DTSTAMP:20260423T134133
CREATED:20260201T072949Z
LAST-MODIFIED:20260201T073024Z
UID:10000372-1774656000-1774742399@georgiapickleballtournaments.com
SUMMARY:Pickleball With Purpose
DESCRIPTION:⏺️••”Pickleball With Purpose”\nPickleball tournament in Alpharetta\, GA\nMarch 28\, 2026 \nhttps://georgiapickleballtournaments.com/event/pickleball-with-purpose/ \nShare this:\n				Share on Facebook (Opens in new window)\n				Facebook\n			\n				Share on X (Opens in new window)\n				X\n			\n				Share on WhatsApp (Opens in new window)\n				WhatsApp\n			\n				Share on Pinterest (Opens in new window)\n				Pinterest\n			\n				Share on LinkedIn (Opens in new window)\n				LinkedIn
URL:https://georgiapickleballtournaments.com/event/pickleball-with-purpose/
LOCATION:Webb Bridge Park\, 4780 Webb Bridge Rd\, Alpharetta\, 30005\, United States
CATEGORIES:Georgia
ATTACH;FMTTYPE=image/jpeg:https://georgiapickleballtournaments.com/wp-content/uploads/2026/02/20260328e.jpg
END:VEVENT
BEGIN:VEVENT
DTSTART;VALUE=DATE:20260328
DTEND;VALUE=DATE:20260329
DTSTAMP:20260423T134133
CREATED:20260208T024044Z
LAST-MODIFIED:20260208T024120Z
UID:10000383-1774656000-1774742399@georgiapickleballtournaments.com
SUMMARY:DUPR High School Powered By JOOLA – Georgia Super Regional
DESCRIPTION:⏺️••”DUPR High School Powered By JOOLA – Georgia Super Regional”\nPickleball tournament in Alpharetta\, GA\nMarch 28\, 2026 \nhttps://georgiapickleballtournaments.com/event/dupr-high-school-powered-by-joola-georgia-super-regional/ \nShare this:\n				Share on Facebook (Opens in new window)\n				Facebook\n			\n				Share on X (Opens in new window)\n				X\n			\n				Share on WhatsApp (Opens in new window)\n				WhatsApp\n			\n				Share on Pinterest (Opens in new window)\n				Pinterest\n			\n				Share on LinkedIn (Opens in new window)\n				LinkedIn
URL:https://georgiapickleballtournaments.com/event/dupr-high-school-powered-by-joola-georgia-super-regional/
LOCATION:Atlanta National Pickleball Club\, 10800 Davis Dr\, Alpharetta\, GA\, 30009\, United States
CATEGORIES:Georgia
ATTACH;FMTTYPE=image/jpeg:https://georgiapickleballtournaments.com/wp-content/uploads/2026/02/20260328g.jpg
END:VEVENT
BEGIN:VEVENT
DTSTART;VALUE=DATE:20260328
DTEND;VALUE=DATE:20260330
DTSTAMP:20260423T134133
CREATED:20251130T180621Z
LAST-MODIFIED:20260206T032227Z
UID:10000321-1774656000-1774828799@georgiapickleballtournaments.com
SUMMARY:Carrollton Spring Classic
DESCRIPTION:⏺️••”Carrollton Spring Classic”\nPickleball tournament in Carrollton\, GA\nMarch 28-29\, 2026\nhttps://georgiapickleballtournaments.com/event/carrollton-spring-classic/\nShare this:\n				Share on Facebook (Opens in new window)\n				Facebook\n			\n				Share on X (Opens in new window)\n				X\n			\n				Share on WhatsApp (Opens in new window)\n				WhatsApp\n			\n				Share on Pinterest (Opens in new window)\n				Pinterest\n			\n				Share on LinkedIn (Opens in new window)\n				LinkedIn
URL:https://georgiapickleballtournaments.com/event/carrollton-spring-classic/
LOCATION:Carrollton Recreation Lake Shore Center\, 116 Lumpkin Dr\, Carrollton\, GA\, 30117\, United States
CATEGORIES:Georgia
ATTACH;FMTTYPE=image/jpeg:https://georgiapickleballtournaments.com/wp-content/uploads/2025/11/20260328b.jpg
END:VEVENT
BEGIN:VEVENT
DTSTART;VALUE=DATE:20260328
DTEND;VALUE=DATE:20260330
DTSTAMP:20260423T134133
CREATED:20260129T032015Z
LAST-MODIFIED:20260129T032053Z
UID:10000363-1774656000-1774828799@georgiapickleballtournaments.com
SUMMARY:6TH Annual Shamrock Smash
DESCRIPTION:⏺️••”6TH Annual Shamrock Smash”\nPickleball tournament in Dublin\, GA\nMarch 28-29\, 2026 \nhttps://georgiapickleballtournaments.com/event/6th-annual-shamrock-smash/ \nShare this:\n				Share on Facebook (Opens in new window)\n				Facebook\n			\n				Share on X (Opens in new window)\n				X\n			\n				Share on WhatsApp (Opens in new window)\n				WhatsApp\n			\n				Share on Pinterest (Opens in new window)\n				Pinterest\n			\n				Share on LinkedIn (Opens in new window)\n				LinkedIn
URL:https://georgiapickleballtournaments.com/event/6th-annual-shamrock-smash/
LOCATION:Southern PInes Recreational Complex\, 575 Southern Pine Rd\, Dublin\, 31021\, United States
CATEGORIES:Georgia
ATTACH;FMTTYPE=image/jpeg:https://georgiapickleballtournaments.com/wp-content/uploads/2026/01/20260328c.jpg
END:VEVENT
BEGIN:VEVENT
DTSTART;VALUE=DATE:20260328
DTEND;VALUE=DATE:20260330
DTSTAMP:20260423T134133
CREATED:20260208T023408Z
LAST-MODIFIED:20260208T023445Z
UID:10000382-1774656000-1774828799@georgiapickleballtournaments.com
SUMMARY:2025-26 Collegiate Pickleball Tour – Georgia Super Regional
DESCRIPTION:⏺️••”2025-26 Collegiate Pickleball Tour – Georgia Super Regional”\nPickleball tournament in Alpharetta\, GA\nMarch 28-29\, 2026 \nhttps://georgiapickleballtournaments.com/event/2025-26-collegiate-pickleball-tour-georgia-super-regional/ \nShare this:\n				Share on Facebook (Opens in new window)\n				Facebook\n			\n				Share on X (Opens in new window)\n				X\n			\n				Share on WhatsApp (Opens in new window)\n				WhatsApp\n			\n				Share on Pinterest (Opens in new window)\n				Pinterest\n			\n				Share on LinkedIn (Opens in new window)\n				LinkedIn
URL:https://georgiapickleballtournaments.com/event/2025-26-collegiate-pickleball-tour-georgia-super-regional/
LOCATION:Atlanta National Pickleball Club\, 10800 Davis Dr\, Alpharetta\, GA\, 30009\, United States
CATEGORIES:Georgia
ATTACH;FMTTYPE=image/jpeg:https://georgiapickleballtournaments.com/wp-content/uploads/2026/02/20260328f.jpg
END:VEVENT
END:VCALENDAR