BEGIN:VCALENDAR
VERSION:2.0
PRODID:-//Georgia Pickleball Tournaments - ECPv6.15.20//NONSGML v1.0//EN
CALSCALE:GREGORIAN
METHOD:PUBLISH
X-WR-CALNAME:Georgia Pickleball Tournaments
X-ORIGINAL-URL:https://georgiapickleballtournaments.com
X-WR-CALDESC:Events for Georgia Pickleball Tournaments
REFRESH-INTERVAL;VALUE=DURATION:PT1H
X-Robots-Tag:noindex
X-PUBLISHED-TTL:PT1H
BEGIN:VTIMEZONE
TZID:America/New_York
BEGIN:DAYLIGHT
TZOFFSETFROM:-0500
TZOFFSETTO:-0400
TZNAME:EDT
DTSTART:20240310T070000
END:DAYLIGHT
BEGIN:STANDARD
TZOFFSETFROM:-0400
TZOFFSETTO:-0500
TZNAME:EST
DTSTART:20241103T060000
END:STANDARD
BEGIN:DAYLIGHT
TZOFFSETFROM:-0500
TZOFFSETTO:-0400
TZNAME:EDT
DTSTART:20250309T070000
END:DAYLIGHT
BEGIN:STANDARD
TZOFFSETFROM:-0400
TZOFFSETTO:-0500
TZNAME:EST
DTSTART:20251102T060000
END:STANDARD
BEGIN:DAYLIGHT
TZOFFSETFROM:-0500
TZOFFSETTO:-0400
TZNAME:EDT
DTSTART:20260308T070000
END:DAYLIGHT
BEGIN:STANDARD
TZOFFSETFROM:-0400
TZOFFSETTO:-0500
TZNAME:EST
DTSTART:20261101T060000
END:STANDARD
END:VTIMEZONE
BEGIN:VEVENT
DTSTART;VALUE=DATE:20250312
DTEND;VALUE=DATE:20250317
DTSTAMP:20260422T184030
CREATED:20250202T133056Z
LAST-MODIFIED:20250202T133056Z
UID:10000171-1741737600-1742169599@georgiapickleballtournaments.com
SUMMARY:UTR Macon Open
DESCRIPTION:⏺️••”UTR Macon Open”\nPickleball tournament in Macon\, GA\nOrganized by: UTR Sports \nShare this:\n				Share on Facebook (Opens in new window)\n				Facebook\n			\n				Share on X (Opens in new window)\n				X\n			\n				Share on WhatsApp (Opens in new window)\n				WhatsApp\n			\n				Share on Pinterest (Opens in new window)\n				Pinterest\n			\n				Share on LinkedIn (Opens in new window)\n				LinkedIn
URL:https://georgiapickleballtournaments.com/event/utr-macon-open/
LOCATION:Rhythm and Rally Sports & Events\, 3661 Eisenhower Parkway\, Macon\, 31206\, United States
CATEGORIES:Georgia
ATTACH;FMTTYPE=image/jpeg:https://georgiapickleballtournaments.com/wp-content/uploads/2025/02/20250312a.jpg
ORGANIZER;CN="UTR Sports":MAILTO:support@universaltennis.com
END:VEVENT
END:VCALENDAR