BEGIN:VCALENDAR
VERSION:2.0
PRODID:-//Georgia Pickleball Tournaments - ECPv6.15.20//NONSGML v1.0//EN
CALSCALE:GREGORIAN
METHOD:PUBLISH
X-WR-CALNAME:Georgia Pickleball Tournaments
X-ORIGINAL-URL:https://georgiapickleballtournaments.com
X-WR-CALDESC:Events for Georgia Pickleball Tournaments
REFRESH-INTERVAL;VALUE=DURATION:PT1H
X-Robots-Tag:noindex
X-PUBLISHED-TTL:PT1H
BEGIN:VTIMEZONE
TZID:America/New_York
BEGIN:DAYLIGHT
TZOFFSETFROM:-0500
TZOFFSETTO:-0400
TZNAME:EDT
DTSTART:20240310T070000
END:DAYLIGHT
BEGIN:STANDARD
TZOFFSETFROM:-0400
TZOFFSETTO:-0500
TZNAME:EST
DTSTART:20241103T060000
END:STANDARD
BEGIN:DAYLIGHT
TZOFFSETFROM:-0500
TZOFFSETTO:-0400
TZNAME:EDT
DTSTART:20250309T070000
END:DAYLIGHT
BEGIN:STANDARD
TZOFFSETFROM:-0400
TZOFFSETTO:-0500
TZNAME:EST
DTSTART:20251102T060000
END:STANDARD
BEGIN:DAYLIGHT
TZOFFSETFROM:-0500
TZOFFSETTO:-0400
TZNAME:EDT
DTSTART:20260308T070000
END:DAYLIGHT
BEGIN:STANDARD
TZOFFSETFROM:-0400
TZOFFSETTO:-0500
TZNAME:EST
DTSTART:20261101T060000
END:STANDARD
END:VTIMEZONE
BEGIN:VTIMEZONE
TZID:UTC
BEGIN:STANDARD
TZOFFSETFROM:+0000
TZOFFSETTO:+0000
TZNAME:UTC
DTSTART:20240101T000000
END:STANDARD
END:VTIMEZONE
BEGIN:VEVENT
DTSTART;VALUE=DATE:20250221
DTEND;VALUE=DATE:20250224
DTSTAMP:20260422T184037
CREATED:20250202T150810Z
LAST-MODIFIED:20250202T150810Z
UID:10000174-1740096000-1740355199@georgiapickleballtournaments.com
SUMMARY:South GA Madness
DESCRIPTION:⏺️••”South GA Madness”\nPickleball tournament in Valdosta\, GA\nOrganized by: Winnersville Pickleball \nShare this:\n				Share on Facebook (Opens in new window)\n				Facebook\n			\n				Share on X (Opens in new window)\n				X\n			\n				Share on WhatsApp (Opens in new window)\n				WhatsApp\n			\n				Share on Pinterest (Opens in new window)\n				Pinterest\n			\n				Share on LinkedIn (Opens in new window)\n				LinkedIn
URL:https://georgiapickleballtournaments.com/event/south-ga-madness/
LOCATION:Winnersville Pickleball\, 3424 N Valdosta Rd\, Valdosta
CATEGORIES:Georgia
ATTACH;FMTTYPE=image/jpeg:https://georgiapickleballtournaments.com/wp-content/uploads/2025/02/20250221a.jpg
END:VEVENT
BEGIN:VEVENT
DTSTART;VALUE=DATE:20250222
DTEND;VALUE=DATE:20250223
DTSTAMP:20260422T184037
CREATED:20241226T164558Z
LAST-MODIFIED:20241226T164558Z
UID:10000141-1740182400-1740268799@georgiapickleballtournaments.com
SUMMARY:I Heart Pickleball
DESCRIPTION:⏺️••”I Heart Pickleball”\nPickleball tournament in Buford\, GA\nOrganized by: Pickle and Social Gwinnett \nShare this:\n				Share on Facebook (Opens in new window)\n				Facebook\n			\n				Share on X (Opens in new window)\n				X\n			\n				Share on WhatsApp (Opens in new window)\n				WhatsApp\n			\n				Share on Pinterest (Opens in new window)\n				Pinterest\n			\n				Share on LinkedIn (Opens in new window)\n				LinkedIn
URL:https://georgiapickleballtournaments.com/event/i-heart-pickleball/
LOCATION:Pickle and Social Gwinnett\, 2925 Buford Dr\, Buford\, 30519\, United States
CATEGORIES:Georgia
ATTACH;FMTTYPE=image/jpeg:https://georgiapickleballtournaments.com/wp-content/uploads/2024/12/20250222c.jpg
END:VEVENT
BEGIN:VEVENT
DTSTART;VALUE=DATE:20250222
DTEND;VALUE=DATE:20250223
DTSTAMP:20260422T184037
CREATED:20250116T103742Z
LAST-MODIFIED:20250116T103813Z
UID:10000159-1740182400-1740268799@georgiapickleballtournaments.com
SUMMARY:Mardi Gras Mambo Grandslam
DESCRIPTION:⏺️••”Mardi Gras Mambo Grandslam”\nPickleball tournament in Bainbridge\, GA\nOrganized by: Mardi Gras Society of SWGA \nShare this:\n				Share on Facebook (Opens in new window)\n				Facebook\n			\n				Share on X (Opens in new window)\n				X\n			\n				Share on WhatsApp (Opens in new window)\n				WhatsApp\n			\n				Share on Pinterest (Opens in new window)\n				Pinterest\n			\n				Share on LinkedIn (Opens in new window)\n				LinkedIn
URL:https://georgiapickleballtournaments.com/event/mardi-gras-mambo-grandslam/
LOCATION:Bill Reynolds Tennis Center\, 1500 Cox Ave\, Bainbridge\, 39819\, United States
CATEGORIES:Georgia
ATTACH;FMTTYPE=image/jpeg:https://georgiapickleballtournaments.com/wp-content/uploads/2025/01/20250222f.jpg
END:VEVENT
BEGIN:VEVENT
DTSTART;VALUE=DATE:20250222
DTEND;VALUE=DATE:20250223
DTSTAMP:20260422T184037
CREATED:20250120T112124Z
LAST-MODIFIED:20250120T112232Z
UID:10000168-1740182400-1740268799@georgiapickleballtournaments.com
SUMMARY:Valentine's Classic at Bent Tree
DESCRIPTION:⏺️••”Valentine’s Classic at Bent Tree”\nPickleball tournament in Jasper\, GA\nOrganized by: Bob Coleman \nShare this:\n				Share on Facebook (Opens in new window)\n				Facebook\n			\n				Share on X (Opens in new window)\n				X\n			\n				Share on WhatsApp (Opens in new window)\n				WhatsApp\n			\n				Share on Pinterest (Opens in new window)\n				Pinterest\n			\n				Share on LinkedIn (Opens in new window)\n				LinkedIn
URL:https://georgiapickleballtournaments.com/event/valentines-classic-at-bent-tree/
LOCATION:The Courts at Bent Tree\, 172 Villa Rd\, Jasper\, 30143\, United States
CATEGORIES:Georgia
ATTACH;FMTTYPE=image/jpeg:https://georgiapickleballtournaments.com/wp-content/uploads/2025/01/20250222h.jpg
END:VEVENT
BEGIN:VEVENT
DTSTART;VALUE=DATE:20250222
DTEND;VALUE=DATE:20250224
DTSTAMP:20260422T184037
CREATED:20241221T080350Z
LAST-MODIFIED:20241221T081554Z
UID:10000123-1740182400-1740355199@georgiapickleballtournaments.com
SUMMARY:White Columns Spring Classic
DESCRIPTION:⏺️••”White Columns Spring Classic”\nPickleball tournament in Milton\, GA\nOrganized by: White Columns Country Club \nShare this:\n				Share on Facebook (Opens in new window)\n				Facebook\n			\n				Share on X (Opens in new window)\n				X\n			\n				Share on WhatsApp (Opens in new window)\n				WhatsApp\n			\n				Share on Pinterest (Opens in new window)\n				Pinterest\n			\n				Share on LinkedIn (Opens in new window)\n				LinkedIn
URL:https://georgiapickleballtournaments.com/event/white-columns-spring-classic/
LOCATION:White Columns Country Club\, 300 Clubhouse Dr\, Milton\, 30004\, United States
CATEGORIES:Georgia
ATTACH;FMTTYPE=image/jpeg:https://georgiapickleballtournaments.com/wp-content/uploads/2024/12/20250222a.jpg
END:VEVENT
BEGIN:VEVENT
DTSTART;VALUE=DATE:20250222
DTEND;VALUE=DATE:20250224
DTSTAMP:20260422T184037
CREATED:20241221T082007Z
LAST-MODIFIED:20241221T082007Z
UID:10000124-1740182400-1740355199@georgiapickleballtournaments.com
SUMMARY:The Georgia Amateur Open
DESCRIPTION:⏺️••”The Georgia Amateur Open”\nPickleball tournament in Atlanta\, GA\nOrganized by: Amateur Pickleball Association \nShare this:\n				Share on Facebook (Opens in new window)\n				Facebook\n			\n				Share on X (Opens in new window)\n				X\n			\n				Share on WhatsApp (Opens in new window)\n				WhatsApp\n			\n				Share on Pinterest (Opens in new window)\n				Pinterest\n			\n				Share on LinkedIn (Opens in new window)\n				LinkedIn
URL:https://georgiapickleballtournaments.com/event/the-georgia-amateur-open/
LOCATION:The Atlanta Pickleball Center\, 1359 Ellsworth Industrial Blvd NW suite B\, Atlanta\, 30318\, United States
CATEGORIES:Georgia
ATTACH;FMTTYPE=image/jpeg:https://georgiapickleballtournaments.com/wp-content/uploads/2024/12/20250222b.jpg
ORGANIZER;CN="APA - Amateur Pickleball Association":MAILTO:director@APATournaments.com
END:VEVENT
BEGIN:VEVENT
DTSTART;VALUE=DATE:20250222
DTEND;VALUE=DATE:20250224
DTSTAMP:20260422T184037
CREATED:20250114T081049Z
LAST-MODIFIED:20250114T081049Z
UID:10000145-1740182400-1740355199@georgiapickleballtournaments.com
SUMMARY:Rome Indoor Winter Classic 2025
DESCRIPTION:⏺️••”Rome Indoor Winter Classic 2025″\nPickleball tournament in Rome\, GA\nOrganized by: Southern Pickleball \nShare this:\n				Share on Facebook (Opens in new window)\n				Facebook\n			\n				Share on X (Opens in new window)\n				X\n			\n				Share on WhatsApp (Opens in new window)\n				WhatsApp\n			\n				Share on Pinterest (Opens in new window)\n				Pinterest\n			\n				Share on LinkedIn (Opens in new window)\n				LinkedIn
URL:https://georgiapickleballtournaments.com/event/rome-indoor-winter-classic-2025/
LOCATION:Rome Indoor Tennis Center at Berry College\, 100 Match Point Way NE\, Rome\, 30165\, United States
CATEGORIES:Georgia
ATTACH;FMTTYPE=image/jpeg:https://georgiapickleballtournaments.com/wp-content/uploads/2025/01/20250222d.jpg
END:VEVENT
BEGIN:VEVENT
DTSTART;VALUE=DATE:20250222
DTEND;VALUE=DATE:20250224
DTSTAMP:20260422T184037
CREATED:20250114T093635Z
LAST-MODIFIED:20250114T093635Z
UID:10000146-1740182400-1740355199@georgiapickleballtournaments.com
SUMMARY:The Chateau Elan Tournament 2025
DESCRIPTION:⏺️••”The Chateau Elan Tournament 2025″\nPickleball tournament in Braselton\, GA\nOrganized by: Château Élan Racquet Club \nShare this:\n				Share on Facebook (Opens in new window)\n				Facebook\n			\n				Share on X (Opens in new window)\n				X\n			\n				Share on WhatsApp (Opens in new window)\n				WhatsApp\n			\n				Share on Pinterest (Opens in new window)\n				Pinterest\n			\n				Share on LinkedIn (Opens in new window)\n				LinkedIn
URL:https://georgiapickleballtournaments.com/event/the-chateau-elan-tournament-2025/
LOCATION:Chateau Elan Racquet Club\, 100 Rue Charlemagne Dr\, Braselton\, 30517\, United States
CATEGORIES:Georgia
ATTACH;FMTTYPE=image/jpeg:https://georgiapickleballtournaments.com/wp-content/uploads/2025/01/20250222e.jpg
END:VEVENT
BEGIN:VEVENT
DTSTART;VALUE=DATE:20250222
DTEND;VALUE=DATE:20250224
DTSTAMP:20260422T184037
CREATED:20250117T155128Z
LAST-MODIFIED:20250117T155128Z
UID:10000164-1740182400-1740355199@georgiapickleballtournaments.com
SUMMARY:UPE Chatham Pickle Challenge 2
DESCRIPTION:⏺️••”UPE Chatham Pickle Challenge 2″\nPickleball tournament in Savannah\, GA\nOrganized by: United Pickleball Experience \nShare this:\n				Share on Facebook (Opens in new window)\n				Facebook\n			\n				Share on X (Opens in new window)\n				X\n			\n				Share on WhatsApp (Opens in new window)\n				WhatsApp\n			\n				Share on Pinterest (Opens in new window)\n				Pinterest\n			\n				Share on LinkedIn (Opens in new window)\n				LinkedIn
URL:https://georgiapickleballtournaments.com/event/upe-chatham-pickle-challenge-2/
LOCATION:Chantham Racquet Club\, 80 Wedgefield Crossing\, Savannah\, 31405\, United States
CATEGORIES:Georgia
ATTACH;FMTTYPE=image/jpeg:https://georgiapickleballtournaments.com/wp-content/uploads/2025/01/20250222g.jpg
END:VEVENT
END:VCALENDAR