BEGIN:VCALENDAR
VERSION:2.0
PRODID:-//Georgia Pickleball Tournaments - ECPv6.15.20//NONSGML v1.0//EN
CALSCALE:GREGORIAN
METHOD:PUBLISH
X-ORIGINAL-URL:https://georgiapickleballtournaments.com
X-WR-CALDESC:Events for Georgia Pickleball Tournaments
REFRESH-INTERVAL;VALUE=DURATION:PT1H
X-Robots-Tag:noindex
X-PUBLISHED-TTL:PT1H
BEGIN:VTIMEZONE
TZID:UTC
BEGIN:STANDARD
TZOFFSETFROM:+0000
TZOFFSETTO:+0000
TZNAME:UTC
DTSTART:20230101T000000
END:STANDARD
END:VTIMEZONE
BEGIN:VEVENT
DTSTART;VALUE=DATE:20240816
DTEND;VALUE=DATE:20240819
DTSTAMP:20260423T135346
CREATED:20240515T181749Z
LAST-MODIFIED:20240515T182528Z
UID:10000057-1723766400-1724025599@georgiapickleballtournaments.com
SUMMARY:Jammin for Joy 2024
DESCRIPTION:⏺️••”Jammin’ for Joy 2024″ \nPickleball tournament in Jasper\, GA \nOrganized by: The Joy House \nShare this:\n				Share on Facebook (Opens in new window)\n				Facebook\n			\n				Share on X (Opens in new window)\n				X\n			\n				Share on WhatsApp (Opens in new window)\n				WhatsApp\n			\n				Share on Pinterest (Opens in new window)\n				Pinterest\n			\n				Share on LinkedIn (Opens in new window)\n				LinkedIn
URL:https://georgiapickleballtournaments.com/event/jammin-for-joy-2024/
LOCATION:The Courts at Bent Tree\, 172 Villa Rd\, Jasper\, 30143\, United States
CATEGORIES:Georgia
ATTACH;FMTTYPE=image/jpeg:https://georgiapickleballtournaments.com/wp-content/uploads/2024/05/20240816a.jpg
END:VEVENT
BEGIN:VEVENT
DTSTART;VALUE=DATE:20240817
DTEND;VALUE=DATE:20240819
DTSTAMP:20260423T135346
CREATED:20240618T152908Z
LAST-MODIFIED:20240728T034854Z
UID:10000095-1723852800-1724025599@georgiapickleballtournaments.com
SUMMARY:Igniting Hope for the Homeless
DESCRIPTION:⏺️••”Igniting Hope for the Homeless”\nPickleball tournament in Macon\, GA\nOrganized by: Play Rhythm & Rally \nThe Igniting Hope for the Homeless Fundraiser Tournament\, in support of the Homelessness in Middle GA\, will be held from Saturday\, August 17 to Sunday\, August 18\, 2024\, at Rhythm and Rally Sports & Events in Macon\, GA. Rhythm and Rally is an air-conditioned 32-court indoor pickleball facility with acro tech professional grade courts \nShare this:\n				Share on Facebook (Opens in new window)\n				Facebook\n			\n				Share on X (Opens in new window)\n				X\n			\n				Share on WhatsApp (Opens in new window)\n				WhatsApp\n			\n				Share on Pinterest (Opens in new window)\n				Pinterest\n			\n				Share on LinkedIn (Opens in new window)\n				LinkedIn
URL:https://georgiapickleballtournaments.com/event/igniting-hope-for-the-homeless/
LOCATION:Rhythm and Rally Sports & Events\, 3661 Eisenhower Parkway\, Macon\, 31206\, United States
CATEGORIES:Georgia
ATTACH;FMTTYPE=image/jpeg:https://georgiapickleballtournaments.com/wp-content/uploads/2024/06/20240817a1.jpg
END:VEVENT
END:VCALENDAR