BEGIN:VCALENDAR
VERSION:2.0
PRODID:-//Georgia Pickleball Tournaments - ECPv6.15.20//NONSGML v1.0//EN
CALSCALE:GREGORIAN
METHOD:PUBLISH
X-ORIGINAL-URL:https://georgiapickleballtournaments.com
X-WR-CALDESC:Events for Georgia Pickleball Tournaments
REFRESH-INTERVAL;VALUE=DURATION:PT1H
X-Robots-Tag:noindex
X-PUBLISHED-TTL:PT1H
BEGIN:VTIMEZONE
TZID:UTC
BEGIN:STANDARD
TZOFFSETFROM:+0000
TZOFFSETTO:+0000
TZNAME:UTC
DTSTART:20230101T000000
END:STANDARD
END:VTIMEZONE
BEGIN:VEVENT
DTSTART;VALUE=DATE:20240805
DTEND;VALUE=DATE:20240806
DTSTAMP:20260423T135450
CREATED:20240728T065021Z
LAST-MODIFIED:20240728T091736Z
UID:10000107-1722816000-1722902399@georgiapickleballtournaments.com
SUMMARY:Chamber Games
DESCRIPTION:⏺️••”Chamber Games”\nPickleball tournament in Eatonton\, GA\nOrganized by: Eatonton-Putnam Chamber of Commerce \nFrom ORGANIZERS \n🏆Don’t miss out on the ultimate challenge! Gather your team of 4 and sign up for Chamber Games now. Compete in exciting games like pickleball\, dodgeball\, tug of war\, and cornhole \nShare this:\n				Share on Facebook (Opens in new window)\n				Facebook\n			\n				Share on X (Opens in new window)\n				X\n			\n				Share on WhatsApp (Opens in new window)\n				WhatsApp\n			\n				Share on Pinterest (Opens in new window)\n				Pinterest\n			\n				Share on LinkedIn (Opens in new window)\n				LinkedIn
URL:https://georgiapickleballtournaments.com/event/chamber-games/
LOCATION:Lake Oconee Presbyterian Church\, 113 Scott Rd\, Eatonton\, 31024\, United States
CATEGORIES:Georgia
ATTACH;FMTTYPE=image/jpeg:https://georgiapickleballtournaments.com/wp-content/uploads/2024/07/20240805a.jpg
END:VEVENT
END:VCALENDAR